BEGIN:VCALENDAR
VERSION:2.0
PRODID:-//Zorggroep Orion - ECPv6.15.17.1//NONSGML v1.0//EN
CALSCALE:GREGORIAN
METHOD:PUBLISH
X-ORIGINAL-URL:https://zorggroep-orion.be
X-WR-CALDESC:Evenementen voor Zorggroep Orion
REFRESH-INTERVAL;VALUE=DURATION:PT1H
X-Robots-Tag:noindex
X-PUBLISHED-TTL:PT1H
BEGIN:VTIMEZONE
TZID:Europe/Brussels
BEGIN:DAYLIGHT
TZOFFSETFROM:+0100
TZOFFSETTO:+0200
TZNAME:CEST
DTSTART:20250330T010000
END:DAYLIGHT
BEGIN:STANDARD
TZOFFSETFROM:+0200
TZOFFSETTO:+0100
TZNAME:CET
DTSTART:20251026T010000
END:STANDARD
BEGIN:DAYLIGHT
TZOFFSETFROM:+0100
TZOFFSETTO:+0200
TZNAME:CEST
DTSTART:20260329T010000
END:DAYLIGHT
BEGIN:STANDARD
TZOFFSETFROM:+0200
TZOFFSETTO:+0100
TZNAME:CET
DTSTART:20261025T010000
END:STANDARD
BEGIN:DAYLIGHT
TZOFFSETFROM:+0100
TZOFFSETTO:+0200
TZNAME:CEST
DTSTART:20270328T010000
END:DAYLIGHT
BEGIN:STANDARD
TZOFFSETFROM:+0200
TZOFFSETTO:+0100
TZNAME:CET
DTSTART:20271031T010000
END:STANDARD
END:VTIMEZONE
BEGIN:VEVENT
DTSTART;TZID=Europe/Brussels:20260427T080000
DTEND;TZID=Europe/Brussels:20260427T170000
DTSTAMP:20260424T171523
CREATED:20250827T101603Z
LAST-MODIFIED:20260204T140908Z
UID:10619652-1777276800-1777309200@zorggroep-orion.be
SUMMARY:PEDICURE @ DE WISSEL
DESCRIPTION:Pedicure en/of manicure in LDC De Wissel! Heidi\, zal jullie met de beste zorg soigneren. \nWanneer: Wekelijks op maandag in LDC De Wissel \nEnkel op afspraak: een afspraak kan je maken met Heidi Van Rooy (Pedicure) via het nummer: 0498 56 36 00. \nDuur behandeling: +/- 45 minuten per behandeling \nBetaling: ter plaatse te betalen (geen bankcontact of payconiq)
URL:https://zorggroep-orion.be/activiteit/pedicure-de-wissel/2026-04-27/
LOCATION:Dienstencentrum De Wissel\, Dokter Nand Peetersstraat 33\, Turnhout\, Antwerpen\, 2300\, Belgium
CATEGORIES:Dienstverlening
ATTACH;FMTTYPE=image/png:https://zorggroep-orion.be/wp-content/uploads/2024/05/PEDICURE-LDC-AVD-2024.png
END:VEVENT
BEGIN:VEVENT
DTSTART;TZID=Europe/Brussels:20260427T100000
DTEND;TZID=Europe/Brussels:20260427T120000
DTSTAMP:20260424T171523
CREATED:20241218T104600Z
LAST-MODIFIED:20241218T104600Z
UID:10615239-1777284000-1777291200@zorggroep-orion.be
SUMMARY:BIBLIOTHEEK @ Albert
DESCRIPTION:Wil jij je vrije tijd zinvol en rustig invullen door het lezen van een boekje? Iedere maandagvoormiddag is onze bibliotheek i.s.m. Bib Turnhout open vanaf 10 u en zullen de vrijwilligers van dienst jullie graag doorheen de literatuur loodsen. Er zit vast ook iets voor jou tussen! Wij zijn ook in het bezit van luisterboeken.  \nHartelijk Welkom.  
URL:https://zorggroep-orion.be/activiteit/bibliotheek-albert-2/2026-04-27/
LOCATION:Dienstencentrum Albert Van Dyck\, Albert Van Dyckstraat 10\, Turnhout\, Antwerpen\, 2300\, Belgium
CATEGORIES:Dienstverlening,Hersenpan
ATTACH;FMTTYPE=image/png:https://zorggroep-orion.be/wp-content/uploads/2024/12/BIB-LDC-AVD-JAN-2025-.png
END:VEVENT
BEGIN:VEVENT
DTSTART;TZID=Europe/Brussels:20260427T133000
DTEND;TZID=Europe/Brussels:20260427T160000
DTSTAMP:20260424T171523
CREATED:20241017T121530Z
LAST-MODIFIED:20260112T141123Z
UID:10622964-1777296600-1777305600@zorggroep-orion.be
SUMMARY:Digidak inloopmoment
DESCRIPTION:Heb je vragen i.v.m. je computer\, laptop\, tablet of GSM? Kom dan zeker eens langs tijdens het inloopmoment van Digidak in ons dienstencentrum. Een medewerker van Digidak helpt je verder met al je vragen.
URL:https://zorggroep-orion.be/activiteit/digidak-inloopmoment-antennepunt-7donk-2/2026-04-27/
LOCATION:Dienstencentrum De Schoor\, Schorvoortstraat 53\, Turnhout\, 2300
CATEGORIES:Dienstverlening
ATTACH;FMTTYPE=image/jpeg:https://zorggroep-orion.be/wp-content/uploads/2023/07/act-202310-Digidak-smartphone.jpg
END:VEVENT
BEGIN:VEVENT
DTSTART;TZID=Europe/Brussels:20260428T140000
DTEND;TZID=Europe/Brussels:20260428T170000
DTSTAMP:20260424T171523
CREATED:20251219T062017Z
LAST-MODIFIED:20251219T062019Z
UID:10614717-1777384800-1777395600@zorggroep-orion.be
SUMMARY:DIGIDAK @ Albert
DESCRIPTION:Wekelijks op dinsdagnamiddag is DIGIDAK (Digitaal dak) aanwezig in ons centrum. Dit is een plek waar je gratis en onder begeleiding gebruik kan maken van computers en internet. \nJe krijgt hier uitleg waar nodig\, je kan zo je kennis uitbreiden en je vertoeven in deze digitale wereld. \nNooit te oud om te leren. Steeds vrijblijvend toegang.
URL:https://zorggroep-orion.be/activiteit/computer-smartphone-albert-3/2026-04-28/
LOCATION:Dienstencentrum Albert Van Dyck\, Albert Van Dyckstraat 10\, Turnhout\, Antwerpen\, 2300\, Belgium
CATEGORIES:Dienstverlening
ATTACH;FMTTYPE=image/png:https://zorggroep-orion.be/wp-content/uploads/2024/12/DIGIDAK-LDC-AVD-JAN-2025-.png
END:VEVENT
BEGIN:VEVENT
DTSTART;TZID=Europe/Brussels:20260429T080000
DTEND;TZID=Europe/Brussels:20260429T080000
DTSTAMP:20260424T171523
CREATED:20260204T141748Z
LAST-MODIFIED:20260209T104346Z
UID:10626145-1777449600-1777449600@zorggroep-orion.be
SUMMARY:ONTBIJT AAN HUIS @ Albert
DESCRIPTION:Vanuit dienstencentrum Albert Van Dyck leveren wij met zorg een lekker ontbijtje aan huis\, aan een democratische prijs. \nBestellen voor de 15e – levering wordt gebracht tussen 8 en 9u. \nTe betalen aan de bezorger – Frank\,  € 6 pp. – incl. 2 Sandwiches\, beleg\, yoghurt en fruitsapje. \n(de afbeelding wijkt af van het geleverde ontbijt)
URL:https://zorggroep-orion.be/activiteit/ontbijt-aan-huis-albert-23/
LOCATION:Dienstencentrum Albert Van Dyck\, Albert Van Dyckstraat 10\, Turnhout\, Antwerpen\, 2300\, Belgium
CATEGORIES:Dienstverlening
ATTACH;FMTTYPE=image/png:https://zorggroep-orion.be/wp-content/uploads/2024/07/ONTBIJT-LDC-AVD-2024.png
END:VEVENT
BEGIN:VEVENT
DTSTART;TZID=Europe/Brussels:20260429T081500
DTEND;TZID=Europe/Brussels:20260429T081500
DTSTAMP:20260424T171523
CREATED:20251219T064035Z
LAST-MODIFIED:20251219T064035Z
UID:10621870-1777450500-1777450500@zorggroep-orion.be
SUMMARY:PEDICURE/MANICURE @ Albert
DESCRIPTION:PEDICURE en/of MANICURE in ons centrum.  Heidi\, zal jullie met de beste zorg soigneren. \n NIEUW LOKATIE BINNEN ONZE ZORGGROEP ORION \nHET SALON – WZC DE WENDING !!! \nUiteraard enkel op afspraak\, te maken in ons centrum bij het onthaal of tel. 014 28 40 70 of rechtstreeks bij Heidi 0498 56 36 00 \nTer plaatse CASH te betalen (+/- 45 min. per behandeling).  \n 
URL:https://zorggroep-orion.be/activiteit/pedicure-manicure-albert/2026-04-29/
LOCATION:Dienstencentrum Albert Van Dyck\, Albert Van Dyckstraat 10\, Turnhout\, Antwerpen\, 2300\, Belgium
CATEGORIES:Dienstverlening
ATTACH;FMTTYPE=image/png:https://zorggroep-orion.be/wp-content/uploads/2024/05/PEDICURE-LDC-AVD-2024.png
END:VEVENT
BEGIN:VEVENT
DTSTART;TZID=Europe/Brussels:20260429T090000
DTEND;TZID=Europe/Brussels:20260429T120000
DTSTAMP:20260424T171523
CREATED:20250418T113854Z
LAST-MODIFIED:20260205T123255Z
UID:10623123-1777453200-1777464000@zorggroep-orion.be
SUMMARY:Peuterspeelpunt
DESCRIPTION:Een ontmoetingsruimte waar mama’s\, papa’s\, grootouders en begeleiders met jonge kinderen tot 3 jaar samen komen spelen en sporten. De kindjes kunnen in een speelpunt wennen aan andere kinderen\, een andere omgeving en andere volwassenen. Zo wordt de stap naar de kleuterschool kleiner. Ouders krijgen de kans om andere ouders te ontmoeten. Met vragen kan je terecht bij de begeleiders. \nDe kindjes krijgen een lekker stukje fruit en een glaasje water. Ouders\, grootouders en begeleiders krijgen koffie of thee. \nTijdens vakanties zijn wij wat flexibeler met de leeftijdgrens.\nBroertjes en zusjes (kleuters tot 6 jaar) van onze bezoekers mogen dan mee naar het Peuterspeelpunt komen. \nGratis
URL:https://zorggroep-orion.be/activiteit/peuterspeelpunt-8/2026-04-29/
LOCATION:Dienstencentrum De Schoor\, Schorvoortstraat 53\, Turnhout\, 2300
CATEGORIES:Dienstverlening
ATTACH;FMTTYPE=image/jpeg:https://zorggroep-orion.be/wp-content/uploads/2023/07/act202307-Peuterspeelpunt.jpg
END:VEVENT
BEGIN:VEVENT
DTSTART;TZID=Europe/Brussels:20260429T100000
DTEND;TZID=Europe/Brussels:20260429T113000
DTSTAMP:20260424T171523
CREATED:20250219T103910Z
LAST-MODIFIED:20250828T073449Z
UID:10619547-1777456800-1777462200@zorggroep-orion.be
SUMMARY:ONTMOET JE BUUR @ DE WISSEL
DESCRIPTION:Onder het motto ‘Ontmoet je buren’ komen we elke woensdagvoormiddag samen in het café van LDC De Wissel. \nHeb jij ook nood aan een babbel\, ontmoeting\, sociaal contact\, …? Dan ben je meer dan welkom! \nOnze deur staat open voor jou! Kom gerust eens langs en voor zij die willen staat er een tasje koffie of thee klaar voor €1\,00. \nWanneer? Elke woensdag! Dit telkens vanaf 10u00
URL:https://zorggroep-orion.be/activiteit/ontmoet-je-buurde-wissel-2-2/2026-04-29/
LOCATION:Dienstencentrum De Wissel\, Dokter Nand Peetersstraat 33\, Turnhout\, Antwerpen\, 2300\, Belgium
CATEGORIES:Dienstverlening
ATTACH;FMTTYPE=image/png:https://zorggroep-orion.be/wp-content/uploads/2023/03/Ontmoet-je-buur-2023.png
END:VEVENT
BEGIN:VEVENT
DTSTART;TZID=Europe/Brussels:20260529T133000
DTEND;TZID=Europe/Brussels:20260529T163000
DTSTAMP:20260424T171523
CREATED:20251016T083732Z
LAST-MODIFIED:20251219T065726Z
UID:10622637-1780061400-1780072200@zorggroep-orion.be
SUMMARY:INLOOPHUIS DEMENTIE TURNHOUT @ De Wissel
DESCRIPTION:Het inloophuis is een informatiepunt en een ontmoetingsplaats voor mensen met (jong)dementie en hun familie\, mensen die hen ondersteunen en/of verzorgen. Er zijn steeds zorgprofessionals en vrijwilligers aanwezig. Zij luisteren naar ieders verhaal.\n\n\n\nNood aan een luisterend oor? Informatie nodig? Hopeloos verdwaald in het zorgaanbod? Of wil je gewoon even praten met lotgenoten? Kom dan zeker langs! Vanaf 13.30 uur staan onze deuren wagenwijd open voor iedereen!\n\n\n\nHet inloophuis is elke laatste vrijdag van de maand geopend van 13.30 tot 16.30 uur.\nLocatie: LDC DE WISSEL – Dr. Nandpeetersstraat 33 – 2300 TURNHOUT\n\n\n\nDit is een gezamenlijk initiatief van Alzheimer Liga Vlaanderen\, Zorggroep Orion\, AZ Turnhout\, Expertisecentrum Dementie Tandem en Stad Turnhout.
URL:https://zorggroep-orion.be/activiteit/inloophuis-dementie-turnhout-de-wissel-9/2026-05-29/
LOCATION:Dienstencentrum Albert Van Dyck\, Albert Van Dyckstraat 10\, Turnhout\, Antwerpen\, 2300\, Belgium
CATEGORIES:Dienstverlening
ATTACH;FMTTYPE=image/png:https://zorggroep-orion.be/wp-content/uploads/2024/01/logo-inloophuis-dementie.png
END:VEVENT
BEGIN:VEVENT
DTSTART;TZID=Europe/Brussels:20260529T133000
DTEND;TZID=Europe/Brussels:20260529T163000
DTSTAMP:20260424T171523
CREATED:20260108T131759Z
LAST-MODIFIED:20260422T112635Z
UID:10622733-1780061400-1780072200@zorggroep-orion.be
SUMMARY:INLOOPHUIS DEMENTIE Turnhout @ De Wissel
DESCRIPTION:Het inloophuis is een informatiepunt en een ontmoetingsplaats voor mensen met (jong)dementie en hun familie\, mensen die hen ondersteunen en/of verzorgen. Er zijn steeds zorgprofessionals en vrijwilligers aanwezig. Zij luisteren naar ieders verhaal.\n\n\n\nNood aan een luisterend oor? Informatie nodig? Hopeloos verdwaald in het zorgaanbod? Of wil je gewoon even praten met lotgenoten? Kom dan zeker langs! Vanaf 13.30 uur staan onze deuren wagenwijd open voor iedereen!\n\n\n\nHet inloophuis is elke laatste vrijdag van de maand geopend van 13.30 tot 16.30 uur.\nLocatie: LDC DE WISSEL – Dr. Nandpeetersstraat 33 – 2300 TURNHOUT\n\n\n\nDit is een gezamenlijk initiatief van Alzheimer Liga Vlaanderen\, Zorggroep Orion\, AZ Turnhout\, Expertisecentrum Dementie Tandem en Stad Turnhout.
URL:https://zorggroep-orion.be/activiteit/inloophuis-dementie-turnhout-de-wissel/
LOCATION:Dienstencentrum Albert Van Dyck\, Albert Van Dyckstraat 10\, Turnhout\, Antwerpen\, 2300\, Belgium
CATEGORIES:Dienstverlening
ATTACH;FMTTYPE=image/png:https://zorggroep-orion.be/wp-content/uploads/2024/01/logo-inloophuis-dementie.png
END:VEVENT
END:VCALENDAR