BEGIN:VCALENDAR
VERSION:2.0
PRODID:-//Zorggroep Orion - ECPv6.15.17.1//NONSGML v1.0//EN
CALSCALE:GREGORIAN
METHOD:PUBLISH
X-WR-CALNAME:Zorggroep Orion
X-ORIGINAL-URL:https://zorggroep-orion.be
X-WR-CALDESC:Evenementen voor Zorggroep Orion
REFRESH-INTERVAL;VALUE=DURATION:PT1H
X-Robots-Tag:noindex
X-PUBLISHED-TTL:PT1H
BEGIN:VTIMEZONE
TZID:Europe/Brussels
BEGIN:DAYLIGHT
TZOFFSETFROM:+0100
TZOFFSETTO:+0200
TZNAME:CEST
DTSTART:20230326T010000
END:DAYLIGHT
BEGIN:STANDARD
TZOFFSETFROM:+0200
TZOFFSETTO:+0100
TZNAME:CET
DTSTART:20231029T010000
END:STANDARD
BEGIN:DAYLIGHT
TZOFFSETFROM:+0100
TZOFFSETTO:+0200
TZNAME:CEST
DTSTART:20240331T010000
END:DAYLIGHT
BEGIN:STANDARD
TZOFFSETFROM:+0200
TZOFFSETTO:+0100
TZNAME:CET
DTSTART:20241027T010000
END:STANDARD
BEGIN:DAYLIGHT
TZOFFSETFROM:+0100
TZOFFSETTO:+0200
TZNAME:CEST
DTSTART:20250330T010000
END:DAYLIGHT
BEGIN:STANDARD
TZOFFSETFROM:+0200
TZOFFSETTO:+0100
TZNAME:CET
DTSTART:20251026T010000
END:STANDARD
BEGIN:DAYLIGHT
TZOFFSETFROM:+0100
TZOFFSETTO:+0200
TZNAME:CEST
DTSTART:20260329T010000
END:DAYLIGHT
BEGIN:STANDARD
TZOFFSETFROM:+0200
TZOFFSETTO:+0100
TZNAME:CET
DTSTART:20261025T010000
END:STANDARD
END:VTIMEZONE
BEGIN:VEVENT
DTSTART;TZID=Europe/Brussels:20250128T133000
DTEND;TZID=Europe/Brussels:20250128T170000
DTSTAMP:20260425T152156
CREATED:20241224T085902Z
LAST-MODIFIED:20241224T085902Z
UID:10615435-1738071000-1738083600@zorggroep-orion.be
SUMMARY:APPELSTRUDEL DELUXE @ DE WISSEL
DESCRIPTION:Elke dinsdagnamiddag kan je komen genieten van een een heerlijke appelstrudel met ijs en slagroom. Hier wil je toch ook van komen smullen? \nIedereen is welkom\, inschrijven is niet nodig! \nHieronder de data: \n\n07/01\n21/01\n28/01
URL:https://zorggroep-orion.be/activiteit/appelstrudel-deluxe-de-wissel/2025-01-28/
LOCATION:Dienstencentrum De Wissel\, Dokter Nand Peetersstraat 33\, Turnhout\, Antwerpen\, 2300\, Belgium
CATEGORIES:Eten & Drinken
ATTACH;FMTTYPE=image/jpeg:https://zorggroep-orion.be/wp-content/uploads/2024/12/Appelstrudel-deluxe-2025.jpg
END:VEVENT
BEGIN:VEVENT
DTSTART;TZID=Europe/Brussels:20250121T140000
DTEND;TZID=Europe/Brussels:20250121T150000
DTSTAMP:20260425T152156
CREATED:20250114T125905Z
LAST-MODIFIED:20250114T125905Z
UID:10615451-1737468000-1737471600@zorggroep-orion.be
SUMMARY:PANNENKOEKEN @ Albert
DESCRIPTION:De leerlingen van Vibo Den Brem voorzien jullie weer van lekkere\, verse pannenkoeken. Maandelijks in ons centrum\, smul jij lekker mee? \nInschrijven is niet nodig. € 2 aan kassa\, voor 2 pannenkoeken met suiker of siroop. \nSpring gerust binnen en schuif gezellig aan!
URL:https://zorggroep-orion.be/activiteit/pannenkoeken-albert-11/
LOCATION:Dienstencentrum Albert Van Dyck\, Albert Van Dyckstraat 10\, Turnhout\, Antwerpen\, 2300\, Belgium
CATEGORIES:Eten & Drinken
ATTACH;FMTTYPE=image/png:https://zorggroep-orion.be/wp-content/uploads/2023/03/202301-pannenkoeken.png
END:VEVENT
BEGIN:VEVENT
DTSTART;TZID=Europe/Brussels:20250113T170000
DTEND;TZID=Europe/Brussels:20250113T183000
DTSTAMP:20260425T152156
CREATED:20231122T144039Z
LAST-MODIFIED:20241219T123338Z
UID:10607578-1736787600-1736793000@zorggroep-orion.be
SUMMARY:Verloren maandag @ De Schoor
DESCRIPTION:Verloren maandag is een traditie! Wij houden deze in ere en smullen graag mee. Maak bij inschrijving je keuze max. 2 stuks: worstenbrood en/of appelbol. Inclusief een tasje thee of koffie. \nInschrijven kan vanaf maandag 30 december tot en met maandag 6 januari of tot het volzet is.
URL:https://zorggroep-orion.be/activiteit/verloren-maandag-de-schoor/
LOCATION:Dienstencentrum De Schoor\, Schorvoortstraat 53\, Turnhout\, 2300
CATEGORIES:Eten & Drinken
ATTACH;FMTTYPE=image/jpeg:https://zorggroep-orion.be/wp-content/uploads/2023/11/act202401-verloren-maandag.jpg
END:VEVENT
BEGIN:VEVENT
DTSTART;TZID=Europe/Brussels:20250113T140000
DTEND;TZID=Europe/Brussels:20250113T170000
DTSTAMP:20260425T152156
CREATED:20241224T092050Z
LAST-MODIFIED:20241224T092050Z
UID:10615436-1736776800-1736787600@zorggroep-orion.be
SUMMARY:VERLOREN MAANDAG @ DE WISSEL
DESCRIPTION:Verloren Maandag is een traditie die we met plezier in ere houden – en natuurlijk smullen we graag mee! \nMaak uw keuze bij inschrijving: \n\n2 worstenbroden\n2 appelbollen\n1 worstenbrood en 1 appelbol\n\nWij serveren deze lekkernijen inclusief koffie/thee. \nPraktisch: \n\nInschrijven kan vanaf maandag 30 december 2024 tot en met maandag 6 januari (of tot de activiteit volzet is)\nSchrijf je in via De Wissel: 014 28 40 71 of dewissel@zorggroep-orion.be\n€10\,00 voor 2 stuks
URL:https://zorggroep-orion.be/activiteit/verloren-maandag-de-wissel/
LOCATION:Dienstencentrum De Wissel\, Dokter Nand Peetersstraat 33\, Turnhout\, Antwerpen\, 2300\, Belgium
CATEGORIES:Eten & Drinken
ATTACH;FMTTYPE=image/jpeg:https://zorggroep-orion.be/wp-content/uploads/2024/12/Verloren-maandag-.jpg
END:VEVENT
BEGIN:VEVENT
DTSTART;TZID=Europe/Brussels:20241230T133000
DTEND;TZID=Europe/Brussels:20241230T170000
DTSTAMP:20260425T152156
CREATED:20241120T124705Z
LAST-MODIFIED:20241121T173018Z
UID:10611634-1735565400-1735578000@zorggroep-orion.be
SUMMARY:Laatste toogdienst Roger en Eveline
DESCRIPTION:Onze vrijwilligers Roger en Eveline gaan op vrijwilligers-pensioen.\nOp maandag 30/12 draaien zij hun laatste toogdienst. Kom jij ook nog eens langs?
URL:https://zorggroep-orion.be/activiteit/laatste-toogdienst-roger-en-evelien/
LOCATION:Dienstencentrum De Schoor\, Schorvoortstraat 53\, Turnhout\, 2300
CATEGORIES:Eten & Drinken
ATTACH;FMTTYPE=image/jpeg:https://zorggroep-orion.be/wp-content/uploads/2024/11/20230510_naamloos_401-5-scaled.jpg
END:VEVENT
BEGIN:VEVENT
DTSTART;TZID=Europe/Brussels:20241227T170000
DTEND;TZID=Europe/Brussels:20241227T190000
DTSTAMP:20260425T152156
CREATED:20231122T143509Z
LAST-MODIFIED:20241202T121538Z
UID:10607577-1735318800-1735326000@zorggroep-orion.be
SUMMARY:Feestmenu @ De Schoor
DESCRIPTION:December is de feestmaand bij uitstek! Wij ontvangen jou graag voor een heerlijk feestmenu. \nOp het menu: stoofpotje van kalkoen (spek\, champignons\, zilverui\, rode wijn)\, peertjes en duchesse aardappelen en een kerstgebakje om af te sluiten. \nKom je mee smullen? Inschrijven kan vanaf maandag 2 december tot en met donderdag 19 december.
URL:https://zorggroep-orion.be/activiteit/feestmenu-de-schoor/
LOCATION:Dienstencentrum De Schoor\, Schorvoortstraat 53\, Turnhout\, 2300
CATEGORIES:Eten & Drinken
ATTACH;FMTTYPE=image/jpeg:https://zorggroep-orion.be/wp-content/uploads/2023/11/Act-202312-feestmenu.jpg
END:VEVENT
BEGIN:VEVENT
DTSTART;TZID=Europe/Brussels:20241214T090000
DTEND;TZID=Europe/Brussels:20241214T110000
DTSTAMP:20260425T152156
CREATED:20241120T104708Z
LAST-MODIFIED:20241120T104708Z
UID:10611630-1734166800-1734174000@zorggroep-orion.be
SUMMARY:Ontbijt in Antennepunt 7donk
DESCRIPTION:Kom jij tijdens onze kerstmarkt mee genieten van een lekker ontbijtje in ons antennepunt? Glaasje cava of fruitsap\, koffie/thee\, pistoletjes\, sandwiches\, brood\, koffiekoeken\, hartig en zoet beleg\, spek met eieren\, … Iedereen welkom!\nInschrijven kan bij de medewerkers of via 014 28 40 72 of via deschoor@zorggroep-orion.be. Inschrijven kan tot en met 12/12 of tot de plaatsen volzet zijn.
URL:https://zorggroep-orion.be/activiteit/ontbijt-in-antennepunt-7donk/
LOCATION:Dienstencentrum De Schoor\, Schorvoortstraat 53\, Turnhout\, 2300
CATEGORIES:Eten & Drinken
ATTACH;FMTTYPE=image/jpeg:https://zorggroep-orion.be/wp-content/uploads/2024/02/act202403-ontbijt.jpg
END:VEVENT
BEGIN:VEVENT
DTSTART;TZID=Europe/Brussels:20241109T170000
DTEND;TZID=Europe/Brussels:20241109T220000
DTSTAMP:20260425T152156
CREATED:20241014T113403Z
LAST-MODIFIED:20241014T113403Z
UID:10611336-1731171600-1731189600@zorggroep-orion.be
SUMMARY:Smultocht georganiseerd door de buurtwerkingen
DESCRIPTION:Op zaterdag 9 november organiseren de buurtwerkingen van Schorvoort opnieuw de jaarlijkse smultocht. Tussen 17u en 19u kan je vertrekken in De Schoor voor een wandeling van 5 à 6 km. Onderweg wordt er een volledige maaltijd aangeboden alsook enkele drankjes. De tocht eindigt in de kantine van voetbalclub White Star. \nInschrijfformulieren kan je verkrijgen in De Schoor\, inschrijven kan tot 2 november.\n-prijs kinderen t.e.m. 12j: €13\n-prijs volwassenen en kinderen vanaf 13j: €17
URL:https://zorggroep-orion.be/activiteit/smultocht-georganiseerd-door-de-buurtwerkingen/
LOCATION:Dienstencentrum De Schoor\, Schorvoortstraat 53\, Turnhout\, 2300
CATEGORIES:Eten & Drinken
ATTACH;FMTTYPE=image/jpeg:https://zorggroep-orion.be/wp-content/uploads/2022/05/Kopie-van-FB-welkom-in-De-Schoor.jpg
END:VEVENT
BEGIN:VEVENT
DTSTART;TZID=Europe/Brussels:20241024T170000
DTEND;TZID=Europe/Brussels:20241024T200000
DTSTAMP:20260425T152156
CREATED:20240919T094817Z
LAST-MODIFIED:20240919T094817Z
UID:10611303-1729789200-1729800000@zorggroep-orion.be
SUMMARY:MOSSELSOUPER LDC DE WISSEL
DESCRIPTION:We verwelkomen je graag in het restaurant van LDC Albert Van Dyck voor onze jaarlijkse mosselsouper. Ook dit jaar serveren we weer heerlijke mosselen met frietjes. Mis het niet! \nPraktisch: \n\nDeze activiteit gaat door in het restaurant van LDC Albert Van Dyck\nWe serveren de mosselen om 17u00\nInschrijven kan vanaf dinsdag 1 oktober 2024\nSchrijf je in via De Wissel: 014 28 40 71 of dewissel@zorggroep-orion.be
URL:https://zorggroep-orion.be/activiteit/mosselsouper-ldc-de-wissel/
LOCATION:Dienstencentrum Albert Van Dyck\, Albert Van Dyckstraat 10\, Turnhout\, Antwerpen\, 2300\, Belgium
CATEGORIES:Eten & Drinken
ATTACH;FMTTYPE=image/jpeg:https://zorggroep-orion.be/wp-content/uploads/2023/08/mosselenfrietklein.jpg
END:VEVENT
BEGIN:VEVENT
DTSTART;TZID=Europe/Brussels:20240925T120000
DTEND;TZID=Europe/Brussels:20240925T133000
DTSTAMP:20260425T152156
CREATED:20240819T133803Z
LAST-MODIFIED:20240819T133803Z
UID:10610700-1727265600-1727271000@zorggroep-orion.be
SUMMARY:VIDEE @ DE MEERLOOP
DESCRIPTION:We verwelkomen je graag in De Meerloop voor een gezellige smulactiviteit. We serveren heerlijke videe\, vers bereid en geserveerd met knapperig Frans stokbrood. \nDeze activiteit is de perfecte gelegenheid om samen te komen\, te genieten van lekker eten en een fijne tijd door te brengen met vrienden en buurtgenoten. Mis het niet! \nPraktisch: \n\nInschrijven kan vanaf maandag 9 september 2024\nSchrijf je in via De Wissel: 014 28 40 71 of dewissel@zorggroep-orion.be\nPrijs: €7\,50
URL:https://zorggroep-orion.be/activiteit/videe-de-meerloop/
LOCATION:Antwerpen
CATEGORIES:Eten & Drinken
ATTACH;FMTTYPE=application/pdf:https://zorggroep-orion.be/wp-content/uploads/2024/08/act202409-videe-Antennepunt-De-Meerloop.pdf
END:VEVENT
BEGIN:VEVENT
DTSTART;TZID=Europe/Brussels:20240919T143000
DTEND;TZID=Europe/Brussels:20240919T170000
DTSTAMP:20260425T152156
CREATED:20240821T082355Z
LAST-MODIFIED:20240821T082355Z
UID:10610705-1726756200-1726765200@zorggroep-orion.be
SUMMARY:Uitstap naar het Ijssloeberke
DESCRIPTION:Zin in een lekker ijsje om de zomer af te sluiten? \nOp donderdag 19 september rijden onze vrijwilligers met onze busjes naar het Ijssloeberke in Tielen.\nDe busjes vertrekken vanuit De Schoor en komen terug aan in De Schoor.\nWie mee wil kan op voorhand een plaatsje reserveren. €1 (ijs ter plaatse betalen).
URL:https://zorggroep-orion.be/activiteit/uitstap-naar-het-ijssloeberke/
LOCATION:Dienstencentrum De Schoor\, Schorvoortstraat 53\, Turnhout\, 2300
CATEGORIES:Eten & Drinken
ATTACH;FMTTYPE=image/png:https://zorggroep-orion.be/wp-content/uploads/2024/04/Ijssloeberke.png
END:VEVENT
BEGIN:VEVENT
DTSTART;TZID=Europe/Brussels:20240909T140000
DTEND;TZID=Europe/Brussels:20240909T140000
DTSTAMP:20260425T152156
CREATED:20240812T122117Z
LAST-MODIFIED:20240828T112324Z
UID:10610042-1725890400-1725890400@zorggroep-orion.be
SUMMARY:PAËLLA MET EEN VLEUGJE MUZIEK @ Albert
DESCRIPTION:Ja hoor\, u leest het goed – Paëlla met muziek bij Albert Van Dyck! \nVoor de lekkerbekken serveren wij vandaag een bordje Paëlla met een vleugje muziek door Ed Keustermans met zijn akoestische gitaar en mondharmonica zorgt hij voor een sfeervolle namiddag. Kom jij toch ook mee genieten?  \nGelieve vooraf in te schrijven\, vanaf 2 sept. 2024  à € 10 pp. \nHartelijk Welkom.
URL:https://zorggroep-orion.be/activiteit/paella-met-een-vleugje-muziek-albert/
LOCATION:Dienstencentrum Albert Van Dyck\, Albert Van Dyckstraat 10\, Turnhout\, Antwerpen\, 2300\, Belgium
CATEGORIES:Eten & Drinken
ATTACH;FMTTYPE=image/png:https://zorggroep-orion.be/wp-content/uploads/2024/08/Kopie-van-WANDELING-JEF-P.-LDC-AVD-WINKELSBROEK-2024.png
END:VEVENT
BEGIN:VEVENT
DTSTART;TZID=Europe/Brussels:20240902T090000
DTEND;TZID=Europe/Brussels:20240902T103000
DTSTAMP:20260425T152156
CREATED:20240821T081208Z
LAST-MODIFIED:20240821T081224Z
UID:10610704-1725267600-1725273000@zorggroep-orion.be
SUMMARY:Ontbijt ontmoet je buur
DESCRIPTION:Elke maandagvoormiddag kan je samenkomen in De Schoor voor een gezellige babbel en een tas koffie/thee. \nVanaf september organiseren we elke eerste maandag van de maand een klein ontbijtje om deze ochtend nòg gezelliger te maken. \nIedereen welkom! Gelieve vooraf in te schrijven. €4: brood\, boter\, eitje\, kaas\, hesp\, confituur\, choco\, siroop\, fruitsap\, koffie/thee.
URL:https://zorggroep-orion.be/activiteit/ontbijtje-ontmoet-je-buur/
LOCATION:Dienstencentrum De Schoor\, Schorvoortstraat 53\, Turnhout\, 2300
CATEGORIES:Eten & Drinken
ATTACH;FMTTYPE=image/jpeg:https://zorggroep-orion.be/wp-content/uploads/2024/08/ontbijt-ontmoet-je-buur.jpg
END:VEVENT
BEGIN:VEVENT
DTSTART;TZID=Europe/Brussels:20240822T151500
DTEND;TZID=Europe/Brussels:20240822T151500
DTSTAMP:20260425T152156
CREATED:20240717T100848Z
LAST-MODIFIED:20240717T120135Z
UID:10609767-1724339700-1724339700@zorggroep-orion.be
SUMMARY:IJSKAR JORIS @ Albert
DESCRIPTION:Deze zomer op het plein – IJSKAR JORIS. Heerlijk roomijs met verse hoevemelk. \n22 AUG – 19 SEPT \nTelkens vanaf 15.15 u kunnen jullie aanschuiven in de rij\, laat het smaken. \nOns cafetaria is open van 9 – 17 u.
URL:https://zorggroep-orion.be/activiteit/ijkar-joris-albert-2/
LOCATION:Dienstencentrum Albert Van Dyck\, Albert Van Dyckstraat 10\, Turnhout\, Antwerpen\, 2300\, Belgium
CATEGORIES:Eten & Drinken
ATTACH;FMTTYPE=image/png:https://zorggroep-orion.be/wp-content/uploads/2024/06/IJSKAR-JORIS-LDC-AVD-JULI-2024-1.png
END:VEVENT
BEGIN:VEVENT
DTSTART;TZID=Europe/Brussels:20240818T123000
DTEND;TZID=Europe/Brussels:20240818T140000
DTSTAMP:20260425T152156
CREATED:20240627T110936Z
LAST-MODIFIED:20240627T110936Z
UID:10609755-1723984200-1723989600@zorggroep-orion.be
SUMMARY:BBQ @ De Schoor
DESCRIPTION:Het is weer tijd voor onze jaarlijkse BBQ.\nOp het menu: BBQ-worst\, ribbekes en kipfilet met alle toebehoren. \nInschrijven kan vanaf maandag 15 juli tot en met 9 augustus of tot\nde plaatsen volzet zijn.\n014 28 40 72 of deschoor@zorggroep-orion.be\n€22/pers.
URL:https://zorggroep-orion.be/activiteit/bbq-de-schoor/
LOCATION:Dienstencentrum De Schoor\, Schorvoortstraat 53\, Turnhout\, 2300
CATEGORIES:Eten & Drinken
ATTACH;FMTTYPE=image/jpeg:https://zorggroep-orion.be/wp-content/uploads/2024/05/act202406-BBQ@De-Wissel.jpg
END:VEVENT
BEGIN:VEVENT
DTSTART;TZID=Europe/Brussels:20240731T133000
DTEND;TZID=Europe/Brussels:20240731T170000
DTSTAMP:20260425T152156
CREATED:20240613T093424Z
LAST-MODIFIED:20240620T081341Z
UID:10609700-1722432600-1722445200@zorggroep-orion.be
SUMMARY:Bordje koud gemengd gedurende de hele maand
DESCRIPTION:Gedurende de hele maand juli kan je tijdens je cafébezoek genieten van een bordje koud gemengd (kaasjes\, salami\, uitjes etc.).
URL:https://zorggroep-orion.be/activiteit/bordje-koud-gemengd-gedurende-de-hele-maand/2024-07-31/
LOCATION:Dienstencentrum De Schoor\, Schorvoortstraat 53\, Turnhout\, 2300
CATEGORIES:Eten & Drinken
ATTACH;FMTTYPE=image/jpeg:https://zorggroep-orion.be/wp-content/uploads/2024/06/bordje-gemengd.jpg
END:VEVENT
BEGIN:VEVENT
DTSTART;TZID=Europe/Brussels:20240721T093000
DTEND;TZID=Europe/Brussels:20240721T130000
DTSTAMP:20260425T152156
CREATED:20240613T091644Z
LAST-MODIFIED:20240613T091644Z
UID:10609597-1721554200-1721566800@zorggroep-orion.be
SUMMARY:SPEK MET EI@DE WISSEL
DESCRIPTION:We vieren onze Nationale Feestdag met een heerlijk klassiek ontbijt op zondagochtend. Spek met ei\, versgebakken pistolets\, broodassortiment\, vers beleg\, een glaasje fruitsap\, koffie\, thee en yoghurt zijn in de prijs inbegrepen. \nPraktisch: \n\nInschrijven kan vanaf maandag 1 juli 2024\nSchrijf je in via De Wissel: 014 28 40 71 of dewissel@zorggroep-orion.be
URL:https://zorggroep-orion.be/activiteit/spek-met-eide-wissel/
LOCATION:Dienstencentrum De Wissel\, Dokter Nand Peetersstraat 33\, Turnhout\, Antwerpen\, 2300\, Belgium
CATEGORIES:Eten & Drinken
ATTACH;FMTTYPE=image/jpeg:https://zorggroep-orion.be/wp-content/uploads/2024/06/act202407-spek-met-ei.jpg
END:VEVENT
BEGIN:VEVENT
DTSTART;TZID=Europe/Brussels:20240718T151500
DTEND;TZID=Europe/Brussels:20240718T151500
DTSTAMP:20260425T152156
CREATED:20240605T091511Z
LAST-MODIFIED:20240717T122005Z
UID:10609497-1721315700-1721315700@zorggroep-orion.be
SUMMARY:IJSKAR JORIS @ Albert
DESCRIPTION:Deze zomer op het plein – IJSKAR JORIS. Heerlijk roomijs met verse hoevemelk. \n20 JUNI – 18 JULI – 22 AUG – 19 SEPT \nTelkens vanaf 15.15 u kunnen jullie aanschuiven in de rij\, laat het smaken. \nOns cafetaria is open van 9 – 17 u.
URL:https://zorggroep-orion.be/activiteit/ijkar-joris-albert/
LOCATION:Dienstencentrum Albert Van Dyck\, Albert Van Dyckstraat 10\, Turnhout\, Antwerpen\, 2300\, Belgium
CATEGORIES:Eten & Drinken
ATTACH;FMTTYPE=image/png:https://zorggroep-orion.be/wp-content/uploads/2024/06/IJSKAR-JORIS-LDC-AVD-JULI-2024-1.png
END:VEVENT
BEGIN:VEVENT
DTSTART;TZID=Europe/Brussels:20240625T140000
DTEND;TZID=Europe/Brussels:20240625T150000
DTSTAMP:20260425T152156
CREATED:20240513T112757Z
LAST-MODIFIED:20240513T112757Z
UID:10608748-1719324000-1719327600@zorggroep-orion.be
SUMMARY:PANNENKOEKEN @ Albert
DESCRIPTION:Als afsluiter van het schooljaar\, genieten we nog van een heerlijke pannenkoekenbak in ons centrum.  \nInschrijven is niet nodig. € 2 aan kassa\, voor 2 pannenkoeken met suiker of siroop. \nSpring gerust binnen en schuif gezellig aan!
URL:https://zorggroep-orion.be/activiteit/pannenkoeken-albert-6/
LOCATION:Dienstencentrum Albert Van Dyck\, Albert Van Dyckstraat 10\, Turnhout\, Antwerpen\, 2300\, Belgium
CATEGORIES:Eten & Drinken
ATTACH;FMTTYPE=image/png:https://zorggroep-orion.be/wp-content/uploads/2023/03/202301-pannenkoeken.png
END:VEVENT
BEGIN:VEVENT
DTSTART;TZID=Europe/Brussels:20240624T163000
DTEND;TZID=Europe/Brussels:20240624T163000
DTSTAMP:20260425T152156
CREATED:20240515T133742Z
LAST-MODIFIED:20240523T080435Z
UID:10608823-1719246600-1719246600@zorggroep-orion.be
SUMMARY:SMULACTIVITEIT HARINGBAK @ Albert
DESCRIPTION:Ja hoor\, ze zijn er weer – de haringen (1\,5 pp.) swingen de pan uit! \nDeze worden geserveerd met uiensaus en broodjes (3 stuks pp.)! \nGelieve vooraf in te schrijven\, vanaf dond. 3 juni 2024. \nGezellig genieten in goed gezelschap – en géén geur in de keuken\, wat wil je nog meer? Hartelijk Welkom.
URL:https://zorggroep-orion.be/activiteit/smulactiviteit-haringbak-albert/
LOCATION:Dienstencentrum Albert Van Dyck\, Albert Van Dyckstraat 10\, Turnhout\, Antwerpen\, 2300\, Belgium
CATEGORIES:Eten & Drinken
ATTACH;FMTTYPE=image/png:https://zorggroep-orion.be/wp-content/uploads/2023/03/act-haringbak.png
END:VEVENT
BEGIN:VEVENT
DTSTART;TZID=Europe/Brussels:20240621T090000
DTEND;TZID=Europe/Brussels:20240621T103000
DTSTAMP:20260425T152156
CREATED:20240528T091005Z
LAST-MODIFIED:20240528T091005Z
UID:10608898-1718960400-1718965800@zorggroep-orion.be
SUMMARY:Dag van de Mantelzorger - ontbijt
DESCRIPTION:Heb jij een hart van goud en sta je altijd klaar als mantelzorger? Of word jij juist omringd door de liefdevolle zorg van een mantelzorger en wil je die bijzondere persoon eens extra in de bloemetjes zetten? Goed nieuws! Stad Turnhout en Zorggroep Orion nodigen alle mantelzorgers uit voor een heerlijk ontbijt ter ere van Dag van de Mantelzorger! \nOp vrijdag 21 juni verwelkomen we alle mantelzorgers voor een gezellig gratis ontbijt in LDC De Schoor. \nLukt voor jou ontbijten op locatie niet? Geen nood\, wij zorgen voor een leuke verrassing aan huis voor de mantelzorgers die niet ter plaatse geraken. \nInschrijven vóór 7 juni via Tel. 014 28 43 37 \nOf mail mantelzorg@zorggroep-orion.be (naam\, adres\, aantal pers.\, met de melding op locatie of thuis) \nLocatie: De Schoor – Schorvoortstraat 53 te Turnhout. \n 
URL:https://zorggroep-orion.be/activiteit/dag-van-de-mantelzorger-ontbijt/
LOCATION:Dienstencentrum De Schoor\, Schorvoortstraat 53\, Turnhout\, 2300
CATEGORIES:Eten & Drinken
ATTACH;FMTTYPE=image/png:https://zorggroep-orion.be/wp-content/uploads/2024/05/Dag-van-de-mantelzorger-06-2024.png
END:VEVENT
BEGIN:VEVENT
DTSTART;TZID=Europe/Brussels:20240621T090000
DTEND;TZID=Europe/Brussels:20240621T103000
DTSTAMP:20260425T152156
CREATED:20240515T132719Z
LAST-MODIFIED:20240516T121111Z
UID:10608825-1718960400-1718965800@zorggroep-orion.be
SUMMARY:DAG VAN DE MANTELZORGER @ STAD & ORION
DESCRIPTION:Heb jij een hart van goud en sta je altijd klaar als mantelzorger? Of wordt jij zelf omringd door liefdevolle zorg en wil je die persoon eens extra in de bloementjes zetten?  \nHier het ideaal moment om te genieten van een heerlijk gratis ontbijt\, aangeboden door Stad Turnhout en Zorggroep Orion. Kom je niet graag alleen\, breng gerust een compagnon mee! Hoe meer zielen hoe meer vreugde. \nGeraak je niet ter plaatse\, laat het ons weten en een attentie wordt bij jouw thuis bezorgd. \nInschrijven voor 7 juni via Tel. 014 28 43 90 \nOf mail mantelzorg@zorggroep-orion.be (naam\, adres\, aantal pers.\, met de melding op locatie of thuis) \nLocatie: De Schoor – Schorvoortstraat 53 te Turnhout. \n 
URL:https://zorggroep-orion.be/activiteit/dag-van-de-mantelzorger-stad-orion/
LOCATION:Dienstencentrum Albert Van Dyck\, Albert Van Dyckstraat 10\, Turnhout\, Antwerpen\, 2300\, Belgium
CATEGORIES:Eten & Drinken
ATTACH;FMTTYPE=image/png:https://zorggroep-orion.be/wp-content/uploads/2024/05/Dag-van-de-mantelzorger-06-2024.png
END:VEVENT
BEGIN:VEVENT
DTSTART;TZID=Europe/Brussels:20240618T170000
DTEND;TZID=Europe/Brussels:20240618T190000
DTSTAMP:20260425T152156
CREATED:20240516T141441Z
LAST-MODIFIED:20240516T141441Z
UID:10608895-1718730000-1718737200@zorggroep-orion.be
SUMMARY:Paella @ De Schoor
DESCRIPTION:Kom mee genieten van een gezellige zomerse avond. We serveren een lekkere paella en glaasje sangria (of een mocktail). \nInschrijven kan vanaf maandag 27 mei tot en met 11 juni of tot de plaatsen volzet zijn.
URL:https://zorggroep-orion.be/activiteit/paella-de-schoor/
LOCATION:Dienstencentrum De Schoor\, Schorvoortstraat 53\, Turnhout\, 2300
CATEGORIES:Eten & Drinken
ATTACH;FMTTYPE=image/png:https://zorggroep-orion.be/wp-content/uploads/2023/05/SMUL.-PAeLLA-LDC-AVD-2023.png
END:VEVENT
BEGIN:VEVENT
DTSTART;TZID=Europe/Brussels:20240605T140000
DTEND;TZID=Europe/Brussels:20240605T160000
DTSTAMP:20260425T152156
CREATED:20240422T102750Z
LAST-MODIFIED:20240516T143554Z
UID:10608772-1717596000-1717603200@zorggroep-orion.be
SUMMARY:Brusselse wafel in Antennepunt 7Donk
DESCRIPTION:Kom jij ook mee genieten van een lekkere Brusselse wafel\, gebakken door onze vrijwilliger Guy? Iedereen welkom op woensdag 5 juni!
URL:https://zorggroep-orion.be/activiteit/brusselse-wafel-in-de-schoor/
LOCATION:Dienstencentrum De Schoor\, Schorvoortstraat 53\, Turnhout\, 2300
CATEGORIES:Eten & Drinken
ATTACH;FMTTYPE=image/png:https://zorggroep-orion.be/wp-content/uploads/2024/04/act202405-Brusselse-wafels.png
END:VEVENT
BEGIN:VEVENT
DTSTART;TZID=Europe/Brussels:20240531T150000
DTEND;TZID=Europe/Brussels:20240531T160000
DTSTAMP:20260425T152156
CREATED:20240422T101429Z
LAST-MODIFIED:20240422T101429Z
UID:10608770-1717167600-1717171200@zorggroep-orion.be
SUMMARY:Dag van de Buren: ijskraam
DESCRIPTION:Op vrijdag 31 mei is het Dag van de Buren. Wij zien onze buren en bezoekers dan ook graag samenkomen.\nDie dag zal de ijskar van het Ijssloeberke naar De Schoor komen tussen 15u en 16u. Iedereen welkom!\nIjs te betalen aan de ijskar.
URL:https://zorggroep-orion.be/activiteit/dag-van-de-buren-ijskraam/
LOCATION:Dienstencentrum De Schoor\, Schorvoortstraat 53\, Turnhout\, 2300
CATEGORIES:Eten & Drinken
ATTACH;FMTTYPE=image/png:https://zorggroep-orion.be/wp-content/uploads/2024/04/Ijssloeberke.png
END:VEVENT
BEGIN:VEVENT
DTSTART;TZID=Europe/Brussels:20240527T163000
DTEND;TZID=Europe/Brussels:20240527T163000
DTSTAMP:20260425T152156
CREATED:20240422T114539Z
LAST-MODIFIED:20240422T115134Z
UID:10608773-1716827400-1716827400@zorggroep-orion.be
SUMMARY:SMULACTIVITEIT GEITENKAAS @ Albert
DESCRIPTION:Ja hoor\, u leest het goed – Geitenkaas bij Albert Van Dyck! (alternatief ook mogelijk) \nOp het menu: Slaatje met spinazie\, sinaasappel frisse dressing en Geitenkaasje in bladerdeeg. \nAlternatief: Geitenkaas kan vervangen worden door kruidige kippenreepjes. \nDit alles met Brood en boter! \nGelieve vooraf in te schrijven\, vanaf dond. 2 mei 2024 vanaf 9 u en smullen maar\, uiteraard in goed gezelschap!   \nHartelijk Welkom.
URL:https://zorggroep-orion.be/activiteit/smulactiviteit-geitenkaas-albert/
LOCATION:Dienstencentrum Albert Van Dyck\, Albert Van Dyckstraat 10\, Turnhout\, Antwerpen\, 2300\, Belgium
CATEGORIES:Eten & Drinken
ATTACH;FMTTYPE=image/png:https://zorggroep-orion.be/wp-content/uploads/2024/04/smul.-05-2024.png
END:VEVENT
BEGIN:VEVENT
DTSTART;TZID=Europe/Brussels:20240516T100000
DTEND;TZID=Europe/Brussels:20240516T120000
DTSTAMP:20260425T152156
CREATED:20240418T085400Z
LAST-MODIFIED:20240423T080256Z
UID:10608755-1715853600-1715860800@zorggroep-orion.be
SUMMARY:THEEKRANSJE @ Albert
DESCRIPTION:Hou jij ook van Marokkaanse thee? Deze voormiddag hebben we een gezellig samenzijn met Mouna en Hanane.           2 Marokkaanse vrouwen die jullie verwennen met thee en uiteraard aangepaste koekjes. En niet onbelangrijk: volledig gratis. Hartelijk welkom in ons centrum dit onder het motto: #verbindenenontmoeten #gezelligsamenzijn #vragenstaatvrij \n 
URL:https://zorggroep-orion.be/activiteit/theekransje-albert/
LOCATION:Dienstencentrum Albert Van Dyck\, Albert Van Dyckstraat 10\, Turnhout\, Antwerpen\, 2300\, Belgium
CATEGORIES:Eten & Drinken
ATTACH;FMTTYPE=image/png:https://zorggroep-orion.be/wp-content/uploads/2024/04/theekransje-LDC-AVD.png
END:VEVENT
BEGIN:VEVENT
DTSTART;TZID=Europe/Brussels:20240514T120000
DTEND;TZID=Europe/Brussels:20240514T133000
DTSTAMP:20260425T152156
CREATED:20240422T075017Z
LAST-MODIFIED:20240422T075017Z
UID:10608766-1715688000-1715693400@zorggroep-orion.be
SUMMARY:Aspergemenu @ De Schoor
DESCRIPTION:Het is de tijd van de asperges! Kom genieten van een lekkere aspergemenu in ons dienstencentrum.\nWe starten met een aspergesoepje\, gevolgd door asperges op Vlaamse wijze met kruidenpuree en we sluiten af met een ijsje.\nHet eten wordt geserveerd om 12u. \nInschrijven verplicht\, dit kan vanaf woensdag 24/4 tot en met maandag 6/5 via deschoor@zorggroep-orion.be of 014 28 40 72.
URL:https://zorggroep-orion.be/activiteit/aspergemenu-de-schoor/
LOCATION:Dienstencentrum De Schoor\, Schorvoortstraat 53\, Turnhout\, 2300
CATEGORIES:Eten & Drinken
ATTACH;FMTTYPE=image/png:https://zorggroep-orion.be/wp-content/uploads/2022/03/2005act-ASPERGES.png
END:VEVENT
BEGIN:VEVENT
DTSTART;TZID=Europe/Brussels:20240429T163000
DTEND;TZID=Europe/Brussels:20240429T163000
DTSTAMP:20260425T152156
CREATED:20240320T072533Z
LAST-MODIFIED:20240320T072547Z
UID:10608617-1714408200-1714408200@zorggroep-orion.be
SUMMARY:SMULACTIVITEIT @ Albert
DESCRIPTION:Ja hoor\, u leest het goed – Aspergetijd bij Albert Van Dyck! \nDeze maand een heerlijke pastaschotel: \n\nTagliatelle met GROENE ASPERGES\nKruidenroomsausje\nGedroogde ham en Parmezaanse kaas\n\nGelieve vooraf in te schrijven\, vanaf 2 april 2024 vanaf 9 u en smullen maar\, uiteraard in goed gezelschap!   \nHartelijk Welkom.
URL:https://zorggroep-orion.be/activiteit/smulactiviteit-albert-2/
LOCATION:Dienstencentrum Albert Van Dyck\, Albert Van Dyckstraat 10\, Turnhout\, Antwerpen\, 2300\, Belgium
CATEGORIES:Eten & Drinken
ATTACH;FMTTYPE=image/png:https://zorggroep-orion.be/wp-content/uploads/2024/03/Kopie-van-act202404-paaslunch.png
END:VEVENT
BEGIN:VEVENT
DTSTART;TZID=Europe/Brussels:20240411T133000
DTEND;TZID=Europe/Brussels:20240411T170000
DTSTAMP:20260425T152156
CREATED:20240321T151307Z
LAST-MODIFIED:20240321T151307Z
UID:10608729-1712842200-1712854800@zorggroep-orion.be
SUMMARY:Proefmoment Trixy Tripel alcoholvrij
DESCRIPTION:Kom op donderdag 11 april (tijdens DJ Staf) proeven van een nieuw alcoholvrij biertje.\nEr is een standje aanwezig waar je proefglaasjes kan bestellen voor €1.5/glas.
URL:https://zorggroep-orion.be/activiteit/proefmoment-trixy-tripel-alcoholvrij/
LOCATION:Dienstencentrum De Schoor\, Schorvoortstraat 53\, Turnhout\, 2300
CATEGORIES:Eten & Drinken
ATTACH;FMTTYPE=image/jpeg:https://zorggroep-orion.be/wp-content/uploads/2024/03/trixy-tripel.jpg
END:VEVENT
END:VCALENDAR