BEGIN:VCALENDAR
VERSION:2.0
PRODID:-//Zorggroep Orion - ECPv6.15.17.1//NONSGML v1.0//EN
CALSCALE:GREGORIAN
METHOD:PUBLISH
X-WR-CALNAME:Zorggroep Orion
X-ORIGINAL-URL:https://zorggroep-orion.be
X-WR-CALDESC:Evenementen voor Zorggroep Orion
REFRESH-INTERVAL;VALUE=DURATION:PT1H
X-Robots-Tag:noindex
X-PUBLISHED-TTL:PT1H
BEGIN:VTIMEZONE
TZID:Europe/Brussels
BEGIN:DAYLIGHT
TZOFFSETFROM:+0100
TZOFFSETTO:+0200
TZNAME:CEST
DTSTART:20220327T010000
END:DAYLIGHT
BEGIN:STANDARD
TZOFFSETFROM:+0200
TZOFFSETTO:+0100
TZNAME:CET
DTSTART:20221030T010000
END:STANDARD
BEGIN:DAYLIGHT
TZOFFSETFROM:+0100
TZOFFSETTO:+0200
TZNAME:CEST
DTSTART:20230326T010000
END:DAYLIGHT
BEGIN:STANDARD
TZOFFSETFROM:+0200
TZOFFSETTO:+0100
TZNAME:CET
DTSTART:20231029T010000
END:STANDARD
BEGIN:DAYLIGHT
TZOFFSETFROM:+0100
TZOFFSETTO:+0200
TZNAME:CEST
DTSTART:20240331T010000
END:DAYLIGHT
BEGIN:STANDARD
TZOFFSETFROM:+0200
TZOFFSETTO:+0100
TZNAME:CET
DTSTART:20241027T010000
END:STANDARD
BEGIN:DAYLIGHT
TZOFFSETFROM:+0100
TZOFFSETTO:+0200
TZNAME:CEST
DTSTART:20250330T010000
END:DAYLIGHT
BEGIN:STANDARD
TZOFFSETFROM:+0200
TZOFFSETTO:+0100
TZNAME:CET
DTSTART:20251026T010000
END:STANDARD
END:VTIMEZONE
BEGIN:VEVENT
DTSTART;TZID=Europe/Brussels:20240627T180000
DTEND;TZID=Europe/Brussels:20240627T210000
DTSTAMP:20260425T152254
CREATED:20240513T084002Z
LAST-MODIFIED:20240513T084002Z
UID:10608819-1719511200-1719522000@zorggroep-orion.be
SUMMARY:BBQ@De Wissel
DESCRIPTION:Het is weer tijd voor onze jaarlijkse BBQ. \nSchuif mee aan en geniet van een gezellige avond! \nPraktisch: \n\nInschrijven kan vanaf maandag 3 juni 2024\nSchrijf je in via De Wissel: 014 28 40 71 of dewissel@zorggroep-orion.be
URL:https://zorggroep-orion.be/activiteit/bbqde-wissel/
LOCATION:Dienstencentrum De Wissel\, Dokter Nand Peetersstraat 33\, Turnhout\, Antwerpen\, 2300\, Belgium
CATEGORIES:Feest
ATTACH;FMTTYPE=image/jpeg:https://zorggroep-orion.be/wp-content/uploads/2024/05/act202406-BBQ@De-Wissel.jpg
END:VEVENT
BEGIN:VEVENT
DTSTART;TZID=Europe/Brussels:20240606T140000
DTEND;TZID=Europe/Brussels:20240606T170000
DTSTAMP:20260425T152254
CREATED:20240516T112544Z
LAST-MODIFIED:20240516T121217Z
UID:10608886-1717682400-1717693200@zorggroep-orion.be
SUMMARY:DANSEN EN SJANSEN MET CISCO @ Albert
DESCRIPTION:Live gezongen en gespeeld op zijn keyboard zorgt Francis voor sfeer\, dans- en ambiance met een gezonde mix van oldies\, schlagers\, evergreens\, enz. … Dit beloofd een gezellige dansnamiddag te worden met Francis\, beter gekend onder zijn  artiestennaam CISCO. Hartelijk welkom in ons centrum. Inkom aan de deur.
URL:https://zorggroep-orion.be/activiteit/dansen-en-sjansen-met-cisco-albert/
LOCATION:Dienstencentrum Albert Van Dyck\, Albert Van Dyckstraat 10\, Turnhout\, Antwerpen\, 2300\, Belgium
CATEGORIES:Feest
ATTACH;FMTTYPE=image/png:https://zorggroep-orion.be/wp-content/uploads/2024/05/CISCO-06-2024-1.png
END:VEVENT
BEGIN:VEVENT
DTSTART;TZID=Europe/Brussels:20240531T180000
DTEND;TZID=Europe/Brussels:20240531T220000
DTSTAMP:20260425T152254
CREATED:20240419T100140Z
LAST-MODIFIED:20240419T100140Z
UID:10608762-1717178400-1717192800@zorggroep-orion.be
SUMMARY:DAG VAN DE BUREN: KAAS- EN WIJNAVOND@DE WISSEL
DESCRIPTION:31 mei 2024 is het Dag Van De Buren. Graag willen we op deze dag kennis maken met onze buren. Daarom organiseren we in samenwerking met de buurtbewoners van Niefhout een kaas- en wijnavond. \nPraktisch \n\nWe vragen aan ieder om zelf een hapje en wijntje mee te brengen\nAndere dranken zijn verkrijgbaar in De Wissel aan democratische prijzen\nWie niet gek is van kaas\, mag gerust andere lekkernijen meebrengen!\nWaar? café van LDC De Wissel (Pioniersgebouw)
URL:https://zorggroep-orion.be/activiteit/dag-van-de-buren-kaas-en-wijnavondde-wissel/
LOCATION:Dienstencentrum De Wissel\, Dokter Nand Peetersstraat 33\, Turnhout\, Antwerpen\, 2300\, Belgium
CATEGORIES:Feest
ATTACH;FMTTYPE=image/jpeg:https://zorggroep-orion.be/wp-content/uploads/2024/04/act202405-Dag-van-de-buren.jpg
END:VEVENT
BEGIN:VEVENT
DTSTART;TZID=Europe/Brussels:20240523T120000
DTEND;TZID=Europe/Brussels:20240523T133000
DTSTAMP:20260425T152254
CREATED:20240419T095246Z
LAST-MODIFIED:20240424T063309Z
UID:10608761-1716465600-1716471000@zorggroep-orion.be
SUMMARY:HARINGBAK@DE MEERLOOP
DESCRIPTION:Het is weer tijd voor onze jaarlijkse haringbak. Op het menu staat lekkere bakharing met ajuinsaus en brood. Kom jij ook mee genieten? \nDeze activiteit zal doorgaan in De Meerloop! \nPraktisch: \n\nInschrijven kan vanaf 1 mei 2024\nSchrijf je in via De Wissel: 014 28 40 71 of dewissel@zorggroep-orion.be
URL:https://zorggroep-orion.be/activiteit/haringbakde-meerloop/
LOCATION:Antwerpen
CATEGORIES:Feest
ATTACH;FMTTYPE=image/jpeg:https://zorggroep-orion.be/wp-content/uploads/2024/04/act202405-haringbak.jpg
END:VEVENT
BEGIN:VEVENT
DTSTART;TZID=Europe/Brussels:20240108T163000
DTEND;TZID=Europe/Brussels:20240108T163000
DTSTAMP:20260425T152254
CREATED:20231122T084738Z
LAST-MODIFIED:20231122T085116Z
UID:10607575-1704731400-1704731400@zorggroep-orion.be
SUMMARY:VERLOREN MAANDAG @ Albert
DESCRIPTION:De maandag na drie koningen laten wij niet onopgemerkt voorbij gaan. Wij serveren Worstenbrood en/of appelbollen in ons restaurant\, uiteraard na inschrijving kan ook jij mee genieten van deze lekkernij.  Wij doen ’t hier gewoon en jouw oven blijft lekker schoon! Aanschuiven zou ik zeggen\, maak uw keuze bij inschrijving\, max. 2 stuks per persoon. Inschrijven bezig vanaf  18 dec. 2023 ! \nOnline inschrijven kan je HIER
URL:https://zorggroep-orion.be/activiteit/verloren-maandag-albert-2/
LOCATION:Dienstencentrum Albert Van Dyck\, Albert Van Dyckstraat 10\, Turnhout\, Antwerpen\, 2300\, Belgium
CATEGORIES:Feest
ATTACH;FMTTYPE=image/png:https://zorggroep-orion.be/wp-content/uploads/2023/11/Kopie-van-act202401-verloren-maandag.png
END:VEVENT
BEGIN:VEVENT
DTSTART;TZID=Europe/Brussels:20240108T120000
DTEND;TZID=Europe/Brussels:20240108T133000
DTSTAMP:20260425T152254
CREATED:20231121T155254Z
LAST-MODIFIED:20231121T155504Z
UID:10607573-1704715200-1704720600@zorggroep-orion.be
SUMMARY:Verloren Maandag@De Wissel
DESCRIPTION:Verloren maandag is een Belgische traditie. Ook wij houden deze traditie in ere in ons centrum en smullen gretig mee. \nMaak uw keuze bij inschrijving tussen maximum 2 stuks: worst- en/of appelbrood. \nPrijs: €8\,00 \nInschrijven kan vanaf maandag 18 december 2023. \nSchrijf je in via 014  28 40 71 of dewissel@zorggroep-orion.be \nOok online inschrijven is mogelijk: inschrijven \n 
URL:https://zorggroep-orion.be/activiteit/verloren-maandagde-wissel/
LOCATION:Dienstencentrum De Wissel\, Dokter Nand Peetersstraat 33\, Turnhout\, Antwerpen\, 2300\, Belgium
CATEGORIES:Feest
ATTACH;FMTTYPE=image/jpeg:https://zorggroep-orion.be/wp-content/uploads/2023/11/act202401-verloren-maandag.jpg
END:VEVENT
BEGIN:VEVENT
DTSTART;TZID=Europe/Brussels:20240103T080000
DTEND;TZID=Europe/Brussels:20240103T170000
DTSTAMP:20260425T152254
CREATED:20231213T145608Z
LAST-MODIFIED:20231220T132413Z
UID:10607906-1704268800-1704301200@zorggroep-orion.be
SUMMARY:NIEUWJAARS - verwen KOFFIE @ Albert
DESCRIPTION:Heb jij al de kans gehad het Nieuwe Jaar goed in te zetten? Niet getreurd\, kom er gezellig bij en geniet van ne lekkere verwen koffie à democratische prijs in ons cafetaria. Onze vrijwilligers ontvangen jullie met open armen en samen omarmen we het Nieuwe Jaar! Hartelijk welkom.
URL:https://zorggroep-orion.be/activiteit/nieuwjaars-verwen-koffie-albert/
LOCATION:Dienstencentrum Albert Van Dyck\, Albert Van Dyckstraat 10\, Turnhout\, Antwerpen\, 2300\, Belgium
CATEGORIES:Feest
ATTACH;FMTTYPE=image/png:https://zorggroep-orion.be/wp-content/uploads/2023/12/LDC-AVD-VERWEN-KOFFIE-JAN-2024.png
END:VEVENT
BEGIN:VEVENT
DTSTART;TZID=Europe/Brussels:20231227T163000
DTEND;TZID=Europe/Brussels:20231227T200000
DTSTAMP:20260425T152254
CREATED:20231121T090110Z
LAST-MODIFIED:20231123T144010Z
UID:10607569-1703694600-1703707200@zorggroep-orion.be
SUMMARY:FEESTMAALTIJD @ Albert
DESCRIPTION:De Kerst- en Nieuwjaarsperiode\, toch de ideale manier om samen te vieren met familie en vrienden. We genieten van een heerlijk menuutje à democratische prijs. INSCHRIJVEN TOT 20 DEC. (zolang er nog plaatsen zijn!) \nAperitief Glaasje cava of Fruitsap \nVoorgerecht Agnes sorelsoep \nHoofdgerecht Kalkoenrollade met appel en veenbessen\, boontjes met spek – Champagnesaus\, dennenaardappels \nDessert Appelstrudel met ijs en vanille saus  +koffie \nONLINE INSCHRIJVEN KAN JE HIER
URL:https://zorggroep-orion.be/activiteit/feestmaaltijd-albert/
LOCATION:Dienstencentrum Albert Van Dyck\, Albert Van Dyckstraat 10\, Turnhout\, Antwerpen\, 2300\, Belgium
CATEGORIES:Feest
ATTACH;FMTTYPE=image/png:https://zorggroep-orion.be/wp-content/uploads/2023/11/FEESTMAALTIJD-LDC-AVD-12-2023.png
END:VEVENT
BEGIN:VEVENT
DTSTART;TZID=Europe/Brussels:20231216T140000
DTEND;TZID=Europe/Brussels:20231216T170000
DTSTAMP:20260425T152254
CREATED:20231121T091755Z
LAST-MODIFIED:20231122T090833Z
UID:10607570-1702735200-1702746000@zorggroep-orion.be
SUMMARY:KERSTMARKT @ Albert
DESCRIPTION:HOHOHO Kerst in onze Stad\, dus ook in dienstencentrum Albert Van Dyck. Een namiddag vol amusement. Vertrekkend vanuit ons centrum of omgekeerd kunnen jullie doorlopen tot in WZC De Wending. Kraampjes met allerhande snufjes van advocaat\, worstenbroodjes\, handwerkjes tot zelfs uitgestippelde fietsroutes voor 2024 …. dit alles aangeboden door onze vrijwilligers van dienst. Uiteraard met een vleugje muziek in ’t cafetaria van LDC Albert Van Dyck door Marcel op zijn keyboard en een niet te ontbreken gast: DE KERSTMAN met zijn vrouw MRS. CLAUS\, passeren onze revue. Hartelijk Welkom!
URL:https://zorggroep-orion.be/activiteit/kerstmarkt-albert/
LOCATION:Dienstencentrum Albert Van Dyck\, Albert Van Dyckstraat 10\, Turnhout\, Antwerpen\, 2300\, Belgium
CATEGORIES:Feest
ATTACH;FMTTYPE=image/png:https://zorggroep-orion.be/wp-content/uploads/2023/11/LDC-AVD-kerstmarkt-12-2023.png
END:VEVENT
BEGIN:VEVENT
DTSTART;TZID=Europe/Brussels:20231216T133000
DTEND;TZID=Europe/Brussels:20231216T190000
DTSTAMP:20260425T152254
CREATED:20231120T145355Z
LAST-MODIFIED:20231120T145355Z
UID:10607566-1702733400-1702753200@zorggroep-orion.be
SUMMARY:Kerstmarkt @ De Schoor
DESCRIPTION:Kom jij ook naar ons gezellig kerstmarktje? Er zal vanalles te zien zijn. Onze groepen crea\, kalligrafie\, handwerken\, … stellen hun werkjes tentoon. Om 14u30 zal onze lijndansgroep een demonstratie geven.
URL:https://zorggroep-orion.be/activiteit/kerstmarkt-de-schoor/
LOCATION:Dienstencentrum De Schoor\, Schorvoortstraat 53\, Turnhout\, 2300
CATEGORIES:Feest
ATTACH;FMTTYPE=image/png:https://zorggroep-orion.be/wp-content/uploads/2023/11/act202312-kerstmarkt-de-schoor.png
END:VEVENT
BEGIN:VEVENT
DTSTART;TZID=Europe/Brussels:20231214T120000
DTEND;TZID=Europe/Brussels:20231214T133000
DTSTAMP:20260425T152255
CREATED:20231116T144459Z
LAST-MODIFIED:20231121T154752Z
UID:10607554-1702555200-1702560600@zorggroep-orion.be
SUMMARY:Feestmenu@De Wissel
DESCRIPTION:December is de feestmaand bij uitstek! We ontvangen jou graag voor een heerlijke feestmenu. \nOp het menu staat: \n\nAperitief\nAspergeroomsoep\nGevulde kalkoenfilet\, peertje in rode wijn\, witloofstronkje en aardappelgratin\nKerstgebakje\n\nKom jij ook mee genieten? \nInschrijven kan vanaf maandag 27 november 2023. \nSchrijf je in via 014  28 40 71 of dewissel@zorggroep-orion.be \nOok online inschrijven is mogelijk: inschrijven \n  \n 
URL:https://zorggroep-orion.be/activiteit/feestmenude-wissel/
LOCATION:Dienstencentrum De Wissel\, Dokter Nand Peetersstraat 33\, Turnhout\, Antwerpen\, 2300\, Belgium
CATEGORIES:Feest
ATTACH;FMTTYPE=image/jpeg:https://zorggroep-orion.be/wp-content/uploads/2023/11/Act-202312-feestmenu.jpg
END:VEVENT
END:VCALENDAR