BEGIN:VCALENDAR
VERSION:2.0
PRODID:-//Zorggroep Orion - ECPv6.15.17.1//NONSGML v1.0//EN
CALSCALE:GREGORIAN
METHOD:PUBLISH
X-WR-CALNAME:Zorggroep Orion
X-ORIGINAL-URL:https://zorggroep-orion.be
X-WR-CALDESC:Evenementen voor Zorggroep Orion
REFRESH-INTERVAL;VALUE=DURATION:PT1H
X-Robots-Tag:noindex
X-PUBLISHED-TTL:PT1H
BEGIN:VTIMEZONE
TZID:Europe/Brussels
BEGIN:DAYLIGHT
TZOFFSETFROM:+0100
TZOFFSETTO:+0200
TZNAME:CEST
DTSTART:20250330T010000
END:DAYLIGHT
BEGIN:STANDARD
TZOFFSETFROM:+0200
TZOFFSETTO:+0100
TZNAME:CET
DTSTART:20251026T010000
END:STANDARD
BEGIN:DAYLIGHT
TZOFFSETFROM:+0100
TZOFFSETTO:+0200
TZNAME:CEST
DTSTART:20260329T010000
END:DAYLIGHT
BEGIN:STANDARD
TZOFFSETFROM:+0200
TZOFFSETTO:+0100
TZNAME:CET
DTSTART:20261025T010000
END:STANDARD
BEGIN:DAYLIGHT
TZOFFSETFROM:+0100
TZOFFSETTO:+0200
TZNAME:CEST
DTSTART:20270328T010000
END:DAYLIGHT
BEGIN:STANDARD
TZOFFSETFROM:+0200
TZOFFSETTO:+0100
TZNAME:CET
DTSTART:20271031T010000
END:STANDARD
END:VTIMEZONE
BEGIN:VEVENT
DTSTART;VALUE=DATE:20260501
DTEND;VALUE=DATE:20260502
DTSTAMP:20260424T171526
CREATED:20250408T080113Z
LAST-MODIFIED:20260402T092746Z
UID:10616122-1777593600-1777679999@zorggroep-orion.be
SUMMARY:DAG VAN DE ARBEID @ Albert
DESCRIPTION:Op zon- en feestdagen staan ook wij paraat! \nSamen met een geweldige ploeg van vrijwilligers kunnen wij doorlopend openblijven en jullie voorzien van de nodige spijs en drank. \nKom gerust een keertje langs\, hier valt altijd iets te beleven. \nCAFETARIA OPEN VANAF 11.30 U – De koffie staat klaar! \nRESTAURANT VAN 12 -13.30 U – Smakelijk eten! \nKantoren gesloten!
URL:https://zorggroep-orion.be/activiteit/dag-van-de-arbeid-albert/
LOCATION:Dienstencentrum Albert Van Dyck\, Albert Van Dyckstraat 10\, Turnhout\, Antwerpen\, 2300\, Belgium
CATEGORIES:Goed om weten
ATTACH;FMTTYPE=image/png:https://zorggroep-orion.be/wp-content/uploads/2025/04/wij-zijn-open-3.png
END:VEVENT
BEGIN:VEVENT
DTSTART;TZID=Europe/Brussels:20260501T133000
DTEND;TZID=Europe/Brussels:20260501T170000
DTSTAMP:20260424T171526
CREATED:20260403T131611Z
LAST-MODIFIED:20260403T131611Z
UID:10627056-1777642200-1777654800@zorggroep-orion.be
SUMMARY:Dag van de arbeid
DESCRIPTION:Op Dag van de arbeid is ons onthaal gesloten. \nOns café is wel gewoon open van 13u30 tot 17u. \nKom gerust langs voor een gezellig drankje!
URL:https://zorggroep-orion.be/activiteit/dag-van-de-arbeid/
LOCATION:Dienstencentrum De Schoor\, Schorvoortstraat 53\, Turnhout\, 2300
CATEGORIES:Goed om weten
ATTACH;FMTTYPE=image/png:https://zorggroep-orion.be/wp-content/uploads/2025/04/wij-zijn-open-2.png
END:VEVENT
BEGIN:VEVENT
DTSTART;TZID=Europe/Brussels:20260504T090000
DTEND;TZID=Europe/Brussels:20260504T120000
DTSTAMP:20260424T171526
CREATED:20260415T101331Z
LAST-MODIFIED:20260415T101331Z
UID:10627071-1777885200-1777896000@zorggroep-orion.be
SUMMARY:INSCHRIJVEN @ Albert
DESCRIPTION:Vanaf Maandag 4 MEI 2026 kan je inschrijven voor ons ruim aanbod aan activiteiten in ons centrum.  \nDagelijks valt er ook hier wat te beleven voor jong en oud. Voel je vrij om een kijkje te komen nemen: in ons centrum of op onze site. Er zit vast iets leuks tussen om je dag zinvol in te vullen. Ook al is het gewoon maar om de sfeer op te snuiven in leuk gezelschap. \nAlvast hartelijk welkom.  \nKijk je mee: https://zorggroep-orion.be/dienstencentrum/lokaal-dienstencentrum-albert-van-dyck/ \n 
URL:https://zorggroep-orion.be/activiteit/inschrijven-albert-5/
LOCATION:Dienstencentrum Albert Van Dyck\, Albert Van Dyckstraat 10\, Turnhout\, Antwerpen\, 2300\, Belgium
CATEGORIES:Goed om weten
ATTACH;FMTTYPE=image/png:https://zorggroep-orion.be/wp-content/uploads/2026/04/INSCHRIJVINGEN-MEI-LDC-AVD-2026.png
END:VEVENT
BEGIN:VEVENT
DTSTART;TZID=Europe/Brussels:20260504T100000
DTEND;TZID=Europe/Brussels:20260504T120000
DTSTAMP:20260424T171526
CREATED:20250123T102733Z
LAST-MODIFIED:20260402T094916Z
UID:10615587-1777888800-1777896000@zorggroep-orion.be
SUMMARY:BIBLIOTHEEK  @ Albert
DESCRIPTION:Wist je dat wij hier iedere maandag onze Bib openstellen met een ruime collectie aan eigen literatuur? \nHou jij ook van lezen\, kom gezellig langs en kies jouw favoriete boek uit onze rekken. \nZie je het niet meer zo goed omv. zichtbaarheid? \nHiervoor hebben wij een oplossing: GROTE LETTERBOEKEN of zelfs LUISTERBOEKEN. \nDus voor ieder wat wils: Vrijwilligers van dienst heten jullie van harte welkom!
URL:https://zorggroep-orion.be/activiteit/bibliotheek-albert-3/
LOCATION:Dienstencentrum Albert Van Dyck\, Albert Van Dyckstraat 10\, Turnhout\, Antwerpen\, 2300\, Belgium
CATEGORIES:Goed om weten
ATTACH;FMTTYPE=image/png:https://zorggroep-orion.be/wp-content/uploads/2025/01/BIB-LDC-AVD-FEB-2025.png
END:VEVENT
BEGIN:VEVENT
DTSTART;VALUE=DATE:20260514
DTEND;VALUE=DATE:20260515
DTSTAMP:20260424T171526
CREATED:20250410T131035Z
LAST-MODIFIED:20260415T124210Z
UID:10616940-1778716800-1778803199@zorggroep-orion.be
SUMMARY:HEMELVAARTSDAG @ Albert
DESCRIPTION:Op zon- en feestdagen staan ook wij paraat! \nSamen met een geweldige ploeg van vrijwilligers kunnen wij doorlopend openblijven en jullie voorzien van de nodige spijs en drank. \nKom gerust een keertje langs\, hier valt altijd iets te beleven. \nCAFETARIA OPEN VANAF 11.30 U – De koffie staat klaar! \nRESTAURANT VAN 12 -13 U – Smakelijk eten! \nKantoren gesloten!
URL:https://zorggroep-orion.be/activiteit/hemelvaartsdag-albert/
LOCATION:Dienstencentrum Albert Van Dyck\, Albert Van Dyckstraat 10\, Turnhout\, Antwerpen\, 2300\, Belgium
CATEGORIES:Goed om weten
ATTACH;FMTTYPE=image/png:https://zorggroep-orion.be/wp-content/uploads/2025/04/HEMELVAARTDAG-WIJ-ZIJN-OPEN-LDC-AVD-2025.png
END:VEVENT
BEGIN:VEVENT
DTSTART;TZID=Europe/Brussels:20260514T133000
DTEND;TZID=Europe/Brussels:20260514T170000
DTSTAMP:20260424T171527
CREATED:20260407T115156Z
LAST-MODIFIED:20260407T115156Z
UID:10627062-1778765400-1778778000@zorggroep-orion.be
SUMMARY:Hemelvaart
DESCRIPTION:Op Hemelvaart is ons onthaal gesloten. Er is vandaag ook geen restaurant. \nMaar niet getreurd: ons café is wél gewoon open van 13u30 tot 17u. \nKom gerust langs voor een gezellig drankje!
URL:https://zorggroep-orion.be/activiteit/hemelvaart/
LOCATION:Dienstencentrum De Schoor\, Schorvoortstraat 53\, Turnhout\, 2300
CATEGORIES:Goed om weten
ATTACH;FMTTYPE=image/png:https://zorggroep-orion.be/wp-content/uploads/2025/04/wij-zijn-open-2.png
END:VEVENT
BEGIN:VEVENT
DTSTART;VALUE=DATE:20260525
DTEND;VALUE=DATE:20260526
DTSTAMP:20260424T171527
CREATED:20260402T094745Z
LAST-MODIFIED:20260402T094745Z
UID:10626783-1779667200-1779753599@zorggroep-orion.be
SUMMARY:PINKSTERMAANDAG @ Albert
DESCRIPTION:Pinkstermaandag – Wij zijn open! 🌸Onze cafetaria is open van 11.30 u tot 17.00 u.Het restaurant verwelkomt je tussen 12.00 u en 13.00 u. \n👉 De bediening wordt verzorgd door onze enthousiaste vrijwilligers. \n👉 Let op: kantoren zijn gesloten. \nIedereen van harte welkom! De koffie staat klaar.
URL:https://zorggroep-orion.be/activiteit/pinkstermaandag-albert-3/
LOCATION:Dienstencentrum Albert Van Dyck\, Albert Van Dyckstraat 10\, Turnhout\, Antwerpen\, 2300\, Belgium
CATEGORIES:Goed om weten
ATTACH;FMTTYPE=image/png:https://zorggroep-orion.be/wp-content/uploads/2025/04/wij-zijn-open-3.png
END:VEVENT
BEGIN:VEVENT
DTSTART;TZID=Europe/Brussels:20260525T133000
DTEND;TZID=Europe/Brussels:20260525T170000
DTSTAMP:20260424T171527
CREATED:20260407T125434Z
LAST-MODIFIED:20260407T125434Z
UID:10627068-1779715800-1779728400@zorggroep-orion.be
SUMMARY:Pinkstermaandag
DESCRIPTION:Op Pinkstermaandag is ons restaurant gesloten. Maar niet getreurd: ons café is gewoon open van 13u30 tot 17u. Kom gerust langs voor een gezellig drankje!
URL:https://zorggroep-orion.be/activiteit/pinkstermaandag/
LOCATION:Dienstencentrum De Schoor\, Schorvoortstraat 53\, Turnhout\, 2300
CATEGORIES:Goed om weten
ATTACH;FMTTYPE=image/png:https://zorggroep-orion.be/wp-content/uploads/2025/04/wij-zijn-open-2.png
END:VEVENT
END:VCALENDAR