BEGIN:VCALENDAR
VERSION:2.0
PRODID:-//Zorggroep Orion - ECPv6.15.17.1//NONSGML v1.0//EN
CALSCALE:GREGORIAN
METHOD:PUBLISH
X-WR-CALNAME:Zorggroep Orion
X-ORIGINAL-URL:https://zorggroep-orion.be
X-WR-CALDESC:Evenementen voor Zorggroep Orion
REFRESH-INTERVAL;VALUE=DURATION:PT1H
X-Robots-Tag:noindex
X-PUBLISHED-TTL:PT1H
BEGIN:VTIMEZONE
TZID:Europe/Brussels
BEGIN:DAYLIGHT
TZOFFSETFROM:+0100
TZOFFSETTO:+0200
TZNAME:CEST
DTSTART:20230326T010000
END:DAYLIGHT
BEGIN:STANDARD
TZOFFSETFROM:+0200
TZOFFSETTO:+0100
TZNAME:CET
DTSTART:20231029T010000
END:STANDARD
BEGIN:DAYLIGHT
TZOFFSETFROM:+0100
TZOFFSETTO:+0200
TZNAME:CEST
DTSTART:20240331T010000
END:DAYLIGHT
BEGIN:STANDARD
TZOFFSETFROM:+0200
TZOFFSETTO:+0100
TZNAME:CET
DTSTART:20241027T010000
END:STANDARD
BEGIN:DAYLIGHT
TZOFFSETFROM:+0100
TZOFFSETTO:+0200
TZNAME:CEST
DTSTART:20250330T010000
END:DAYLIGHT
BEGIN:STANDARD
TZOFFSETFROM:+0200
TZOFFSETTO:+0100
TZNAME:CET
DTSTART:20251026T010000
END:STANDARD
BEGIN:DAYLIGHT
TZOFFSETFROM:+0100
TZOFFSETTO:+0200
TZNAME:CEST
DTSTART:20260329T010000
END:DAYLIGHT
BEGIN:STANDARD
TZOFFSETFROM:+0200
TZOFFSETTO:+0100
TZNAME:CET
DTSTART:20261025T010000
END:STANDARD
BEGIN:DAYLIGHT
TZOFFSETFROM:+0100
TZOFFSETTO:+0200
TZNAME:CEST
DTSTART:20270328T010000
END:DAYLIGHT
BEGIN:STANDARD
TZOFFSETFROM:+0200
TZOFFSETTO:+0100
TZNAME:CET
DTSTART:20271031T010000
END:STANDARD
END:VTIMEZONE
BEGIN:VEVENT
DTSTART;TZID=Europe/Brussels:20260101T113000
DTEND;TZID=Europe/Brussels:20260101T170000
DTSTAMP:20260424T201438
CREATED:20251217T154027Z
LAST-MODIFIED:20251226T160210Z
UID:10620431-1767267000-1767286800@zorggroep-orion.be
SUMMARY:NIEUWJAAR @ Albert
DESCRIPTION:Vanuit ons centrum een zéér GELUKKIG NIEUWJAAR\, veel liefde en vooral een goede gezondheid. Laten we samen klinken en er weer een super fijn jaar van maken! \nCafetaria open vanaf 11.30 u – Hartelijk Welkom! \nKantoren gesloten 
URL:https://zorggroep-orion.be/activiteit/nieuwjaar-albert-2/
LOCATION:Dienstencentrum Albert Van Dyck\, Albert Van Dyckstraat 10\, Turnhout\, Antwerpen\, 2300\, Belgium
CATEGORIES:Goed om weten
ATTACH;FMTTYPE=image/jpeg:https://zorggroep-orion.be/wp-content/uploads/2025/12/LDC-AVD-1-JAN-2026-1.jpg
END:VEVENT
BEGIN:VEVENT
DTSTART;TZID=Europe/Brussels:20251225T133000
DTEND;TZID=Europe/Brussels:20251225T170000
DTSTAMP:20260424T201438
CREATED:20251104T074708Z
LAST-MODIFIED:20251104T074806Z
UID:10619998-1766669400-1766682000@zorggroep-orion.be
SUMMARY:KERSTMIS: LDC DE WISSEL IS OPEN!
DESCRIPTION:Ook op 25 december ben je welkom in onze cafetaria!Onze enthousiaste vrijwilligers staan klaar om jullie te verwelkomen voor een gezellige kerstnamiddag vol sfeer\, vriendschap en een tasje lekkers. \nKom tussen 13u30 en 17u00 genieten van de kerstsfeer\, een babbeltje en wat gezelschap — want samen is Kerst toch nét dat tikkeltje mooier. \nIedereen is van harte welkom!
URL:https://zorggroep-orion.be/activiteit/kerstmis-ldc-de-wissel-is-open-2/
LOCATION:Dienstencentrum De Wissel\, Dokter Nand Peetersstraat 33\, Turnhout\, Antwerpen\, 2300\, Belgium
CATEGORIES:Goed om weten
ATTACH;FMTTYPE=image/jpeg:https://zorggroep-orion.be/wp-content/uploads/2024/11/LDC-De-Wissel-open-met-kerst-122024.jpg
END:VEVENT
BEGIN:VEVENT
DTSTART;VALUE=DATE:20251224
DTEND;VALUE=DATE:20260102
DTSTAMP:20260424T201438
CREATED:20251127T095537Z
LAST-MODIFIED:20251127T095537Z
UID:10620409-1766534400-1767311999@zorggroep-orion.be
SUMMARY:Openingsuren De Schoor tijdens de feestdagen
DESCRIPTION:Hieronder lijsten we graag even de openingsuren van ons dienstencentrum op tijdens de feestdagen. \n\nwoensdag 24 december: het kantoor en het café zijn open. Het café is open van 13u30 tot 22u. Onze vrijwilligers voorzien iets lekkers voor elke bezoeker.\ndonderdag 25 december: het kantoor is gesloten. Ons café is open van 13u30 tot 17u00.\nwoensdag 31 december: het kantoor en het café zijn open. Het café is open van 13u30 tot 22u. Onze vrijwilligers voorzien iets lekkers voor elke bezoeker.\ndonderdag 1 januari: het kantoor is gesloten. Ons café is open van 13u30 tot 17u00.
URL:https://zorggroep-orion.be/activiteit/openingsuren-de-schoor-tijdens-de-feestdagen/
LOCATION:Dienstencentrum De Schoor\, Schorvoortstraat 53\, Turnhout\, 2300
CATEGORIES:Goed om weten
ATTACH;FMTTYPE=image/png:https://zorggroep-orion.be/wp-content/uploads/2025/11/KERSTSFEER-LDC-AVD-2025.png
END:VEVENT
BEGIN:VEVENT
DTSTART;TZID=Europe/Brussels:20251211T140000
DTEND;TZID=Europe/Brussels:20251211T160000
DTSTAMP:20260424T201438
CREATED:20251118T153832Z
LAST-MODIFIED:20251118T153832Z
UID:10620022-1765461600-1765468800@zorggroep-orion.be
SUMMARY:DEMO VR-BRIL @ Albert
DESCRIPTION:I.s.m. Elders VR – kan je hier kennismaken met de VR-Bril. \nOntdekken jullie mee wat deze bril allemaal kan betekenen voor jou?  Om maar een vb. te geven: Hoe belangrijk is beweging &  een activiteit in jou dagelijks leven? \nVolgens professor E. Scherder zijn dagelijks bewegen\, uitgedaagd worden\, en muziek maken cruciaal voor het behoud van een gezond brein. De VR-ervaringen binnen het thema ‘Beweging & Activiteiten’ bieden uitdagende activiteiten die door professionals werden gedigitaliseerd. Zo kan men bv. meedansen met Andrew Greenwood\, deelnemen aan een stoelyoga-les\,  gymnastiek- of valpreventie-coördinatie-oefeningen doen\, of heerlijk meezingen in een groepskoor…. Te gek voor woorden. \nInschrijven bij het onthaal: € 2 (incl. koffie\, thee of water)
URL:https://zorggroep-orion.be/activiteit/demo-vr-bril-albert/2025-12-11/
LOCATION:Dienstencentrum Albert Van Dyck\, Albert Van Dyckstraat 10\, Turnhout\, Antwerpen\, 2300\, Belgium
CATEGORIES:Goed om weten,Infosessie
ATTACH;FMTTYPE=image/png:https://zorggroep-orion.be/wp-content/uploads/2025/11/VR-BRIL-ELDERS-LDC-AVD-2025.png
END:VEVENT
BEGIN:VEVENT
DTSTART;VALUE=DATE:20251111
DTEND;VALUE=DATE:20251112
DTSTAMP:20260424T201438
CREATED:20251029T091732Z
LAST-MODIFIED:20251029T091732Z
UID:10619977-1762819200-1762905599@zorggroep-orion.be
SUMMARY:WAPENSTILSTAND: LDC DE WISSEL IS GESLOTEN!
DESCRIPTION:Op dinsdag 11 november houden we bij LDC De Wissel een dagje rust voor Wapenstilstand. \nOnze kantoren\, cafetaria en restaurant zijn die dag gesloten. \nWe verwelkomen je graag weer de dag erna!
URL:https://zorggroep-orion.be/activiteit/wapenstilstand-ldc-de-wissel-is-gesloten/
LOCATION:Dienstencentrum De Wissel\, Dokter Nand Peetersstraat 33\, Turnhout\, Antwerpen\, 2300\, Belgium
CATEGORIES:Goed om weten
ATTACH;FMTTYPE=image/jpeg:https://zorggroep-orion.be/wp-content/uploads/2023/07/GESLOTEN.jpg
END:VEVENT
BEGIN:VEVENT
DTSTART;VALUE=DATE:20251111
DTEND;VALUE=DATE:20251112
DTSTAMP:20260424T201438
CREATED:20251002T115101Z
LAST-MODIFIED:20251002T115101Z
UID:10619836-1762819200-1762905599@zorggroep-orion.be
SUMMARY:WAPENSTILSTAND @ Albert
DESCRIPTION:Wapenstilstand\, de jaarlijkse herdenking op 11 november 1918\, die het einde betekende van de Eerste Wereldoorlog. \nIn Albert Van Dyck ontmoeten wij en komen gezellig samen op deze dag in ons cafetaria of restaurant voor een lekkere maaltijd of een drankje! Hartelijk welkom. \nCafetaria open van 11.30 u – 17 u  \nRestaurant open van 12 u – 13 u  \nKANTOREN GESLOTEN
URL:https://zorggroep-orion.be/activiteit/wapenstilstand-albert/
LOCATION:Dienstencentrum Albert Van Dyck\, Albert Van Dyckstraat 10\, Turnhout\, Antwerpen\, 2300\, Belgium
CATEGORIES:Goed om weten
ATTACH;FMTTYPE=image/png:https://zorggroep-orion.be/wp-content/uploads/2025/10/WAPENSTILSTAND-NOV-LDC-AVD-2025.png
END:VEVENT
BEGIN:VEVENT
DTSTART;VALUE=DATE:20251101
DTEND;VALUE=DATE:20251103
DTSTAMP:20260424T201438
CREATED:20251009T143059Z
LAST-MODIFIED:20251009T143059Z
UID:10619848-1761955200-1762127999@zorggroep-orion.be
SUMMARY:ALLERHEILIGEN @ Albert
DESCRIPTION:WIJ ZIJN OPEN \nIn Albert Van Dyck ontmoeten wij en komen gezellig samen op deze dag in ons cafetaria of restaurant voor een lekkere maaltijd of een drankje! Hartelijk welkom. \nCafetaria open van 11.30 u – 17 u  \nRestaurant open van 12 u – 13 u  \nKANTOREN GESLOTEN
URL:https://zorggroep-orion.be/activiteit/allerheiligen-albert-3/
LOCATION:Dienstencentrum Albert Van Dyck\, Albert Van Dyckstraat 10\, Turnhout\, Antwerpen\, 2300\, Belgium
CATEGORIES:Goed om weten
ATTACH;FMTTYPE=image/png:https://zorggroep-orion.be/wp-content/uploads/2025/10/ALLERHEILIGEN-LDC-AVD.png
END:VEVENT
BEGIN:VEVENT
DTSTART;VALUE=DATE:20251101
DTEND;VALUE=DATE:20251102
DTSTAMP:20260424T201438
CREATED:20251030T130852Z
LAST-MODIFIED:20251030T130852Z
UID:10619990-1761955200-1762041599@zorggroep-orion.be
SUMMARY:ALLERHEILIGEN: LDC DE WISSEL IS GESLOTEN!
DESCRIPTION:Op zaterdag 1 november houden we bij LDC De Wissel een dagje rust voor Allerheiligen. Onze cafetaria is gesloten.\n\n\n\nWe verwelkomen je graag weer de dag erna!
URL:https://zorggroep-orion.be/activiteit/allerheiligen-ldc-de-wissel-is-gesloten/
LOCATION:Dienstencentrum De Wissel\, Dokter Nand Peetersstraat 33\, Turnhout\, Antwerpen\, 2300\, Belgium
CATEGORIES:Goed om weten
ATTACH;FMTTYPE=image/jpeg:https://zorggroep-orion.be/wp-content/uploads/2023/07/GESLOTEN.jpg
END:VEVENT
BEGIN:VEVENT
DTSTART;TZID=Europe/Brussels:20251025T030000
DTEND;TZID=Europe/Brussels:20251025T030000
DTSTAMP:20260424T201438
CREATED:20250918T133416Z
LAST-MODIFIED:20251021T081506Z
UID:10619766-1761361200-1761361200@zorggroep-orion.be
SUMMARY:KLOK VERZETTEN @ Albert
DESCRIPTION:Doe jij ook mee? Wij schakelen dit weekend over naar het WINTERUUR. \nTijdens de nacht van zaterdag op zondag draaien we de klok een uur achteruit. \nWil zeggen een langere nacht: 3 u wordt 2 u.
URL:https://zorggroep-orion.be/activiteit/klok-verzetten-albert-3/
LOCATION:Dienstencentrum Albert Van Dyck\, Albert Van Dyckstraat 10\, Turnhout\, Antwerpen\, 2300\, Belgium
CATEGORIES:Goed om weten
ATTACH;FMTTYPE=image/png:https://zorggroep-orion.be/wp-content/uploads/2025/09/WINTERUUR-OKT-LDC-AVD-2025.png
END:VEVENT
BEGIN:VEVENT
DTSTART;TZID=Europe/Brussels:20251001T090000
DTEND;TZID=Europe/Brussels:20251001T170000
DTSTAMP:20260424T201438
CREATED:20250918T073245Z
LAST-MODIFIED:20250918T073245Z
UID:10619764-1759309200-1759338000@zorggroep-orion.be
SUMMARY:DAG VAN DE OUDEREN @ Albert
DESCRIPTION:Laat je inspireren om stil te staan bij het ouder worden.\nJe kan je ouders en/of grootouders verrassen met een bezoek en hen waarderen om wie ze zijn.\nEen manier om deze bijzondere dag te vieren\, kan door tijd door te brengen met je grootouders\, een oudere buurman of gewoon een oudere vriend.\nIn ons centrum hebben we een kast vol gezelschapsspelen van A tot Z. Rummicub\, scrabble\, schaken\, dammen\, mens erger je niet …. gewoon teveel om op te noemen.\nNodig hen uit en kom gezellig langs\, maak er samen een leuke namiddag van.\n(sleutel kan je vragen aan een vrijwilliger in ons cafetaria)
URL:https://zorggroep-orion.be/activiteit/dag-van-de-ouderen-albert/
LOCATION:Dienstencentrum Albert Van Dyck\, Albert Van Dyckstraat 10\, Turnhout\, Antwerpen\, 2300\, Belgium
CATEGORIES:Goed om weten
ATTACH;FMTTYPE=image/png:https://zorggroep-orion.be/wp-content/uploads/2025/09/1.png
END:VEVENT
BEGIN:VEVENT
DTSTART;VALUE=DATE:20250831
DTEND;VALUE=DATE:20250901
DTSTAMP:20260424T201438
CREATED:20250801T070058Z
LAST-MODIFIED:20250714T074433Z
UID:10619165-1756598400-1756684799@zorggroep-orion.be
SUMMARY:PRIJSVERHOGING @ Dienstencentra
DESCRIPTION:Al verschillende jaren zijn de prijzen van ons aanbod aan activiteiten in alle dienstencentra niet verhoogd of geïndexeerd. \nEen aanpassing van de prijzen dringt zich op om meer kostendekkend te kunnen werken. \nUiteraard blijven wij onze sociale doelstelling nastreven om een warme\, laagdrempelige ontmoetingsplaats te zijn voor iedereen. \nDe aangepaste prijzen zullen worden toegepast vanaf 1 september.
URL:https://zorggroep-orion.be/activiteit/prijsverhoging-dienstencentra/
LOCATION:Dienstencentrum Albert Van Dyck\, Albert Van Dyckstraat 10\, Turnhout\, Antwerpen\, 2300\, Belgium
CATEGORIES:Goed om weten
ATTACH;FMTTYPE=image/png:https://zorggroep-orion.be/wp-content/uploads/2025/07/PRIJSVERHOGING-LDCs-2025.png
END:VEVENT
BEGIN:VEVENT
DTSTART;VALUE=DATE:20250815
DTEND;VALUE=DATE:20250816
DTSTAMP:20260424T201438
CREATED:20250423T124314Z
LAST-MODIFIED:20250722T124843Z
UID:10618035-1755216000-1755302399@zorggroep-orion.be
SUMMARY:LDC De Wissel is gesloten
DESCRIPTION:Op vrijdag 15 augustus is LDC De Wissel gesloten!
URL:https://zorggroep-orion.be/activiteit/hemelvaart-ldc-de-wissel-is-gesloten/
LOCATION:Dienstencentrum De Wissel\, Dokter Nand Peetersstraat 33\, Turnhout\, Antwerpen\, 2300\, Belgium
CATEGORIES:Goed om weten
ATTACH;FMTTYPE=image/jpeg:https://zorggroep-orion.be/wp-content/uploads/2023/06/gesloten-2023.jpg
END:VEVENT
BEGIN:VEVENT
DTSTART;TZID=Europe/Brussels:20250727T140000
DTEND;TZID=Europe/Brussels:20250727T170000
DTSTAMP:20260424T201438
CREATED:20250526T110540Z
LAST-MODIFIED:20250526T122846Z
UID:10618668-1753624800-1753635600@zorggroep-orion.be
SUMMARY:AANKOMST TOUR DE FRANCE @ Albert
DESCRIPTION:Wie is jouw favoriet? Gaat hij het halen?  Doet ie het of doet ie het niet? … \nSamen genieten van de aankomst bij een glaasje wijn en uiteraard op zijn Frans\, met een blokje kaas à democratische prijzen. \nCAFETARIA DAGELIJKS OPEN VANAF 9 U – ZON-EN FEESTDAGEN VANAF 11.30 U. \nAllen Hartelijk Welkom\, altijd gezellig in ons cafetaria!
URL:https://zorggroep-orion.be/activiteit/aankomst-tour-de-france-albert/
LOCATION:Dienstencentrum Albert Van Dyck\, Albert Van Dyckstraat 10\, Turnhout\, Antwerpen\, 2300\, Belgium
CATEGORIES:Feest,Goed om weten
ATTACH;FMTTYPE=image/png:https://zorggroep-orion.be/wp-content/uploads/2025/05/AANKOMST-TOUR-DE-FRANCE-JULI-LDC-AVD-2025.png
END:VEVENT
BEGIN:VEVENT
DTSTART;TZID=Europe/Brussels:20250705T140000
DTEND;TZID=Europe/Brussels:20250705T170000
DTSTAMP:20260424T201438
CREATED:20250526T091833Z
LAST-MODIFIED:20250526T091833Z
UID:10618662-1751724000-1751734800@zorggroep-orion.be
SUMMARY:TOUR DE FRANCE @ Albert
DESCRIPTION:Van 5 juli tot en met 27 juli – Dagelijks op ons scherm kijken we naar de ‘Tour de France. \nCAFETARIA DAGELIJKS OPEN VANAF 9 U – ZON-EN FEESTDAGEN VANAF 11.30 U. \nAllen Hartelijk Welkom\, altijd gezellig in ons cafetaria!
URL:https://zorggroep-orion.be/activiteit/tour-de-france-albert-2/
LOCATION:Dienstencentrum Albert Van Dyck\, Albert Van Dyckstraat 10\, Turnhout\, Antwerpen\, 2300\, Belgium
CATEGORIES:Feest,Goed om weten
ATTACH;FMTTYPE=image/png:https://zorggroep-orion.be/wp-content/uploads/2025/05/TOUR-DE-FRANCE-JULI-LDC-AVD-2025.png
END:VEVENT
BEGIN:VEVENT
DTSTART;VALUE=DATE:20250609
DTEND;VALUE=DATE:20250610
DTSTAMP:20260424T201438
CREATED:20250515T102411Z
LAST-MODIFIED:20250515T102411Z
UID:10618363-1749427200-1749513599@zorggroep-orion.be
SUMMARY:PINKSTERMAANDAG @ Albert
DESCRIPTION:Ook op Feestdagen blijven wij gezellig open.  ’t Leven is toch één groot feest\, maar je moet zelf de slingers hangen.  \nDankzij onze lieftallige vrijwilligers zijn jullie van harte welkom in ons centrum. Je kan hier terecht voor een babbel of een knabbel of neem gewoon een lekker drankje …. dit alles aan democratische prijzen en in goed gezelschap! \nCafetaria open vanaf 11.30 u \nRestaurant open vanaf 12 u. \nKantoren gesloten!
URL:https://zorggroep-orion.be/activiteit/pinkstermaandag-albert-2/
LOCATION:Dienstencentrum Albert Van Dyck\, Albert Van Dyckstraat 10\, Turnhout\, Antwerpen\, 2300\, Belgium
CATEGORIES:Goed om weten
ATTACH;FMTTYPE=image/png:https://zorggroep-orion.be/wp-content/uploads/2024/04/cafetaria-LDC-AVD.png
END:VEVENT
BEGIN:VEVENT
DTSTART;VALUE=DATE:20250609
DTEND;VALUE=DATE:20250610
DTSTAMP:20260424T201438
CREATED:20250321T144321Z
LAST-MODIFIED:20250515T071623Z
UID:10616113-1749427200-1749513599@zorggroep-orion.be
SUMMARY:Pinkstermaandag: LDC De Wissel is gesloten
DESCRIPTION:Op maandag 9 juni is LDC De Wissel gesloten!
URL:https://zorggroep-orion.be/activiteit/paasmaandag-de-wissel-is-gesloten/
LOCATION:Dienstencentrum De Wissel\, Dokter Nand Peetersstraat 33\, Turnhout\, Antwerpen\, 2300\, Belgium
CATEGORIES:Goed om weten
ATTACH;FMTTYPE=image/jpeg:https://zorggroep-orion.be/wp-content/uploads/2023/06/gesloten-2023.jpg
END:VEVENT
BEGIN:VEVENT
DTSTART;TZID=Europe/Brussels:20250513T120000
DTEND;TZID=Europe/Brussels:20250513T133000
DTSTAMP:20260424T201438
CREATED:20250409T092756Z
LAST-MODIFIED:20250410T082758Z
UID:10616406-1747137600-1747143000@zorggroep-orion.be
SUMMARY:STEAK HOUSE @ Albert
DESCRIPTION:Vandaag UNIEK in ons restaurant: DAGSCHOTEL enkel Vis of Vlees. \nVISPANNETJE of STEAK (à la minute gebakken) met frietjes of puree  \nIncl. soep en dessert\, enkel hoofdschotel ook mogelijk.  \nMaaltijdbonnen te koop in ons cafetaria LDC Albert Van Dyck! \n  \nOPGELET – GÉÉN andere alternatieve menu’s mogelijk. \nINSCHRIJVEN VANAF HEDEN IN ONS CENTRUM  \n\nAlbert Van Dyckstraat 10\n014 28 40 70\nalbertvandyck@zorggroep-orion.be\n\nMaak uw keuze bij inschrijving: VIS OF VLEES \n 
URL:https://zorggroep-orion.be/activiteit/steak-house-albert/
LOCATION:Dienstencentrum Albert Van Dyck\, Albert Van Dyckstraat 10\, Turnhout\, Antwerpen\, 2300\, Belgium
CATEGORIES:Goed om weten
ATTACH;FMTTYPE=image/png:https://zorggroep-orion.be/wp-content/uploads/2025/04/STEAK-HOUSE-MEI-2025.png
END:VEVENT
BEGIN:VEVENT
DTSTART;TZID=Europe/Brussels:20250502T090000
DTEND;TZID=Europe/Brussels:20250502T123000
DTSTAMP:20260424T201438
CREATED:20250408T082133Z
LAST-MODIFIED:20250408T082133Z
UID:10616123-1746176400-1746189000@zorggroep-orion.be
SUMMARY:INSCHRIJVEN @ Albert
DESCRIPTION:Vanaf 2 mei kan je inschrijven voor ons ruim aanbod aan activiteiten in ons centrum.  \nDagelijks valt er wat te beleven voor jong en oud. Voel je vrij om een kijkje te komen nemen op onze site. Er zit vast iets leuks tussen om je dag zinvol in te vullen. Ook al is het gewoon maar om de gezelligheid of om de sfeer op te snuiven. \nAlvast hartelijk welkom.  \nKijk je mee: https://zorggroep-orion.be/dienstencentrum/lokaal-dienstencentrum-albert-van-dyck/ \n 
URL:https://zorggroep-orion.be/activiteit/inschrijven-albert/
LOCATION:Dienstencentrum Albert Van Dyck\, Albert Van Dyckstraat 10\, Turnhout\, Antwerpen\, 2300\, Belgium
CATEGORIES:Goed om weten
ATTACH;FMTTYPE=image/jpeg:https://zorggroep-orion.be/wp-content/uploads/2025/04/INSCHRIJVEN-MEI-2025.jpg
END:VEVENT
BEGIN:VEVENT
DTSTART;VALUE=DATE:20250421
DTEND;VALUE=DATE:20250422
DTSTAMP:20260424T201438
CREATED:20250321T110437Z
LAST-MODIFIED:20250321T110437Z
UID:10615844-1745193600-1745279999@zorggroep-orion.be
SUMMARY:Paasmaandag: De Schoor is gesloten
DESCRIPTION:Op feestdagen is De Schoor gesloten. \nDus geen café in de namiddag.
URL:https://zorggroep-orion.be/activiteit/paasmaandag-de-schoor-is-gesloten/
LOCATION:Dienstencentrum De Schoor\, Schorvoortstraat 53\, Turnhout\, 2300
CATEGORIES:Goed om weten
ATTACH;FMTTYPE=image/jpeg:https://zorggroep-orion.be/wp-content/uploads/2023/10/ACT-202311-GESLOTEN.jpg
END:VEVENT
BEGIN:VEVENT
DTSTART;VALUE=DATE:20250301
DTEND;VALUE=DATE:20250302
DTSTAMP:20260424T201438
CREATED:20250213T130548Z
LAST-MODIFIED:20250213T131219Z
UID:10615598-1740787200-1740873599@zorggroep-orion.be
SUMMARY:COMPLIMENTENDAG @ Albert
DESCRIPTION:Strooi vandaag met complimenten\, Strooi met mooi en met wat lief\nStrooi vandaag mooie momenten\, Strooi met kleur en expressief\nStrooi vandaag met welgemeend\, met onverwacht en creatief \nStrooi vandaag met zuiver goud\, met prachtig licht en positief.
URL:https://zorggroep-orion.be/activiteit/complimentendag-albert-2/
LOCATION:Dienstencentrum Albert Van Dyck\, Albert Van Dyckstraat 10\, Turnhout\, Antwerpen\, 2300\, Belgium
CATEGORIES:Goed om weten
ATTACH;FMTTYPE=image/png:https://zorggroep-orion.be/wp-content/uploads/2025/02/complimentendag-1-maart-2025.png
END:VEVENT
BEGIN:VEVENT
DTSTART;TZID=Europe/Brussels:20250101T133000
DTEND;TZID=Europe/Brussels:20250101T170000
DTSTAMP:20260424T201438
CREATED:20241122T073545Z
LAST-MODIFIED:20241122T073545Z
UID:10611642-1735738200-1735750800@zorggroep-orion.be
SUMMARY:NIEUWJAAR: LDC DE WISSEL IS OPEN!
DESCRIPTION:Begin het nieuwe jaar in stijl bij LDC De Wissel! \nOnze cafetaria is geopend en we verwelkomen je graag voor een gezellige start van 2025! \nKom langs\, geniet van de feestelijke sfeer en laat je verwennen met een heerlijk drankje. \nOf je nu komt voor een gezellig praatje\, een frisse start of gewoon om lekker te ontspannen – bij ons ben je altijd welkom. We kijken ernaar uit om het nieuwe jaar samen met jou in te luiden!
URL:https://zorggroep-orion.be/activiteit/nieuwjaar-ldc-de-wissel-is-open/
LOCATION:Dienstencentrum De Wissel\, Dokter Nand Peetersstraat 33\, Turnhout\, Antwerpen\, 2300\, Belgium
CATEGORIES:Goed om weten
ATTACH;FMTTYPE=image/jpeg:https://zorggroep-orion.be/wp-content/uploads/2024/11/LDC-De-Wissel-open-met-Nieuwjaar-2025.jpg
END:VEVENT
BEGIN:VEVENT
DTSTART;VALUE=DATE:20250101
DTEND;VALUE=DATE:20250102
DTSTAMP:20260424T201438
CREATED:20241216T152521Z
LAST-MODIFIED:20241216T152521Z
UID:10611645-1735689600-1735775999@zorggroep-orion.be
SUMMARY:NIEUWJAARSDAG @ Albert
DESCRIPTION:Namens het TEAM van LDC Albert Van Dyck\, Carine\, Dorien\, Anita en Britt wensen wij jullie allen: \nOnze allerliefste\, warme\, liefdevolle gezonde wensen voor het nieuwe jaar!\nOok 2025 wordt een jaar met een waaier aan activiteiten voor jong en oud! \nZin in een hapje of een tapje\, of gewoon genieten van leuk gezelschap in een sfeervol kader?\nSteeds HARTELIJK WELKOM in ons centrum\, wij en onze vrijwilligers ontvangen jullie met open armen.\n\n\nOok vandaag zijn wij open: \nRESTAURANT 12 u – 13.30 u \nCAFETARIA 11.30 u
URL:https://zorggroep-orion.be/activiteit/nieuwjaarsdag-albert/
LOCATION:Dienstencentrum Albert Van Dyck\, Albert Van Dyckstraat 10\, Turnhout\, Antwerpen\, 2300\, Belgium
CATEGORIES:Goed om weten
ATTACH;FMTTYPE=image/png:https://zorggroep-orion.be/wp-content/uploads/2024/12/LDC-AVD-1-JAN-2025-.png
END:VEVENT
BEGIN:VEVENT
DTSTART;TZID=Europe/Brussels:20241225T133000
DTEND;TZID=Europe/Brussels:20241225T170000
DTSTAMP:20260424T201438
CREATED:20241122T072814Z
LAST-MODIFIED:20241122T081011Z
UID:10611640-1735133400-1735146000@zorggroep-orion.be
SUMMARY:KERSTMIS: LDC DE WISSEL IS OPEN!
DESCRIPTION:De cafetaria van LDC De Wissel is open tijdens de kerstdagen\, zodat je samen met vrienden en familie kunt genieten van de feestelijke sfeer! \nOnze cafetaria is geopend en we heten je van harte welkom om een warm drankje te komen drinken\, gezellig bij te praten en te genieten van een verrassing die we voor jullie in petto hebben!
URL:https://zorggroep-orion.be/activiteit/kerstmis-ldc-de-wissel-is-open/
LOCATION:Dienstencentrum De Wissel\, Dokter Nand Peetersstraat 33\, Turnhout\, Antwerpen\, 2300\, Belgium
CATEGORIES:Goed om weten
ATTACH;FMTTYPE=image/jpeg:https://zorggroep-orion.be/wp-content/uploads/2024/11/LDC-De-Wissel-open-met-kerst-122024.jpg
END:VEVENT
BEGIN:VEVENT
DTSTART;VALUE=DATE:20241214
DTEND;VALUE=DATE:20241215
DTSTAMP:20260424T201438
CREATED:20241107T121229Z
LAST-MODIFIED:20241107T121229Z
UID:10611617-1734134400-1734220799@zorggroep-orion.be
SUMMARY:KERSTMARKT @ Orion
DESCRIPTION:Kom jij gezellig langs op één van de locaties van Zorggroep ORION? Wij voorzien op alle locaties zowel in de DIENSTENCENTRA als in de WZC’s standjes met vrijwilligers in actie\, dit alles i.s.m. verschillende organisaties. Er is muziek in onze cafetaria’s\, workshops en zeer veel lekkers in aanbieding. \nEr is een pendeltreintje dat je van centrum naar centrum kan brengen! Verwarmd en toegankelijk voor rolstoelen. Spring jij er ook mee op? Tickets te koop aan de kassa’s in de cafetaria’s van de dienstencentra. \nMEER INFO IN ONZE FOLDER – BESCHIKBAAR IN DE DIENSTENCENTRA
URL:https://zorggroep-orion.be/activiteit/kerstmarkt-orion/
LOCATION:Dienstencentrum Albert Van Dyck\, Albert Van Dyckstraat 10\, Turnhout\, Antwerpen\, 2300\, Belgium
CATEGORIES:Goed om weten
ATTACH;FMTTYPE=image/png:https://zorggroep-orion.be/wp-content/uploads/2024/11/dec.-KERST-markt-LDC-AVD-2024-2.png
END:VEVENT
BEGIN:VEVENT
DTSTART;VALUE=DATE:20241111
DTEND;VALUE=DATE:20241112
DTSTAMP:20260424T201438
CREATED:20241021T070516Z
LAST-MODIFIED:20241021T070516Z
UID:10611345-1731283200-1731369599@zorggroep-orion.be
SUMMARY:WAPENSTILSTAND @ Albert
DESCRIPTION:Wapenstilstand\, de jaarlijkse herdenking op 11 november 1918\, die het einde betekende van de Eerste Wereldoorlog. \nIn Albert Van Dyck ontmoeten wij en komen gezellig samen op deze dag in ons cafetaria of restaurant voor een lekkere maaltijd of een drankje! Hartelijk welkom. \nCafetaria open van 11.30 u – 17 u  \nRestaurant open van 12 u – 13.30 u  \nKANTOREN GESLOTEN
URL:https://zorggroep-orion.be/activiteit/wapenstilstand-abert/
LOCATION:Dienstencentrum Albert Van Dyck\, Albert Van Dyckstraat 10\, Turnhout\, Antwerpen\, 2300\, Belgium
CATEGORIES:Goed om weten
ATTACH;FMTTYPE=image/png:https://zorggroep-orion.be/wp-content/uploads/2024/10/cafetaria-LDC-AVD.png
END:VEVENT
BEGIN:VEVENT
DTSTART;TZID=Europe/Brussels:20241027T030000
DTEND;TZID=Europe/Brussels:20241027T030000
DTSTAMP:20260424T201438
CREATED:20240912T135459Z
LAST-MODIFIED:20240912T135459Z
UID:10611243-1729998000-1729998000@zorggroep-orion.be
SUMMARY:KLOK VERZETTEN @ Albert
DESCRIPTION:Doe jij ook mee? Wij schakelen dit weekend over naar het WINTERUUR. \nTijdens de nacht van zaterdag op zondag draaien we de klok een uur achteruit. \nWil zeggen een langere nacht: 3 u wordt 2 u.
URL:https://zorggroep-orion.be/activiteit/klok-verzetten-albert-2/
LOCATION:Dienstencentrum Albert Van Dyck\, Albert Van Dyckstraat 10\, Turnhout\, Antwerpen\, 2300\, Belgium
CATEGORIES:Goed om weten
ATTACH;FMTTYPE=image/png:https://zorggroep-orion.be/wp-content/uploads/2024/09/WINTERTIJD-10-2024-LDC-AVD.png
END:VEVENT
BEGIN:VEVENT
DTSTART;VALUE=DATE:20240815
DTEND;VALUE=DATE:20240816
DTSTAMP:20260424T201438
CREATED:20240722T090142Z
LAST-MODIFIED:20240722T090142Z
UID:10609776-1723680000-1723766399@zorggroep-orion.be
SUMMARY:MOEDERDAG
DESCRIPTION:Op donderdag 15 augustus is LDC De Wissel gesloten.
URL:https://zorggroep-orion.be/activiteit/moederdag/
LOCATION:Dienstencentrum De Wissel\, Dokter Nand Peetersstraat 33\, Turnhout\, Antwerpen\, 2300\, Belgium
CATEGORIES:Goed om weten
ATTACH;FMTTYPE=image/jpeg:https://zorggroep-orion.be/wp-content/uploads/2023/06/gesloten-2023.jpg
END:VEVENT
BEGIN:VEVENT
DTSTART;VALUE=DATE:20240815
DTEND;VALUE=DATE:20240816
DTSTAMP:20260424T201438
CREATED:20240717T125207Z
LAST-MODIFIED:20240717T125207Z
UID:10609771-1723680000-1723766399@zorggroep-orion.be
SUMMARY:O.L.V. TENHEMELOPNEMING @ Albert
DESCRIPTION:Cafetaria open vanaf 11.30 u. \nRestaurant open vanaf 12 u. \nKantoren gesloten!
URL:https://zorggroep-orion.be/activiteit/o-l-v-tenhemelopneming-albert/
LOCATION:Dienstencentrum Albert Van Dyck\, Albert Van Dyckstraat 10\, Turnhout\, Antwerpen\, 2300\, Belgium
CATEGORIES:Goed om weten
ATTACH;FMTTYPE=image/png:https://zorggroep-orion.be/wp-content/uploads/2024/05/open-op-dond.-2024.png
END:VEVENT
BEGIN:VEVENT
DTSTART;VALUE=DATE:20240721
DTEND;VALUE=DATE:20240722
DTSTAMP:20260424T201438
CREATED:20240530T123016Z
LAST-MODIFIED:20240605T064609Z
UID:10609484-1721520000-1721606399@zorggroep-orion.be
SUMMARY:NATIONALE FEESTDAG @ Albert
DESCRIPTION:WIJ ZIJN OPEN! \nCafetaria open vanaf 11.30 u  \nRestaurant open vanaf 12 u \n  \n 
URL:https://zorggroep-orion.be/activiteit/nationale-feestdag-albert/
LOCATION:Dienstencentrum Albert Van Dyck\, Albert Van Dyckstraat 10\, Turnhout\, Antwerpen\, 2300\, Belgium
CATEGORIES:Goed om weten
ATTACH;FMTTYPE=image/png:https://zorggroep-orion.be/wp-content/uploads/2024/05/LDC-AVD-21-JULI-2024.png
END:VEVENT
BEGIN:VEVENT
DTSTART;VALUE=DATE:20240711
DTEND;VALUE=DATE:20240712
DTSTAMP:20260424T201438
CREATED:20240530T094508Z
LAST-MODIFIED:20240530T094508Z
UID:10609481-1720656000-1720742399@zorggroep-orion.be
SUMMARY:FEEST VAN DE VLAAMSE GEMEENSCHAP @ Albert
DESCRIPTION:Cafetaria open vanaf 11.30 u. \nRestaurant open vanaf 12 u. \nKantoren gesloten!
URL:https://zorggroep-orion.be/activiteit/feest-van-de-vlaamse-gemeenschap-albert/
LOCATION:Dienstencentrum Albert Van Dyck\, Albert Van Dyckstraat 10\, Turnhout\, Antwerpen\, 2300\, Belgium
CATEGORIES:Goed om weten
ATTACH;FMTTYPE=image/png:https://zorggroep-orion.be/wp-content/uploads/2024/05/open-op-dond.-2024.png
END:VEVENT
END:VCALENDAR