BEGIN:VCALENDAR
VERSION:2.0
PRODID:-//Zorggroep Orion - ECPv6.15.17.1//NONSGML v1.0//EN
CALSCALE:GREGORIAN
METHOD:PUBLISH
X-WR-CALNAME:Zorggroep Orion
X-ORIGINAL-URL:https://zorggroep-orion.be
X-WR-CALDESC:Evenementen voor Zorggroep Orion
REFRESH-INTERVAL;VALUE=DURATION:PT1H
X-Robots-Tag:noindex
X-PUBLISHED-TTL:PT1H
BEGIN:VTIMEZONE
TZID:Europe/Brussels
BEGIN:DAYLIGHT
TZOFFSETFROM:+0100
TZOFFSETTO:+0200
TZNAME:CEST
DTSTART:20220327T010000
END:DAYLIGHT
BEGIN:STANDARD
TZOFFSETFROM:+0200
TZOFFSETTO:+0100
TZNAME:CET
DTSTART:20221030T010000
END:STANDARD
BEGIN:DAYLIGHT
TZOFFSETFROM:+0100
TZOFFSETTO:+0200
TZNAME:CEST
DTSTART:20230326T010000
END:DAYLIGHT
BEGIN:STANDARD
TZOFFSETFROM:+0200
TZOFFSETTO:+0100
TZNAME:CET
DTSTART:20231029T010000
END:STANDARD
BEGIN:DAYLIGHT
TZOFFSETFROM:+0100
TZOFFSETTO:+0200
TZNAME:CEST
DTSTART:20240331T010000
END:DAYLIGHT
BEGIN:STANDARD
TZOFFSETFROM:+0200
TZOFFSETTO:+0100
TZNAME:CET
DTSTART:20241027T010000
END:STANDARD
BEGIN:DAYLIGHT
TZOFFSETFROM:+0100
TZOFFSETTO:+0200
TZNAME:CEST
DTSTART:20250330T010000
END:DAYLIGHT
BEGIN:STANDARD
TZOFFSETFROM:+0200
TZOFFSETTO:+0100
TZNAME:CET
DTSTART:20251026T010000
END:STANDARD
END:VTIMEZONE
BEGIN:VEVENT
DTSTART;TZID=Europe/Brussels:20240625T180000
DTEND;TZID=Europe/Brussels:20240625T200000
DTSTAMP:20260425T053954
CREATED:20240516T120914Z
LAST-MODIFIED:20240516T120914Z
UID:10608891-1719338400-1719345600@zorggroep-orion.be
SUMMARY:ZITDAG BELASTINGEN @ Turnhout
DESCRIPTION:GOED OM WETEN \nTurnhout: dinsdag 4 juni 2024 van 18 tot 20 uur\nZaal Cardijn\, De Witte Toren\, KB 18\, Turnhout\nEnkel tax-on-web \nTurnhout: dinsdag 25 juni 2024 van 18 tot 20 uur\nZaal Cardijn\, De Witte Toren\, KB 18\, Turnhout\nEnkel tax-on-web \nTurnhout: verder enkel op afspraak – 0476 57 12 35\nTen huize Luc Debondt \nLOCATIE – SPOORWEGSTRAAT 22 te TURNHOUT                           
URL:https://zorggroep-orion.be/activiteit/zitdag-belastingen-turnhout-2/
LOCATION:Dienstencentrum Albert Van Dyck\, Albert Van Dyckstraat 10\, Turnhout\, Antwerpen\, 2300\, Belgium
CATEGORIES:Goed om weten
ATTACH;FMTTYPE=image/png:https://zorggroep-orion.be/wp-content/uploads/2024/05/BELASTINGEN-06-2024.png
END:VEVENT
BEGIN:VEVENT
DTSTART;VALUE=DATE:20240520
DTEND;VALUE=DATE:20240521
DTSTAMP:20260425T053954
CREATED:20240422T094235Z
LAST-MODIFIED:20240422T114201Z
UID:10608769-1716163200-1716249599@zorggroep-orion.be
SUMMARY:PINKSTERMAANDAG @ Albert
DESCRIPTION:Cafetaria open vanaf 11.30 u \n\nMet optreden vanaf 14 u – Zingen met Annick en Rethino.\n\nRestaurant open vanaf 12 u. \nKantoren gesloten!
URL:https://zorggroep-orion.be/activiteit/pinkstermaandag-albert/
LOCATION:Dienstencentrum Albert Van Dyck\, Albert Van Dyckstraat 10\, Turnhout\, Antwerpen\, 2300\, Belgium
CATEGORIES:Goed om weten
ATTACH;FMTTYPE=image/png:https://zorggroep-orion.be/wp-content/uploads/2024/04/cafetaria-LDC-AVD.png
END:VEVENT
BEGIN:VEVENT
DTSTART;VALUE=DATE:20240520
DTEND;VALUE=DATE:20240521
DTSTAMP:20260425T053954
CREATED:20240419T094223Z
LAST-MODIFIED:20240419T094223Z
UID:10608760-1716163200-1716249599@zorggroep-orion.be
SUMMARY:PINKSTERMAANDAG @ De Wissel
DESCRIPTION:Op maandag 20 mei is LDC De Wissel gesloten.
URL:https://zorggroep-orion.be/activiteit/pinkstermaandag-de-wissel/
LOCATION:Dienstencentrum De Wissel\, Dokter Nand Peetersstraat 33\, Turnhout\, Antwerpen\, 2300\, Belgium
CATEGORIES:Goed om weten
ATTACH;FMTTYPE=image/jpeg:https://zorggroep-orion.be/wp-content/uploads/2023/06/gesloten-2023.jpg
END:VEVENT
BEGIN:VEVENT
DTSTART;VALUE=DATE:20240509
DTEND;VALUE=DATE:20240510
DTSTAMP:20260425T053954
CREATED:20240417T101426Z
LAST-MODIFIED:20240417T101426Z
UID:10608743-1715212800-1715299199@zorggroep-orion.be
SUMMARY:HEMELVAARTSDAG @ De Wissel
DESCRIPTION:Op donderdag 9 mei is LDC De Wissel gesloten.
URL:https://zorggroep-orion.be/activiteit/hemelvaartsdag-de-wissel/
LOCATION:Dienstencentrum De Wissel\, Dokter Nand Peetersstraat 33\, Turnhout\, Antwerpen\, 2300\, Belgium
CATEGORIES:Goed om weten
ATTACH;FMTTYPE=image/jpeg:https://zorggroep-orion.be/wp-content/uploads/2023/06/gesloten-2023.jpg
END:VEVENT
BEGIN:VEVENT
DTSTART;VALUE=DATE:20240501
DTEND;VALUE=DATE:20240502
DTSTAMP:20260425T053954
CREATED:20240417T135509Z
LAST-MODIFIED:20240424T142752Z
UID:10608753-1714521600-1714607999@zorggroep-orion.be
SUMMARY:DAG VAN DE ARBEID @ Albert
DESCRIPTION:CAFETARIA OPEN VANAF 11.30 U – De koffie staat klaar! \nRESTAURANT VAN 12 -13.30 U – Smakelijk eten! \nKantoren gesloten!
URL:https://zorggroep-orion.be/activiteit/dag-van-de-arbeid-albert-van-dyck/
LOCATION:Dienstencentrum Albert Van Dyck\, Albert Van Dyckstraat 10\, Turnhout\, Antwerpen\, 2300\, Belgium
CATEGORIES:Goed om weten
ATTACH;FMTTYPE=image/png:https://zorggroep-orion.be/wp-content/uploads/2024/04/open-op-woe-2024.png
END:VEVENT
BEGIN:VEVENT
DTSTART;VALUE=DATE:20240501
DTEND;VALUE=DATE:20240502
DTSTAMP:20260425T053954
CREATED:20240417T100514Z
LAST-MODIFIED:20240417T101509Z
UID:10608742-1714521600-1714607999@zorggroep-orion.be
SUMMARY:DAG VAN DE ARBEID @ De Wissel
DESCRIPTION:Op woensdag 1 mei is LDC De Wissel gesloten.
URL:https://zorggroep-orion.be/activiteit/dag-van-de-arbeid-de-wissel/
LOCATION:Dienstencentrum De Wissel\, Dokter Nand Peetersstraat 33\, Turnhout\, Antwerpen\, 2300\, Belgium
CATEGORIES:Goed om weten
ATTACH;FMTTYPE=image/jpeg:https://zorggroep-orion.be/wp-content/uploads/2023/06/gesloten-2023.jpg
END:VEVENT
BEGIN:VEVENT
DTSTART;VALUE=DATE:20240414
DTEND;VALUE=DATE:20240415
DTSTAMP:20260425T053954
CREATED:20240325T082503Z
LAST-MODIFIED:20240325T082503Z
UID:10608738-1713052800-1713139199@zorggroep-orion.be
SUMMARY:De Schoor is uitzonderlijk gesloten
DESCRIPTION:Ons café is op zondag 14 april uitzonderlijk gesloten.
URL:https://zorggroep-orion.be/activiteit/de-schoor-is-uitzonderlijk-gesloten/
LOCATION:Dienstencentrum De Schoor\, Schorvoortstraat 53\, Turnhout\, 2300
CATEGORIES:Goed om weten
ATTACH;FMTTYPE=image/jpeg:https://zorggroep-orion.be/wp-content/uploads/2023/10/ACT-202311-GESLOTEN.jpg
END:VEVENT
BEGIN:VEVENT
DTSTART;TZID=Europe/Brussels:20240331T090000
DTEND;TZID=Europe/Brussels:20240331T170000
DTSTAMP:20260425T053954
CREATED:20240222T095942Z
LAST-MODIFIED:20240222T095942Z
UID:10608583-1711875600-1711904400@zorggroep-orion.be
SUMMARY:PASEN @ Albert
DESCRIPTION:Aan jullie allen een Zalig PAASFEEST gewenst. \nRestaurant open van 12 – 13.30 u \nCafetaria open van 11.30 – 17 u \nHARTELIJK WELKOM
URL:https://zorggroep-orion.be/activiteit/pasen-albert/
LOCATION:Dienstencentrum Albert Van Dyck\, Albert Van Dyckstraat 10\, Turnhout\, Antwerpen\, 2300\, Belgium
CATEGORIES:Goed om weten
ATTACH;FMTTYPE=image/png:https://zorggroep-orion.be/wp-content/uploads/2024/02/PAASFEEST-LDC-AVD-2024-1.png
END:VEVENT
BEGIN:VEVENT
DTSTART;TZID=Europe/Brussels:20240331T030000
DTEND;TZID=Europe/Brussels:20240331T030000
DTSTAMP:20260425T053954
CREATED:20240221T145952Z
LAST-MODIFIED:20240221T145952Z
UID:10608580-1711854000-1711854000@zorggroep-orion.be
SUMMARY:KLOK VERZETTEN@ Albert
DESCRIPTION:Doe jij ook mee? Wij schakelen dit weekend over naar het ZOMERUUR. \nTijdens de nacht van zaterdag op zondag draaien we de klok een uur vooruit. \nWil zeggen een korte nacht: 2 u wordt 3 u.
URL:https://zorggroep-orion.be/activiteit/klok-verzetten-albert/
LOCATION:Dienstencentrum Albert Van Dyck\, Albert Van Dyckstraat 10\, Turnhout\, Antwerpen\, 2300\, Belgium
CATEGORIES:Goed om weten
ATTACH;FMTTYPE=image/png:https://zorggroep-orion.be/wp-content/uploads/2024/02/LDC-AVD-03-2024.png
END:VEVENT
BEGIN:VEVENT
DTSTART;TZID=Europe/Brussels:20240301T090000
DTEND;TZID=Europe/Brussels:20240301T120000
DTSTAMP:20260425T053954
CREATED:20240221T142820Z
LAST-MODIFIED:20240221T142820Z
UID:10608579-1709283600-1709294400@zorggroep-orion.be
SUMMARY:COMPLIMENTENDAG @ Albert
DESCRIPTION:Vind jij het ook leuk een compliment te krijgen? Wij in dienstencentrum Albert Van Dyck alvast wel. ’t Zijn de kleine dingen die het hem doen! Breng je kaartje binnen gericht aan een persoon die jij een compliment wil geven\, bewoner\, bezoeker\, vrijwilliger\, medewerker …. Wij zorgen alvast voor de koffie à € 1 in de voormiddag. \n‘Geef …. of krijg een compliment! Jouw dag kan niet meer stuk met dit kleine geluk’. 
URL:https://zorggroep-orion.be/activiteit/complimentendag-albert/
LOCATION:Dienstencentrum Albert Van Dyck\, Albert Van Dyckstraat 10\, Turnhout\, Antwerpen\, 2300\, Belgium
CATEGORIES:Goed om weten
ATTACH;FMTTYPE=image/png:https://zorggroep-orion.be/wp-content/uploads/2024/02/kaartje-LDC-AVD-03-2024.png
END:VEVENT
BEGIN:VEVENT
DTSTART;TZID=Europe/Brussels:20240101T090000
DTEND;TZID=Europe/Brussels:20240101T170000
DTSTAMP:20260425T053954
CREATED:20231220T150327Z
LAST-MODIFIED:20231220T150441Z
UID:10608439-1704099600-1704128400@zorggroep-orion.be
SUMMARY:NIEUWJAAR @ Albert
DESCRIPTION:Vanuit ons centrum een zéér GELUKKIG NIEUWJAAR\, veel liefde en vooral een goede gezondheid. Laten we samen klinken en er weer een super fijn jaar van maken! \nCafetaria open vanaf 11.30 u – Hartelijk Welkom! \nKantoren gesloten 
URL:https://zorggroep-orion.be/activiteit/nieuwjaar-albert/
LOCATION:Dienstencentrum Albert Van Dyck\, Albert Van Dyckstraat 10\, Turnhout\, Antwerpen\, 2300\, Belgium
CATEGORIES:Goed om weten
ATTACH;FMTTYPE=image/png:https://zorggroep-orion.be/wp-content/uploads/2023/12/Kopie-van-FILM-LDC-AVD-01-2024.png
END:VEVENT
BEGIN:VEVENT
DTSTART;VALUE=DATE:20231231
DTEND;VALUE=DATE:20240101
DTSTAMP:20260425T053954
CREATED:20231211T145412Z
LAST-MODIFIED:20231211T145441Z
UID:10607878-1703980800-1704067199@zorggroep-orion.be
SUMMARY:NIEUWJAAR @ De Wissel
DESCRIPTION:FIJNE FEESTDAGEN ! \n31 december: café open 13.30 u  – 17.00 u / bureau gesloten \n1 januari: café open 13.30 u  – 17.00 u / bureau gesloten \n2 januari: café open 13.30 u  – 17.00 u / restaurant 12.00 u – 13.30 u / bureau 9.00 – 16.00 u
URL:https://zorggroep-orion.be/activiteit/nieuwjaar-de-wissel/
LOCATION:Dienstencentrum De Wissel\, Dokter Nand Peetersstraat 33\, Turnhout\, Antwerpen\, 2300\, Belgium
CATEGORIES:Goed om weten
ATTACH;FMTTYPE=image/jpeg:https://zorggroep-orion.be/wp-content/uploads/2023/12/kerst-2023-1.jpg
END:VEVENT
BEGIN:VEVENT
DTSTART;TZID=Europe/Brussels:20231225T090000
DTEND;TZID=Europe/Brussels:20231225T170000
DTSTAMP:20260425T053954
CREATED:20231121T100645Z
LAST-MODIFIED:20231122T093326Z
UID:10607571-1703494800-1703523600@zorggroep-orion.be
SUMMARY:KERSTMIS @ Albert
DESCRIPTION:FIJNE FEESTDAGEN \n25 Dec. Cafetaria open 11.30 u – 17.00 u / Restaurant 12.00 u – 13.30 u / Onthaal gesloten! \n26 Dec. Cafetaria open 9.00 u  – 17.00 u / Restaurant 12.00 u – 13.30 u / Onthaal 9.00 – 12.00 u.
URL:https://zorggroep-orion.be/activiteit/kerstmis-albert/
LOCATION:Dienstencentrum Albert Van Dyck\, Albert Van Dyckstraat 10\, Turnhout\, Antwerpen\, 2300\, Belgium
CATEGORIES:Goed om weten
ATTACH;FMTTYPE=image/png:https://zorggroep-orion.be/wp-content/uploads/2023/11/Kopie-van-KERSTMARKT-LDC-AVD-12-2023-1.png
END:VEVENT
BEGIN:VEVENT
DTSTART;VALUE=DATE:20231225
DTEND;VALUE=DATE:20231226
DTSTAMP:20260425T053954
CREATED:20231211T145210Z
LAST-MODIFIED:20231213T120435Z
UID:10607877-1703462400-1703548799@zorggroep-orion.be
SUMMARY:KERSTMIS @ De Wissel
DESCRIPTION:FIJNE FEESTDAGEN ! \n24 december: café open 13.30 u  – 17.00 u / bureau gesloten \n25 december: café open 13.30 u  – 17.00 u / bureau gesloten \n26 december: café open 13.30 u  – 17.00 u / restaurant 12.00 u – 13.30 u / bureau 9.00 – 16.00 u
URL:https://zorggroep-orion.be/activiteit/kerstmis-de-wissel/
LOCATION:Dienstencentrum De Wissel\, Dokter Nand Peetersstraat 33\, Turnhout\, Antwerpen\, 2300\, Belgium
CATEGORIES:Goed om weten
ATTACH;FMTTYPE=image/jpeg:https://zorggroep-orion.be/wp-content/uploads/2023/12/kerst-2023.jpg
END:VEVENT
END:VCALENDAR