BEGIN:VCALENDAR
VERSION:2.0
PRODID:-//Zorggroep Orion - ECPv6.15.17.1//NONSGML v1.0//EN
CALSCALE:GREGORIAN
METHOD:PUBLISH
X-ORIGINAL-URL:https://zorggroep-orion.be
X-WR-CALDESC:Evenementen voor Zorggroep Orion
REFRESH-INTERVAL;VALUE=DURATION:PT1H
X-Robots-Tag:noindex
X-PUBLISHED-TTL:PT1H
BEGIN:VTIMEZONE
TZID:Europe/Brussels
BEGIN:DAYLIGHT
TZOFFSETFROM:+0100
TZOFFSETTO:+0200
TZNAME:CEST
DTSTART:20230326T010000
END:DAYLIGHT
BEGIN:STANDARD
TZOFFSETFROM:+0200
TZOFFSETTO:+0100
TZNAME:CET
DTSTART:20231029T010000
END:STANDARD
BEGIN:DAYLIGHT
TZOFFSETFROM:+0100
TZOFFSETTO:+0200
TZNAME:CEST
DTSTART:20240331T010000
END:DAYLIGHT
BEGIN:STANDARD
TZOFFSETFROM:+0200
TZOFFSETTO:+0100
TZNAME:CET
DTSTART:20241027T010000
END:STANDARD
BEGIN:DAYLIGHT
TZOFFSETFROM:+0100
TZOFFSETTO:+0200
TZNAME:CEST
DTSTART:20250330T010000
END:DAYLIGHT
BEGIN:STANDARD
TZOFFSETFROM:+0200
TZOFFSETTO:+0100
TZNAME:CET
DTSTART:20251026T010000
END:STANDARD
BEGIN:DAYLIGHT
TZOFFSETFROM:+0100
TZOFFSETTO:+0200
TZNAME:CEST
DTSTART:20260329T010000
END:DAYLIGHT
BEGIN:STANDARD
TZOFFSETFROM:+0200
TZOFFSETTO:+0100
TZNAME:CET
DTSTART:20261025T010000
END:STANDARD
BEGIN:DAYLIGHT
TZOFFSETFROM:+0100
TZOFFSETTO:+0200
TZNAME:CEST
DTSTART:20270328T010000
END:DAYLIGHT
BEGIN:STANDARD
TZOFFSETFROM:+0200
TZOFFSETTO:+0100
TZNAME:CET
DTSTART:20271031T010000
END:STANDARD
END:VTIMEZONE
BEGIN:VEVENT
DTSTART;TZID=Europe/Brussels:20260421T100000
DTEND;TZID=Europe/Brussels:20260421T110000
DTSTAMP:20260424T190414
CREATED:20260209T104125Z
LAST-MODIFIED:20260209T104125Z
UID:10626275-1776765600-1776769200@zorggroep-orion.be
SUMMARY:ZILVEREN VERHALEN @ Albert
DESCRIPTION:𝗭𝗶𝗹𝘃𝗲𝗿𝗲𝗻 𝗩𝗲𝗿𝗵𝗮𝗹𝗲𝗻 is een voorleesproject voor mensen met dementie en hun mantelzorgers\, opgezet door voormalig stadsdichter en ergotherapeut Sanne Leenders . \nZe brengt eigen ontroerende\, grappige en herkenbare verhalen en gedichten mee – speciaal voor wie graag luistert\, mijmert\, ervaart of wil delen. \nLaat je meevoeren door haar verhalen\, en waarschijnlijk borrelt er wel een eigen herinnering of gedachte op. \nNiets moet\, alles kan. Luisteren mag. Vertellen nog liever. \nHartelijk welkom in Dienstencentrum Albert Van Dyck op  10 en 24 feb. (van 10 – 11 u) \nMeer info .zilverenverhalen.be
URL:https://zorggroep-orion.be/activiteit/zilveren-verhalen-albert-4/2026-04-21/
LOCATION:Dienstencentrum Albert Van Dyck\, Albert Van Dyckstraat 10\, Turnhout\, Antwerpen\, 2300\, Belgium
CATEGORIES:Hersenpan
ATTACH;FMTTYPE=image/png:https://zorggroep-orion.be/wp-content/uploads/2026/01/ZILVEREN-VERHALEN-LDC-AVD.png
END:VEVENT
BEGIN:VEVENT
DTSTART;TZID=Europe/Brussels:20260420T100000
DTEND;TZID=Europe/Brussels:20260420T120000
DTSTAMP:20260424T190414
CREATED:20241218T104600Z
LAST-MODIFIED:20241218T104600Z
UID:10615238-1776679200-1776686400@zorggroep-orion.be
SUMMARY:BIBLIOTHEEK @ Albert
DESCRIPTION:Wil jij je vrije tijd zinvol en rustig invullen door het lezen van een boekje? Iedere maandagvoormiddag is onze bibliotheek i.s.m. Bib Turnhout open vanaf 10 u en zullen de vrijwilligers van dienst jullie graag doorheen de literatuur loodsen. Er zit vast ook iets voor jou tussen! Wij zijn ook in het bezit van luisterboeken.  \nHartelijk Welkom.  
URL:https://zorggroep-orion.be/activiteit/bibliotheek-albert-2/2026-04-20/
LOCATION:Dienstencentrum Albert Van Dyck\, Albert Van Dyckstraat 10\, Turnhout\, Antwerpen\, 2300\, Belgium
CATEGORIES:Dienstverlening,Hersenpan
ATTACH;FMTTYPE=image/png:https://zorggroep-orion.be/wp-content/uploads/2024/12/BIB-LDC-AVD-JAN-2025-.png
END:VEVENT
BEGIN:VEVENT
DTSTART;TZID=Europe/Brussels:20251007T110000
DTEND;TZID=Europe/Brussels:20251007T120000
DTSTAMP:20260424T190414
CREATED:20250925T123216Z
LAST-MODIFIED:20250925T123216Z
UID:10619815-1759834800-1759838400@zorggroep-orion.be
SUMMARY:ENGELS: GEVORDERDEN
DESCRIPTION:In oktober starten we opnieuw met een nieuwe reeks van onze Engelse lessen voor gevorderden. \nOf je nu je spreekvaardigheid wil verfijnen\, vlotter gesprekken wil voeren of je kennis van de taal verder wil verdiepen – deze cursus is de perfecte stap vooruit. \nPrijs: €3\,00 per les inclusief koffie/thee.
URL:https://zorggroep-orion.be/activiteit/engels-gevorderden/
LOCATION:Dienstencentrum De Wissel\, Dokter Nand Peetersstraat 33\, Turnhout\, Antwerpen\, 2300\, Belgium
CATEGORIES:Hersenpan
ATTACH;FMTTYPE=image/jpeg:https://zorggroep-orion.be/wp-content/uploads/2023/08/act-202309-Engelse-conversatie.jpg
END:VEVENT
BEGIN:VEVENT
DTSTART;TZID=Europe/Brussels:20251007T090000
DTEND;TZID=Europe/Brussels:20251007T103000
DTSTAMP:20260424T190414
CREATED:20250925T123058Z
LAST-MODIFIED:20250925T123058Z
UID:10619814-1759827600-1759833000@zorggroep-orion.be
SUMMARY:ENGELS: BEGINNERS
DESCRIPTION:In oktober starten we opnieuw met een nieuwe reeks van onze Engelse lessen voor beginners. \nOf je nu je talenkennis wilt uitbreiden\, jezelf beter verstaanbaar wilt maken op reis\, of gewoon zin hebt om een nieuwe taal te leren – deze cursus is de perfecte start. \nPrijs: €3\,00 per les inclusief koffie/thee.
URL:https://zorggroep-orion.be/activiteit/engels-beginners/
LOCATION:Dienstencentrum De Wissel\, Dokter Nand Peetersstraat 33\, Turnhout\, Antwerpen\, 2300\, Belgium
CATEGORIES:Hersenpan
ATTACH;FMTTYPE=image/jpeg:https://zorggroep-orion.be/wp-content/uploads/2023/08/act-202309-Engelse-conversatie.jpg
END:VEVENT
BEGIN:VEVENT
DTSTART;TZID=Europe/Brussels:20250214T140000
DTEND;TZID=Europe/Brussels:20250214T140000
DTSTAMP:20260424T190414
CREATED:20250114T150859Z
LAST-MODIFIED:20250120T122354Z
UID:10615453-1739541600-1739541600@zorggroep-orion.be
SUMMARY:QUIZ MET GEBAK @ Albert
DESCRIPTION:Hou jij van Quizzen? Deze editie volledig in teken van VALENTIJN. \nMaak een groepje van min. 3 – max. 5 personen. Fred loodst jullie met veel liefde doorheen deze namiddag. \nBen je alleen of geraak je niet aan 3 personen\, geen probleem\, wij zorgen voor leuk gezelschap.  \nWe sluiten af met een lekker stuk Valentijns-gebak! \nHartelijk welkom – Inschrijven: € 4 pp. Quiz\, incl. koffie en Valentijns-gebak.
URL:https://zorggroep-orion.be/activiteit/quiz-met-gebak-albert/
LOCATION:Dienstencentrum Albert Van Dyck\, Albert Van Dyckstraat 10\, Turnhout\, Antwerpen\, 2300\, Belgium
CATEGORIES:Hersenpan
ATTACH;FMTTYPE=image/png:https://zorggroep-orion.be/wp-content/uploads/2025/01/VALENTIJNSGEBAK-LDC-AVD-FEB-2025-1.png
END:VEVENT
BEGIN:VEVENT
DTSTART;TZID=Europe/Brussels:20250106T100000
DTEND;TZID=Europe/Brussels:20250106T120000
DTSTAMP:20260424T190414
CREATED:20241218T104451Z
LAST-MODIFIED:20241218T104451Z
UID:10615167-1736157600-1736164800@zorggroep-orion.be
SUMMARY:BIBLIOTHEEK @ Albert
DESCRIPTION:Wil jij je vrije tijd zinvol en rustig invullen door het lezen van een boekje? Iedere maandagvoormiddag is onze bibliotheek i.s.m. Bib Turnhout open vanaf 10 u en zullen de vrijwilligers van dienst jullie graag doorheen de literatuur loodsen. Er zit vast ook iets voor jou tussen! Wij zijn ook in het bezit van luisterboeken.  \nHartelijk Welkom.  
URL:https://zorggroep-orion.be/activiteit/bibliotheek-albert/
LOCATION:Dienstencentrum Albert Van Dyck\, Albert Van Dyckstraat 10\, Turnhout\, Antwerpen\, 2300\, Belgium
CATEGORIES:Dienstverlening,Hersenpan
ATTACH;FMTTYPE=image/png:https://zorggroep-orion.be/wp-content/uploads/2024/12/BIB-LDC-AVD-JAN-2025-.png
END:VEVENT
BEGIN:VEVENT
DTSTART;TZID=Europe/Brussels:20241120T140000
DTEND;TZID=Europe/Brussels:20241120T140000
DTSTAMP:20260424T190414
CREATED:20241014T122413Z
LAST-MODIFIED:20241014T122413Z
UID:10611333-1732111200-1732111200@zorggroep-orion.be
SUMMARY:QUIZ @ Albert
DESCRIPTION:Hou jij van Quizzen? Kom dan gezellig langs op deze woensdagnamiddag in ons centrum. \nMaak een groepje van 4\, kies een tafel en laat je volledig begeleiden door Fred. Ben je alleen of geraak je niet aan 4 personen\, geen probleem\, wij zorgen voor leuk gezelschap.  \nFred zorgt voor leuke vragen voor jong en oud. Jij komt toch ook mee dingen voor die eerste prijs? \nEn niet onbelangrijk: deze quiz is volledig gratis! Hartelijk welkom – koffie of thee staan klaar à € 1.
URL:https://zorggroep-orion.be/activiteit/quiz-albert/
LOCATION:Dienstencentrum Albert Van Dyck\, Albert Van Dyckstraat 10\, Turnhout\, Antwerpen\, 2300\, Belgium
CATEGORIES:Hersenpan
ATTACH;FMTTYPE=image/png:https://zorggroep-orion.be/wp-content/uploads/2024/10/2024-LDC-AVD.png
END:VEVENT
END:VCALENDAR