BEGIN:VCALENDAR
VERSION:2.0
PRODID:-//Zorggroep Orion - ECPv6.15.17.1//NONSGML v1.0//EN
CALSCALE:GREGORIAN
METHOD:PUBLISH
X-WR-CALNAME:Zorggroep Orion
X-ORIGINAL-URL:https://zorggroep-orion.be
X-WR-CALDESC:Evenementen voor Zorggroep Orion
REFRESH-INTERVAL;VALUE=DURATION:PT1H
X-Robots-Tag:noindex
X-PUBLISHED-TTL:PT1H
BEGIN:VTIMEZONE
TZID:Europe/Brussels
BEGIN:DAYLIGHT
TZOFFSETFROM:+0100
TZOFFSETTO:+0200
TZNAME:CEST
DTSTART:20220327T010000
END:DAYLIGHT
BEGIN:STANDARD
TZOFFSETFROM:+0200
TZOFFSETTO:+0100
TZNAME:CET
DTSTART:20221030T010000
END:STANDARD
BEGIN:DAYLIGHT
TZOFFSETFROM:+0100
TZOFFSETTO:+0200
TZNAME:CEST
DTSTART:20230326T010000
END:DAYLIGHT
BEGIN:STANDARD
TZOFFSETFROM:+0200
TZOFFSETTO:+0100
TZNAME:CET
DTSTART:20231029T010000
END:STANDARD
BEGIN:DAYLIGHT
TZOFFSETFROM:+0100
TZOFFSETTO:+0200
TZNAME:CEST
DTSTART:20240331T010000
END:DAYLIGHT
BEGIN:STANDARD
TZOFFSETFROM:+0200
TZOFFSETTO:+0100
TZNAME:CET
DTSTART:20241027T010000
END:STANDARD
BEGIN:DAYLIGHT
TZOFFSETFROM:+0100
TZOFFSETTO:+0200
TZNAME:CEST
DTSTART:20250330T010000
END:DAYLIGHT
BEGIN:STANDARD
TZOFFSETFROM:+0200
TZOFFSETTO:+0100
TZNAME:CET
DTSTART:20251026T010000
END:STANDARD
BEGIN:DAYLIGHT
TZOFFSETFROM:+0100
TZOFFSETTO:+0200
TZNAME:CEST
DTSTART:20260329T010000
END:DAYLIGHT
BEGIN:STANDARD
TZOFFSETFROM:+0200
TZOFFSETTO:+0100
TZNAME:CET
DTSTART:20261025T010000
END:STANDARD
BEGIN:DAYLIGHT
TZOFFSETFROM:+0100
TZOFFSETTO:+0200
TZNAME:CEST
DTSTART:20270328T010000
END:DAYLIGHT
BEGIN:STANDARD
TZOFFSETFROM:+0200
TZOFFSETTO:+0100
TZNAME:CET
DTSTART:20271031T010000
END:STANDARD
END:VTIMEZONE
BEGIN:VEVENT
DTSTART;TZID=Europe/Brussels:20260421T103000
DTEND;TZID=Europe/Brussels:20260421T120000
DTSTAMP:20260424T164036
CREATED:20260112T150159Z
LAST-MODIFIED:20260112T150347Z
UID:10623175-1776767400-1776772800@zorggroep-orion.be
SUMMARY:Spaanse les: conversatie-gevorderden
DESCRIPTION:Wil je vlotter Spaans spreken en je conversatievaardigheden verder aanscherpen?In de Spaanse les – conversatie voor gevorderden oefen je actief spreken in een ontspannen en gezellige sfeer. Ideaal voor wie al een goede basis heeft en graag blijft oefenen. Voor de les genieten we samen van een kop koffie.Elke dinsdag van 10u30 tot 12u \n€3 per les (koffie vóór de les inbegrepen)
URL:https://zorggroep-orion.be/activiteit/spaanse-les-conversatie-gevorderden/2026-04-21/
LOCATION:Dienstencentrum De Schoor\, Schorvoortstraat 53\, Turnhout\, 2300
CATEGORIES:Leren
ATTACH;FMTTYPE=image/jpeg:https://zorggroep-orion.be/wp-content/uploads/2023/08/act-spaans-092023.jpg
END:VEVENT
BEGIN:VEVENT
DTSTART;TZID=Europe/Brussels:20260420T140000
DTEND;TZID=Europe/Brussels:20260420T160000
DTSTAMP:20260424T164037
CREATED:20260310T071007Z
LAST-MODIFIED:20260310T071007Z
UID:10626414-1776693600-1776700800@zorggroep-orion.be
SUMMARY:TAALLESSEN ENGELS @ Albert
DESCRIPTION:Wil je graag Engels leren\, maar weet je niet waar te beginnen? \nJe kan elke les aansluiten bij deze groep.In deze lessenreeks met begeleidster Marie-Claire: “EEN REIS DOOR DE ENGELSE TAAL” voor beginners. \nHier leer je stap voor stap de basis van de Engelse taal. We werken aan spreken\, luisteren\, lezen en eenvoudige grammatica\, in een rustige en toegankelijke sfeer. \n📅 Iedere maandag namiddag nog t.e.m. 11 mei – Niet tijdens de Paasvakantie📍 Locatie: LDC ALBERT VAN DYCK⏰ Duur: 14 tot 15.30 u met aansluitend koffie tot 16 u \nGeen voorkennis nodig. Iedereen is welkom! \n 
URL:https://zorggroep-orion.be/activiteit/taallessen-engels-albert-2/2026-04-20/
LOCATION:Dienstencentrum Albert Van Dyck\, Albert Van Dyckstraat 10\, Turnhout\, Antwerpen\, 2300\, Belgium
CATEGORIES:Leren
ATTACH;FMTTYPE=image/png:https://zorggroep-orion.be/wp-content/uploads/2026/02/03-ENGELSE-LES-LDC-AVD.png
END:VEVENT
BEGIN:VEVENT
DTSTART;TZID=Europe/Brussels:20260420T140000
DTEND;TZID=Europe/Brussels:20260420T160000
DTSTAMP:20260424T164037
CREATED:20260210T094058Z
LAST-MODIFIED:20260310T195819Z
UID:10626422-1776693600-1776700800@zorggroep-orion.be
SUMMARY:TAALLESSEN ENGELS @ Albert
DESCRIPTION:Wil je graag Engels leren\, maar weet je niet waar te beginnen? \nJe kan elke les aansluiten bij deze groep. \nIn deze lessenreeks met begeleidster Marie-Claire: \n“EEN REIS DOOR DE ENGELSE TAAL” voor beginners. \n\nHier leer je stap voor stap de basis van de Engelse taal. We werken aan spreken\, luisteren\, lezen en eenvoudige grammatica\, in een rustige en toegankelijke sfeer. \n\n📅 Iedere maandag namiddag nog t.e.m. 11 mei \nNiet tijdens de Paasvakantie \n📍 Locatie: LDC ALBERT VAN DYCK \n⏰ Duur: 14 tot 15.30 u \nmet aansluitend koffie tot 16 u \nGeen voorkennis nodig. Iedereen is welkom! \n 
URL:https://zorggroep-orion.be/activiteit/taallessen-engels-albert/2026-04-20/
LOCATION:Dienstencentrum Albert Van Dyck\, Albert Van Dyckstraat 10\, Turnhout\, Antwerpen\, 2300\, Belgium
CATEGORIES:Leren
ATTACH;FMTTYPE=image/png:https://zorggroep-orion.be/wp-content/uploads/2026/02/03-ENGELSE-LES-LDC-AVD.png
END:VEVENT
BEGIN:VEVENT
DTSTART;TZID=Europe/Brussels:20260420T090000
DTEND;TZID=Europe/Brussels:20260420T110000
DTSTAMP:20260424T164037
CREATED:20260327T102710Z
LAST-MODIFIED:20260327T102746Z
UID:10626772-1776675600-1776682800@zorggroep-orion.be
SUMMARY:CURSUS GENEALOGIE @ DE WISSEL
DESCRIPTION:Tijdens deze cursus krijg je de kans om de wereld van de familiekunde stap voor stap te ontdekken. Je leert hoe je aan je eigen stamboom begint\, welke historische bronnen je moet raadplegen\, je leert oud schrift lezen en hoe je het internet gebruikt voor je onderzoek. \nElke eerste en derde maandag van de maand!  \n\nMaandag 6 april: GEEN GENEALOGIE (O.W.V. PAASMAANDAG)\nMaandag 20 april
URL:https://zorggroep-orion.be/activiteit/cursus-genealogie-de-wissel-5/
LOCATION:Dienstencentrum De Wissel\, Dokter Nand Peetersstraat 33\, Turnhout\, Antwerpen\, 2300\, Belgium
CATEGORIES:Leren
ATTACH;FMTTYPE=image/jpeg:https://zorggroep-orion.be/wp-content/uploads/2023/03/act202307-Genealogie.jpg
END:VEVENT
BEGIN:VEVENT
DTSTART;TZID=Europe/Brussels:20260415T100000
DTEND;TZID=Europe/Brussels:20260422T113000
DTSTAMP:20260424T164037
CREATED:20260203T104730Z
LAST-MODIFIED:20260203T104730Z
UID:10624267-1776247200-1776857400@zorggroep-orion.be
SUMMARY:FRANSE CONVERSATIE @ DE WISSEL
DESCRIPTION:Heb je zin om je Franse vaardigheden wat op te frissen? Kom dan op woensdag tussen 10u00 en 11u30 uur langs in LDC De Wissel voor een praatje in het Frans. \nPrijs: €2\,00 inclusief koffie/thee
URL:https://zorggroep-orion.be/activiteit/franse-conversatie-de-wissel/2026-04-15/
LOCATION:Dienstencentrum De Wissel\, Dokter Nand Peetersstraat 33\, Turnhout\, Antwerpen\, 2300\, Belgium
CATEGORIES:Leren
ATTACH;FMTTYPE=image/png:https://zorggroep-orion.be/wp-content/uploads/2020/03/2003-act-frans-conversatie.png
END:VEVENT
BEGIN:VEVENT
DTSTART;TZID=Europe/Brussels:20260413T140000
DTEND;TZID=Europe/Brussels:20260413T160000
DTSTAMP:20260424T164037
CREATED:20260310T201131Z
LAST-MODIFIED:20260310T201133Z
UID:10626400-1776088800-1776096000@zorggroep-orion.be
SUMMARY:DE DIGITALE WERELD VAN BOB @ Albert
DESCRIPTION:Bob Devisscher legt uit! \nVrije inloop voor verdere vragen ivm. GSM\, Smartphone\, …. \nStap voor stap gaan we door de wondere wereld van de technologie\, in een duidelijk\, rustig tempo \nén in verstaanbare taal. \nGratis toegang!
URL:https://zorggroep-orion.be/activiteit/de-digitale-wereld-van-bob-albert-9-2/
LOCATION:Dienstencentrum Albert Van Dyck\, Albert Van Dyckstraat 10\, Turnhout\, Antwerpen\, 2300\, Belgium
CATEGORIES:Leren
ATTACH;FMTTYPE=image/png:https://zorggroep-orion.be/wp-content/uploads/2025/10/11-DIGITALE-WERELD-LDC-AVD.png
END:VEVENT
BEGIN:VEVENT
DTSTART;TZID=Europe/Brussels:20260325T090000
DTEND;TZID=Europe/Brussels:20260325T120000
DTSTAMP:20260424T164037
CREATED:20260113T091302Z
LAST-MODIFIED:20260113T091302Z
UID:10623221-1774429200-1774440000@zorggroep-orion.be
SUMMARY:Digidak les aanmelden met Itsme en MyGov.be
DESCRIPTION:Je ontdekt hoe je de itsme-app en MyGov.be-app installeert en gebruikt om veilig in te loggen bij banken\, overheidsdiensten en websites. Na deze cursus kan je itsme en MyGov.be inzetten als digitale sleutel. \nLessen zijn gratis. Vooraf inschrijven is verplicht en kan\nTijdens vrije inloop (LDC De Schoor elke maandag 13u30 – 16u) – www.digidak.be/locaties\nPer mail: turnhout@digidak.be\nTelefonisch 014 41 82 18 (9u-12u)
URL:https://zorggroep-orion.be/activiteit/digidak-les-aanmelden-met-itsme-en-mygov-be/
LOCATION:Dienstencentrum De Schoor\, Schorvoortstraat 53\, Turnhout\, 2300
CATEGORIES:Leren
ATTACH;FMTTYPE=image/png:https://zorggroep-orion.be/wp-content/uploads/2023/03/act-202305-digidak.png
END:VEVENT
BEGIN:VEVENT
DTSTART;TZID=Europe/Brussels:20260311T090000
DTEND;TZID=Europe/Brussels:20260311T120000
DTSTAMP:20260424T164037
CREATED:20260113T091137Z
LAST-MODIFIED:20260113T091137Z
UID:10623220-1773219600-1773230400@zorggroep-orion.be
SUMMARY:Digidak les RouteYou
DESCRIPTION:Je ontdekt hoe je met RouteYou wandel- en fietsroutes zoekt\, aanpast en opslaat. Na deze cursus kan je RouteYou gebruiken om leuke tochten te plannen. \nLessen zijn gratis. Vooraf inschrijven is verplicht en kan\nTijdens vrije inloop (LDC De Schoor elke maandag 13u30 – 16u) – www.digidak.be/locaties\nPer mail: turnhout@digidak.be\nTelefonisch 014 41 82 18 (9u-12u)
URL:https://zorggroep-orion.be/activiteit/digidak-les-routeyou/
LOCATION:Dienstencentrum De Schoor\, Schorvoortstraat 53\, Turnhout\, 2300
CATEGORIES:Leren
ATTACH;FMTTYPE=image/png:https://zorggroep-orion.be/wp-content/uploads/2023/03/act-202305-digidak.png
END:VEVENT
BEGIN:VEVENT
DTSTART;TZID=Europe/Brussels:20260304T090000
DTEND;TZID=Europe/Brussels:20260304T120000
DTSTAMP:20260424T164037
CREATED:20260203T141820Z
LAST-MODIFIED:20260203T141936Z
UID:10625549-1772614800-1772625600@zorggroep-orion.be
SUMMARY:Cursus kalligrafie
DESCRIPTION:Tijdens deze lessenreeks van 6 lessen leer je de\nbasisprincipes van het kalligraferen. Het materiaal dat je\nnodig hebt zit mee inbegrepen in de prijs (je moet enkel\neen onderlegger en eventueel een schort meebrengen).\nKomende lessen: 4/3\, 18/3 en 1/4. \nDe huidige lessenreeks is ondertussen volzet\, maar goed nieuws: wie interesse heeft in een volgende lessenreeks\, kan zich inschrijven bij de medewerkers van De Schoor. (014 28 40 72 of deschoor@zorggroep-orion.be)
URL:https://zorggroep-orion.be/activiteit/cursus-kalligrafie/
LOCATION:Dienstencentrum De Schoor\, Schorvoortstraat 53\, Turnhout\, 2300
CATEGORIES:Leren
ATTACH;FMTTYPE=image/jpeg:https://zorggroep-orion.be/wp-content/uploads/2023/07/act202307-Kalligrafie.jpg
END:VEVENT
BEGIN:VEVENT
DTSTART;TZID=Europe/Brussels:20260302T090000
DTEND;TZID=Europe/Brussels:20260302T110000
DTSTAMP:20260424T164037
CREATED:20260220T094003Z
LAST-MODIFIED:20260220T094003Z
UID:10626361-1772442000-1772449200@zorggroep-orion.be
SUMMARY:CURSUS GENEALOGIE @ DE WISSEL
DESCRIPTION:Tijdens deze cursus krijg je de kans om de wereld van de familiekunde stap voor stap te ontdekken. Je leert hoe je aan je eigen stamboom begint\, welke historische bronnen je moet raadplegen\, je leert oud schrift lezen en hoe je het internet gebruikt voor je onderzoek. \nElke eerste en derde maandag van de maand!  \n\nmaandag 2 maart\nmaandag 16 maart
URL:https://zorggroep-orion.be/activiteit/cursus-genealogie-de-wissel-4/
LOCATION:Dienstencentrum De Wissel\, Dokter Nand Peetersstraat 33\, Turnhout\, Antwerpen\, 2300\, Belgium
CATEGORIES:Leren
ATTACH;FMTTYPE=image/jpeg:https://zorggroep-orion.be/wp-content/uploads/2023/03/act202307-Genealogie.jpg
END:VEVENT
BEGIN:VEVENT
DTSTART;TZID=Europe/Brussels:20260302T080000
DTEND;TZID=Europe/Brussels:20260302T170000
DTSTAMP:20260424T164037
CREATED:20260203T102018Z
LAST-MODIFIED:20260203T102018Z
UID:10624115-1772438400-1772470800@zorggroep-orion.be
SUMMARY:COMPUTERWEGWIJS @ DE WISSEL
DESCRIPTION:Heb je vragen over je computer\, smartphone of tablet? Kom dan op maandagvoormiddag langs bij LDC De Wissel. \nOnze vrijwilligers staan klaar om je te helpen met je digitale vragen! \nPrijs: €2\,00 inclusief koffie
URL:https://zorggroep-orion.be/activiteit/computerwegwijs-de-wissel-2/2026-03-02/1/
LOCATION:Dienstencentrum De Wissel\, Dokter Nand Peetersstraat 33\, Turnhout\, Antwerpen\, 2300\, Belgium
CATEGORIES:Leren
ATTACH;FMTTYPE=image/png:https://zorggroep-orion.be/wp-content/uploads/2019/07/Computerwegwijs-2023.png
END:VEVENT
BEGIN:VEVENT
DTSTART;TZID=Europe/Brussels:20260216T090000
DTEND;TZID=Europe/Brussels:20260216T110000
DTSTAMP:20260424T164037
CREATED:20260203T105249Z
LAST-MODIFIED:20260203T105249Z
UID:10624313-1771232400-1771239600@zorggroep-orion.be
SUMMARY:CURSUS GENEALOGIE @ DE WISSEL
DESCRIPTION:Tijdens deze cursus krijg je de kans om de wereld van de familiekunde stap voor stap te ontdekken. Je leert hoe je aan je eigen stamboom begint\, welke historische bronnen je moet raadplegen\, je leert oud schrift lezen en hoe je het internet gebruikt voor je onderzoek. \nElke eerste en derde maandag van de maand. \nGeorganiseerd door Familiekunde Vlaanderen Regio Kempen.
URL:https://zorggroep-orion.be/activiteit/cursus-genealogie-de-wissel/
LOCATION:Dienstencentrum De Wissel\, Dokter Nand Peetersstraat 33\, Turnhout\, Antwerpen\, 2300\, Belgium
CATEGORIES:Leren
ATTACH;FMTTYPE=image/jpeg:https://zorggroep-orion.be/wp-content/uploads/2023/03/act202307-Genealogie.jpg
END:VEVENT
BEGIN:VEVENT
DTSTART;TZID=Europe/Brussels:20260211T090000
DTEND;TZID=Europe/Brussels:20260211T120000
DTSTAMP:20260424T164037
CREATED:20260113T090149Z
LAST-MODIFIED:20260113T090149Z
UID:10623217-1770800400-1770811200@zorggroep-orion.be
SUMMARY:Digidak les E-Mail
DESCRIPTION:Je leert hoe je e-mails verstuurt\, ontvangt en organiseert. Ook ontdek je hoe je bijlagen toevoegt en je mailbox overzichtelijk houdt. Na deze cursus kan je vlot e-mailen. \nLessen zijn gratis. Vooraf inschrijven is verplicht en kan\nTijdens vrije inloop (LDC De Schoor elke maandag 13u30 – 16u) – www.digidak.be/locaties\nPer mail: turnhout@digidak.be\nTelefonisch 014 41 82 18 (9u-12u)
URL:https://zorggroep-orion.be/activiteit/digidak-les-e-mail/
LOCATION:Dienstencentrum De Schoor\, Schorvoortstraat 53\, Turnhout\, 2300
CATEGORIES:Leren
ATTACH;FMTTYPE=image/png:https://zorggroep-orion.be/wp-content/uploads/2023/03/act-202305-digidak.png
END:VEVENT
BEGIN:VEVENT
DTSTART;TZID=Europe/Brussels:20260204T090000
DTEND;TZID=Europe/Brussels:20260204T120000
DTSTAMP:20260424T164037
CREATED:20260113T085912Z
LAST-MODIFIED:20260113T085912Z
UID:10623216-1770195600-1770206400@zorggroep-orion.be
SUMMARY:Digidak les internet
DESCRIPTION:Je leert veilig surfen\, websites bezoeken en informatie zoeken. Na deze cursus kan je het internet vlot gebruiken voor je dagelijkse activiteiten. \nLessen zijn gratis. Vooraf inschrijven is verplicht en kan\nTijdens vrije inloop (LDC De Schoor elke maandag 13u30 – 16u) – www.digidak.be/locaties\nPer mail: turnhout@digidak.be\nTelefonisch 014 41 82 18 (9u-12u)
URL:https://zorggroep-orion.be/activiteit/digidak-les-internet/
LOCATION:Dienstencentrum De Schoor\, Schorvoortstraat 53\, Turnhout\, 2300
CATEGORIES:Leren
ATTACH;FMTTYPE=image/png:https://zorggroep-orion.be/wp-content/uploads/2023/03/act-202305-digidak.png
END:VEVENT
BEGIN:VEVENT
DTSTART;TZID=Europe/Brussels:20260119T090000
DTEND;TZID=Europe/Brussels:20260119T110000
DTSTAMP:20260424T164037
CREATED:20251104T074150Z
LAST-MODIFIED:20260105T094655Z
UID:10619995-1768813200-1768820400@zorggroep-orion.be
SUMMARY:CURSUS GENEALOGIE @ DE WISSEL
DESCRIPTION:Tijdens deze cursus krijg je de kans om de wereld van de familiekunde stap voor stap te ontdekken. Je leert hoe je aan je eigen stamboom begint\, welke historische bronnen je moet raadplegen\, je leert oud schrift lezen en hoe je het internet gebruikt voor je onderzoek. \nElke eerste en derde maandag van de maand. \nGeorganiseerd door Familiekunde Vlaanderen Regio Kempen.
URL:https://zorggroep-orion.be/activiteit/cursus-genealogie-de-wissel-3/
LOCATION:Dienstencentrum De Wissel\, Dokter Nand Peetersstraat 33\, Turnhout\, Antwerpen\, 2300\, Belgium
CATEGORIES:Leren
ATTACH;FMTTYPE=image/jpeg:https://zorggroep-orion.be/wp-content/uploads/2023/03/act202307-Genealogie.jpg
END:VEVENT
BEGIN:VEVENT
DTSTART;TZID=Europe/Brussels:20260108T140000
DTEND;TZID=Europe/Brussels:20260108T153000
DTSTAMP:20260424T164037
CREATED:20260105T095644Z
LAST-MODIFIED:20260105T095644Z
UID:10622694-1767880800-1767886200@zorggroep-orion.be
SUMMARY:LESSENREEKS: REIS DOOR DE ENGELSE TAAL
DESCRIPTION:In 2026 starten we opnieuw met onze lessenreeks: reis door de Engelse taal met Marie-Claire. \nNieuwe deelnemers zijn meer dan welkom om aan te sluiten! \nDe les gaat door van 14u00 tot 15u30. \nPrijs: €3\,00 inclusief koffie/thee
URL:https://zorggroep-orion.be/activiteit/lessenreeks-reis-door-de-engelse-taal/
LOCATION:Dienstencentrum De Wissel\, Dokter Nand Peetersstraat 33\, Turnhout\, Antwerpen\, 2300\, Belgium
CATEGORIES:Leren
ATTACH;FMTTYPE=image/jpeg:https://zorggroep-orion.be/wp-content/uploads/2023/08/act-202309-Engelse-conversatie.jpg
END:VEVENT
BEGIN:VEVENT
DTSTART;TZID=Europe/Brussels:20260105T090000
DTEND;TZID=Europe/Brussels:20260105T110000
DTSTAMP:20260424T164037
CREATED:20250515T072449Z
LAST-MODIFIED:20260105T094617Z
UID:10618358-1767603600-1767610800@zorggroep-orion.be
SUMMARY:CURSUS GENEALOGIE @ DE WISSEL
DESCRIPTION:Tijdens deze cursus krijg je de kans om de wereld van de familiekunde stap voor stap te ontdekken. Je leert hoe je aan je eigen stamboom begint\, welke historische bronnen je moet raadplegen\, je leert oud schrift lezen en hoe je het internet gebruikt voor je onderzoek. \nElke eerste en derde maandag van de maand. \nGeorganiseerd door Familiekunde Vlaanderen Regio Kempen.
URL:https://zorggroep-orion.be/activiteit/cursus-genealogie-de-wissel-2/
LOCATION:Dienstencentrum De Wissel\, Dokter Nand Peetersstraat 33\, Turnhout\, Antwerpen\, 2300\, Belgium
CATEGORIES:Leren
ATTACH;FMTTYPE=image/jpeg:https://zorggroep-orion.be/wp-content/uploads/2023/03/act202307-Genealogie.jpg
END:VEVENT
BEGIN:VEVENT
DTSTART;TZID=Europe/Brussels:20250911T140000
DTEND;TZID=Europe/Brussels:20250911T153000
DTSTAMP:20260424T164037
CREATED:20250901T092607Z
LAST-MODIFIED:20250901T092607Z
UID:10619736-1757599200-1757604600@zorggroep-orion.be
SUMMARY:ENGELSE CONVERSATIE @ DE WISSEL
DESCRIPTION:Op donderdag 11 september start opnieuw de Engelse les met Marie-Claire. Iedereen welkom iedere donderdag van 14u00 tot en met 15u30. \nPraktisch: \n\nSchrijf je in via De Wissel: 014 28 40 71 of dewissel@zorggroep-orion.be\nPrijs: €30\,00 voor 10 lessen (inclusief koffie/thee)
URL:https://zorggroep-orion.be/activiteit/engelse-conversatie-de-wissel/
LOCATION:Dienstencentrum De Wissel\, Dokter Nand Peetersstraat 33\, Turnhout\, Antwerpen\, 2300\, Belgium
CATEGORIES:Leren
ATTACH;FMTTYPE=image/jpeg:https://zorggroep-orion.be/wp-content/uploads/2023/08/act-202309-Engelse-conversatie.jpg
END:VEVENT
BEGIN:VEVENT
DTSTART;TZID=Europe/Brussels:20250129T093000
DTEND;TZID=Europe/Brussels:20250129T120000
DTSTAMP:20260424T164037
CREATED:20240215T125722Z
LAST-MODIFIED:20250820T115123Z
UID:10608551-1738143000-1738152000@zorggroep-orion.be
SUMMARY:Cursus kalligrafie
DESCRIPTION:Tijdens deze lessenreeks van 6 lessen leer je de\nbasisprincipes van het kalligraferen. Het materiaal dat je\nnodig hebt zit mee inbegrepen in de prijs (je moet enkel\neen onderlegger en eventueel een schort meebrengen).\nLessen: 17/9\, 1/10\, 15/10\, 29/10\, 12/11 en 26/11.
URL:https://zorggroep-orion.be/activiteit/cursus-kalligrafie-7/
LOCATION:Dienstencentrum De Schoor\, Schorvoortstraat 53\, Turnhout\, 2300
CATEGORIES:Leren
ATTACH;FMTTYPE=image/jpeg:https://zorggroep-orion.be/wp-content/uploads/2023/07/act202307-Kalligrafie.jpg
END:VEVENT
BEGIN:VEVENT
DTSTART;TZID=Europe/Brussels:20250109T140000
DTEND;TZID=Europe/Brussels:20250109T153000
DTSTAMP:20260424T164037
CREATED:20231205T095115Z
LAST-MODIFIED:20241224T091109Z
UID:10607583-1736431200-1736436600@zorggroep-orion.be
SUMMARY:Reis door de Engelse taal met Marie-Claire
DESCRIPTION:Je kan weer inschrijven voor de lessenreeks: reis door de Engelse taal met Marie-Claire. \nVerrijking van je woordenschat en spraakkunst. Aangevuld met wat prettige verhalen\, geschiedenis en aardrijkskunde. \nIedereen is welkom van 14u00 – 15u30 iedere donderdag. \nNiet aarzelen\, gewoon doen! \nPraktisch: \n\nSchrijf je in via De Wissel: 014 28 40 71 of dewissel@zorggroep-orion.be\nPrijs: €10\,00 voor 10 lessen
URL:https://zorggroep-orion.be/activiteit/engelse-conversatie-huis-tuin-en-keuken-engels-2/
LOCATION:Dienstencentrum De Wissel\, Dokter Nand Peetersstraat 33\, Turnhout\, Antwerpen\, 2300\, Belgium
CATEGORIES:Leren
ATTACH;FMTTYPE=image/jpeg:https://zorggroep-orion.be/wp-content/uploads/2023/08/act-202309-Engelse-conversatie.jpg
END:VEVENT
BEGIN:VEVENT
DTSTART;TZID=Europe/Brussels:20240913T090000
DTEND;TZID=Europe/Brussels:20240913T100000
DTSTAMP:20260424T164037
CREATED:20240819T133054Z
LAST-MODIFIED:20240819T133054Z
UID:10610699-1726218000-1726221600@zorggroep-orion.be
SUMMARY:Italiaans voor beginners
DESCRIPTION:Heb je altijd al Italiaans willen leren? Dit is je kans! \nWe starten in september weer met een nieuwe reeks van onze lessen Italiaans voor beginners. Of je nu van plan bent om op vakantie te gaan naar het prachtige Italië\, je Italiaanse roots wilt verkennen\, of gewoon een nieuwe taal wilt leren – deze cursus is de perfecte start. \nPraktisch: \n\nInschrijven kan vanaf maandag 26 juli 2024\nSchrijf je in via De Wissel: 014 28 40 71 of dewissel@zorggroep-orion.be\n€10\,00 voor 10 lessen
URL:https://zorggroep-orion.be/activiteit/italiaans-voor-beginners/
LOCATION:Dienstencentrum De Wissel\, Dokter Nand Peetersstraat 33\, Turnhout\, Antwerpen\, 2300\, Belgium
CATEGORIES:Leren
ATTACH;FMTTYPE=image/jpeg:https://zorggroep-orion.be/wp-content/uploads/2023/08/act-202309-Italiaans.jpg
END:VEVENT
BEGIN:VEVENT
DTSTART;TZID=Europe/Brussels:20240313T093000
DTEND;TZID=Europe/Brussels:20240313T120000
DTSTAMP:20260424T164037
CREATED:20230725T123335Z
LAST-MODIFIED:20240215T125639Z
UID:10602171-1710322200-1710331200@zorggroep-orion.be
SUMMARY:Cursus kalligrafie
DESCRIPTION:Tijdens deze lessenreeks van 6 lessen leer je de basisprincipes van het kalligraferen. Het materiaal dat je nodig hebt zit mee inbegrepen in de prijs (je moet enkel een onderlegger en eventueel een schort meebrengen). \nLessen: 17/1\, 31/1\, 14/2\, 28/2\, 13/3 en 27/3. \nMomenteel is de cursus volzet\, maar je kan je op de lijst zetten voor een volgende keer.
URL:https://zorggroep-orion.be/activiteit/cursus-kalligrafie-6-2/
LOCATION:Dienstencentrum De Schoor\, Schorvoortstraat 53\, Turnhout\, 2300
CATEGORIES:Leren
ATTACH;FMTTYPE=image/jpeg:https://zorggroep-orion.be/wp-content/uploads/2023/07/act202307-Kalligrafie.jpg
END:VEVENT
BEGIN:VEVENT
DTSTART;TZID=Europe/Brussels:20240313T083000
DTEND;TZID=Europe/Brussels:20240313T100000
DTSTAMP:20260424T164037
CREATED:20231213T075232Z
LAST-MODIFIED:20231222T095257Z
UID:10607900-1710318600-1710324000@zorggroep-orion.be
SUMMARY:Spaans beginners
DESCRIPTION:Heb je een passie voor Spanje\, maar beheers je de taal nog niet? Geen zorgen\, want bij ons ben je van harte welkom om jezelf onder te dompelen in de kunst van het Spaans tijdens onze boeiende Spaanse lessen! \nDe lessen starten vanaf woensdag 10 januari wekelijks\, uitgezonderd schoolvakanties en vakantiemomenten van de lesgever. \nPrijs: €10\,00 voor 10 lessen (gelieve vooraf in te schrijven).
URL:https://zorggroep-orion.be/activiteit/spaans-beginners-3/2024-03-13/
LOCATION:Dienstencentrum De Wissel\, Dokter Nand Peetersstraat 33\, Turnhout\, Antwerpen\, 2300\, Belgium
CATEGORIES:Leren
ATTACH;FMTTYPE=image/jpeg:https://zorggroep-orion.be/wp-content/uploads/2023/08/act-spaans-092023.jpg
END:VEVENT
BEGIN:VEVENT
DTSTART;TZID=Europe/Brussels:20240228T101500
DTEND;TZID=Europe/Brussels:20240228T113000
DTSTAMP:20260424T164037
CREATED:20231213T074808Z
LAST-MODIFIED:20231213T075029Z
UID:10607891-1709115300-1709119800@zorggroep-orion.be
SUMMARY:Spaans gevorderden
DESCRIPTION:Ben je al een beetje bekend met Spaanse woorden en zinnen? Als je al een lessenreeks hebt afgerond\, dan ben je helemaal klaar om je aan te sluiten bij de ‘Gevorderden’ groep. Hier leggen we de nadruk op conversaties in het Spaans. \nDe lessen starten vanaf woensdag 13 december wekelijks\, uitgezonderd schoolvakanties en vakantiemomenten van de lesgever. \nPrijs: €10\,00 voor 10 lessen (gelieve vooraf in te schrijven).
URL:https://zorggroep-orion.be/activiteit/spaans-gevorderden-3/2024-02-28/
LOCATION:Dienstencentrum De Wissel\, Dokter Nand Peetersstraat 33\, Turnhout\, Antwerpen\, 2300\, Belgium
CATEGORIES:Leren
ATTACH;FMTTYPE=image/jpeg:https://zorggroep-orion.be/wp-content/uploads/2023/08/act-spaans-092023.jpg
END:VEVENT
BEGIN:VEVENT
DTSTART;TZID=Europe/Brussels:20231227T000000
DTEND;TZID=Europe/Brussels:20231227T000000
DTSTAMP:20260424T164037
CREATED:20231227T094437Z
LAST-MODIFIED:20231227T094437Z
UID:10608441-1703635200-1703635200@zorggroep-orion.be
SUMMARY:Cursus kalligrafie #2
DESCRIPTION:Tijdens deze lessenreeks van 6 lessen leer je de basisprincipes van het kalligraferen. Het materiaal dat je nodig hebt zit mee inbegrepen in de prijs (je moet enkel een onderlegger en eventueel een schort meebrengen). \nLessen: 17/1\, 31/1\, 14/2\, 28/2\, 13/3\, 27/3.
URL:https://zorggroep-orion.be/activiteit/cursus-kalligrafie-6/
LOCATION:Antwerpen
CATEGORIES:Leren
ATTACH;FMTTYPE=image/jpeg:https://zorggroep-orion.be/wp-content/uploads/2023/07/act202307-Kalligrafie.jpg
END:VEVENT
END:VCALENDAR