BEGIN:VCALENDAR
VERSION:2.0
PRODID:-//Zorggroep Orion - ECPv6.15.17.1//NONSGML v1.0//EN
CALSCALE:GREGORIAN
METHOD:PUBLISH
X-WR-CALNAME:Zorggroep Orion
X-ORIGINAL-URL:https://zorggroep-orion.be
X-WR-CALDESC:Evenementen voor Zorggroep Orion
REFRESH-INTERVAL;VALUE=DURATION:PT1H
X-Robots-Tag:noindex
X-PUBLISHED-TTL:PT1H
BEGIN:VTIMEZONE
TZID:Europe/Brussels
BEGIN:DAYLIGHT
TZOFFSETFROM:+0100
TZOFFSETTO:+0200
TZNAME:CEST
DTSTART:20220327T010000
END:DAYLIGHT
BEGIN:STANDARD
TZOFFSETFROM:+0200
TZOFFSETTO:+0100
TZNAME:CET
DTSTART:20221030T010000
END:STANDARD
BEGIN:DAYLIGHT
TZOFFSETFROM:+0100
TZOFFSETTO:+0200
TZNAME:CEST
DTSTART:20230326T010000
END:DAYLIGHT
BEGIN:STANDARD
TZOFFSETFROM:+0200
TZOFFSETTO:+0100
TZNAME:CET
DTSTART:20231029T010000
END:STANDARD
BEGIN:DAYLIGHT
TZOFFSETFROM:+0100
TZOFFSETTO:+0200
TZNAME:CEST
DTSTART:20240331T010000
END:DAYLIGHT
BEGIN:STANDARD
TZOFFSETFROM:+0200
TZOFFSETTO:+0100
TZNAME:CET
DTSTART:20241027T010000
END:STANDARD
BEGIN:DAYLIGHT
TZOFFSETFROM:+0100
TZOFFSETTO:+0200
TZNAME:CEST
DTSTART:20250330T010000
END:DAYLIGHT
BEGIN:STANDARD
TZOFFSETFROM:+0200
TZOFFSETTO:+0100
TZNAME:CET
DTSTART:20251026T010000
END:STANDARD
END:VTIMEZONE
BEGIN:VEVENT
DTSTART;TZID=Europe/Brussels:20240913T090000
DTEND;TZID=Europe/Brussels:20240913T100000
DTSTAMP:20260424T230447
CREATED:20240819T133054Z
LAST-MODIFIED:20240819T133054Z
UID:10610699-1726218000-1726221600@zorggroep-orion.be
SUMMARY:Italiaans voor beginners
DESCRIPTION:Heb je altijd al Italiaans willen leren? Dit is je kans! \nWe starten in september weer met een nieuwe reeks van onze lessen Italiaans voor beginners. Of je nu van plan bent om op vakantie te gaan naar het prachtige Italië\, je Italiaanse roots wilt verkennen\, of gewoon een nieuwe taal wilt leren – deze cursus is de perfecte start. \nPraktisch: \n\nInschrijven kan vanaf maandag 26 juli 2024\nSchrijf je in via De Wissel: 014 28 40 71 of dewissel@zorggroep-orion.be\n€10\,00 voor 10 lessen
URL:https://zorggroep-orion.be/activiteit/italiaans-voor-beginners/
LOCATION:Dienstencentrum De Wissel\, Dokter Nand Peetersstraat 33\, Turnhout\, Antwerpen\, 2300\, Belgium
CATEGORIES:Leren
ATTACH;FMTTYPE=image/jpeg:https://zorggroep-orion.be/wp-content/uploads/2023/08/act-202309-Italiaans.jpg
END:VEVENT
BEGIN:VEVENT
DTSTART;TZID=Europe/Brussels:20240313T093000
DTEND;TZID=Europe/Brussels:20240313T120000
DTSTAMP:20260424T230447
CREATED:20230725T123335Z
LAST-MODIFIED:20240215T125639Z
UID:10602171-1710322200-1710331200@zorggroep-orion.be
SUMMARY:Cursus kalligrafie
DESCRIPTION:Tijdens deze lessenreeks van 6 lessen leer je de basisprincipes van het kalligraferen. Het materiaal dat je nodig hebt zit mee inbegrepen in de prijs (je moet enkel een onderlegger en eventueel een schort meebrengen). \nLessen: 17/1\, 31/1\, 14/2\, 28/2\, 13/3 en 27/3. \nMomenteel is de cursus volzet\, maar je kan je op de lijst zetten voor een volgende keer.
URL:https://zorggroep-orion.be/activiteit/cursus-kalligrafie-6-2/
LOCATION:Dienstencentrum De Schoor\, Schorvoortstraat 53\, Turnhout\, 2300
CATEGORIES:Leren
ATTACH;FMTTYPE=image/jpeg:https://zorggroep-orion.be/wp-content/uploads/2023/07/act202307-Kalligrafie.jpg
END:VEVENT
BEGIN:VEVENT
DTSTART;TZID=Europe/Brussels:20240313T083000
DTEND;TZID=Europe/Brussels:20240313T100000
DTSTAMP:20260424T230447
CREATED:20231213T075232Z
LAST-MODIFIED:20231222T095257Z
UID:10607900-1710318600-1710324000@zorggroep-orion.be
SUMMARY:Spaans beginners
DESCRIPTION:Heb je een passie voor Spanje\, maar beheers je de taal nog niet? Geen zorgen\, want bij ons ben je van harte welkom om jezelf onder te dompelen in de kunst van het Spaans tijdens onze boeiende Spaanse lessen! \nDe lessen starten vanaf woensdag 10 januari wekelijks\, uitgezonderd schoolvakanties en vakantiemomenten van de lesgever. \nPrijs: €10\,00 voor 10 lessen (gelieve vooraf in te schrijven).
URL:https://zorggroep-orion.be/activiteit/spaans-beginners-3/2024-03-13/
LOCATION:Dienstencentrum De Wissel\, Dokter Nand Peetersstraat 33\, Turnhout\, Antwerpen\, 2300\, Belgium
CATEGORIES:Leren
ATTACH;FMTTYPE=image/jpeg:https://zorggroep-orion.be/wp-content/uploads/2023/08/act-spaans-092023.jpg
END:VEVENT
BEGIN:VEVENT
DTSTART;TZID=Europe/Brussels:20240228T101500
DTEND;TZID=Europe/Brussels:20240228T113000
DTSTAMP:20260424T230447
CREATED:20231213T074808Z
LAST-MODIFIED:20231213T075029Z
UID:10607891-1709115300-1709119800@zorggroep-orion.be
SUMMARY:Spaans gevorderden
DESCRIPTION:Ben je al een beetje bekend met Spaanse woorden en zinnen? Als je al een lessenreeks hebt afgerond\, dan ben je helemaal klaar om je aan te sluiten bij de ‘Gevorderden’ groep. Hier leggen we de nadruk op conversaties in het Spaans. \nDe lessen starten vanaf woensdag 13 december wekelijks\, uitgezonderd schoolvakanties en vakantiemomenten van de lesgever. \nPrijs: €10\,00 voor 10 lessen (gelieve vooraf in te schrijven).
URL:https://zorggroep-orion.be/activiteit/spaans-gevorderden-3/2024-02-28/
LOCATION:Dienstencentrum De Wissel\, Dokter Nand Peetersstraat 33\, Turnhout\, Antwerpen\, 2300\, Belgium
CATEGORIES:Leren
ATTACH;FMTTYPE=image/jpeg:https://zorggroep-orion.be/wp-content/uploads/2023/08/act-spaans-092023.jpg
END:VEVENT
BEGIN:VEVENT
DTSTART;TZID=Europe/Brussels:20231227T000000
DTEND;TZID=Europe/Brussels:20231227T000000
DTSTAMP:20260424T230447
CREATED:20231227T094437Z
LAST-MODIFIED:20231227T094437Z
UID:10608441-1703635200-1703635200@zorggroep-orion.be
SUMMARY:Cursus kalligrafie #2
DESCRIPTION:Tijdens deze lessenreeks van 6 lessen leer je de basisprincipes van het kalligraferen. Het materiaal dat je nodig hebt zit mee inbegrepen in de prijs (je moet enkel een onderlegger en eventueel een schort meebrengen). \nLessen: 17/1\, 31/1\, 14/2\, 28/2\, 13/3\, 27/3.
URL:https://zorggroep-orion.be/activiteit/cursus-kalligrafie-6/
LOCATION:Antwerpen
CATEGORIES:Leren
ATTACH;FMTTYPE=image/jpeg:https://zorggroep-orion.be/wp-content/uploads/2023/07/act202307-Kalligrafie.jpg
END:VEVENT
END:VCALENDAR