BEGIN:VCALENDAR
VERSION:2.0
PRODID:-//Zorggroep Orion - ECPv6.15.17.1//NONSGML v1.0//EN
CALSCALE:GREGORIAN
METHOD:PUBLISH
X-WR-CALNAME:Zorggroep Orion
X-ORIGINAL-URL:https://zorggroep-orion.be
X-WR-CALDESC:Evenementen voor Zorggroep Orion
REFRESH-INTERVAL;VALUE=DURATION:PT1H
X-Robots-Tag:noindex
X-PUBLISHED-TTL:PT1H
BEGIN:VTIMEZONE
TZID:Europe/Brussels
BEGIN:DAYLIGHT
TZOFFSETFROM:+0100
TZOFFSETTO:+0200
TZNAME:CEST
DTSTART:20240331T010000
END:DAYLIGHT
BEGIN:STANDARD
TZOFFSETFROM:+0200
TZOFFSETTO:+0100
TZNAME:CET
DTSTART:20241027T010000
END:STANDARD
BEGIN:DAYLIGHT
TZOFFSETFROM:+0100
TZOFFSETTO:+0200
TZNAME:CEST
DTSTART:20250330T010000
END:DAYLIGHT
BEGIN:STANDARD
TZOFFSETFROM:+0200
TZOFFSETTO:+0100
TZNAME:CET
DTSTART:20251026T010000
END:STANDARD
BEGIN:DAYLIGHT
TZOFFSETFROM:+0100
TZOFFSETTO:+0200
TZNAME:CEST
DTSTART:20260329T010000
END:DAYLIGHT
BEGIN:STANDARD
TZOFFSETFROM:+0200
TZOFFSETTO:+0100
TZNAME:CET
DTSTART:20261025T010000
END:STANDARD
BEGIN:DAYLIGHT
TZOFFSETFROM:+0100
TZOFFSETTO:+0200
TZNAME:CEST
DTSTART:20270328T010000
END:DAYLIGHT
BEGIN:STANDARD
TZOFFSETFROM:+0200
TZOFFSETTO:+0100
TZNAME:CET
DTSTART:20271031T010000
END:STANDARD
END:VTIMEZONE
BEGIN:VEVENT
DTSTART;TZID=Europe/Brussels:20260420T190000
DTEND;TZID=Europe/Brussels:20260420T220000
DTSTAMP:20260424T184229
CREATED:20260311T150808Z
LAST-MODIFIED:20260311T151041Z
UID:10626595-1776711600-1776722400@zorggroep-orion.be
SUMMARY:Film musical The pirate Queen
DESCRIPTION:Rebecca\, medewerker van De Schoor\, speelde vorig jaar mee in de indrukwekkende musical The Pirate Queen van Stichting NoNonsense. Deze productie is gebaseerd op het leven van de Ierse piratenkoningin Grace O’Malley. \nHet verhaal over de strijd tussen de Ierse piraten en de Engelse koningin Elizabeth I vormde het decor voor een voorstelling vol prachtige zang\, energieke Ierse dans en indrukwekkend wapengekletter. Met een enorm gedreven en enthousiaste cast wist Stichting NoNonsense het publiek mee te nemen naar het Ierland van de 16e eeuw. \nBenieuwd hoe Rebecca het ervan afbrengt op het scherm? Kom dan zeker kijken!
URL:https://zorggroep-orion.be/activiteit/film-musical-the-pirate-queen/
LOCATION:Dienstencentrum De Schoor\, Schorvoortstraat 53\, Turnhout\, 2300
CATEGORIES:Muziek
ATTACH;FMTTYPE=image/png:https://zorggroep-orion.be/wp-content/uploads/2026/03/ChatGPT-Image-5-mrt-2026-09_46_21-e1773241828167.png
END:VEVENT
BEGIN:VEVENT
DTSTART;TZID=Europe/Brussels:20260414T140000
DTEND;TZID=Europe/Brussels:20260414T160000
DTSTAMP:20260424T184229
CREATED:20260311T144816Z
LAST-MODIFIED:20260311T145345Z
UID:10626594-1776175200-1776182400@zorggroep-orion.be
SUMMARY:Kinderkaroké
DESCRIPTION:Kom meezingen met de leukste liedjes van Studio 100\, #LikeMe\, Disney en nog veel meer! Alle kinderen zijn welkom om hun favoriete nummers te zingen en plezier te maken. Papa’s\, mama’s\, oma’s en opa’s: kom gezellig mee supporteren\, meezingen mag natuurlijk ook! \nIedereen welkom voor een vrolijke namiddag vol muziek en plezier!
URL:https://zorggroep-orion.be/activiteit/kinderkaroke/
LOCATION:Dienstencentrum De Schoor\, Schorvoortstraat 53\, Turnhout\, 2300
CATEGORIES:Muziek
ATTACH;FMTTYPE=image/png:https://zorggroep-orion.be/wp-content/uploads/2026/03/Schermafbeelding-2026-03-11-153019.png
END:VEVENT
BEGIN:VEVENT
DTSTART;TZID=Europe/Brussels:20260413T190000
DTEND;TZID=Europe/Brussels:20260413T210000
DTSTAMP:20260424T184229
CREATED:20260311T142615Z
LAST-MODIFIED:20260311T142615Z
UID:10626591-1776106800-1776114000@zorggroep-orion.be
SUMMARY:Genieten van een luistermoment in stilte
DESCRIPTION:Het vocaal ensemble CANTAT komt repeteren in De Schoor. \nLuisteraars zijn welkom\, ons Café is open. \nGRATIS
URL:https://zorggroep-orion.be/activiteit/genieten-van-een-luistermoment-in-stilte-5/
LOCATION:Dienstencentrum De Schoor\, Schorvoortstraat 53\, Turnhout\, 2300
CATEGORIES:Muziek
ATTACH;FMTTYPE=image/png:https://zorggroep-orion.be/wp-content/uploads/2023/03/act-202306-cantat.png
END:VEVENT
BEGIN:VEVENT
DTSTART;TZID=Europe/Brussels:20260412T140000
DTEND;TZID=Europe/Brussels:20260412T163000
DTSTAMP:20260424T184229
CREATED:20260311T142237Z
LAST-MODIFIED:20260311T142237Z
UID:10626589-1776002400-1776011400@zorggroep-orion.be
SUMMARY:Meezingen met Jos
DESCRIPTION:Zin in een gezellige namiddag vol live muziek? \nDan ben je bij Jos Truyens aan het juiste adres! \nMet zijn warme stem en jarenlange podiumervaring zorgt hij voor een sfeervol optreden vol ambiance. Van mooie oldies en Nederlandstalige klassiekers tot tijdloze internationale hits: herkenbare muziek om van te genieten\, mee te zingen en zelfs een dansje te wagen. \nEen namiddag vol muziek\, gezelligheid en plezier voor jong en minder jong. \nIEDEREEN WELKOM!
URL:https://zorggroep-orion.be/activiteit/meezingen-met-jos/
LOCATION:Dienstencentrum De Schoor\, Schorvoortstraat 53\, Turnhout\, 2300
CATEGORIES:Muziek
ATTACH;FMTTYPE=image/png:https://zorggroep-orion.be/wp-content/uploads/2026/03/Schermafbeelding-2026-03-11-152211.png
END:VEVENT
BEGIN:VEVENT
DTSTART;TZID=Europe/Brussels:20260410T133000
DTEND;TZID=Europe/Brussels:20260410T153000
DTSTAMP:20260424T184229
CREATED:20260327T101801Z
LAST-MODIFIED:20260327T101801Z
UID:10626767-1775827800-1775835000@zorggroep-orion.be
SUMMARY:DJ EDDY @ DE WISSEL
DESCRIPTION:Hou je van muziek\, luisteren in goed gezelschap\, je amuseren op de tonen van  Will Tura\, Frank Sinatra\, Elvis\, … en nog zoveel meer? Kom dan zeker langs! Heb je een verzoeknummer?  U vraagt\, Eddy draait ! \nEddy zal elke 2de vrijdag van de maand zijn DJ talenten komen tonen in De Wissel. \nIedereen is welkom!
URL:https://zorggroep-orion.be/activiteit/dj-eddy-de-wissel-4/
LOCATION:Dienstencentrum De Wissel\, Dokter Nand Peetersstraat 33\, Turnhout\, Antwerpen\, 2300\, Belgium
CATEGORIES:Muziek
ATTACH;FMTTYPE=image/jpeg:https://zorggroep-orion.be/wp-content/uploads/2025/02/DJ-Eddy-2025.jpg
END:VEVENT
BEGIN:VEVENT
DTSTART;TZID=Europe/Brussels:20260409T133000
DTEND;TZID=Europe/Brussels:20260409T170000
DTSTAMP:20260424T184229
CREATED:20260311T141858Z
LAST-MODIFIED:20260312T092515Z
UID:10626588-1775741400-1775754000@zorggroep-orion.be
SUMMARY:Muziek- en dansnamiddag met DJ Staf
DESCRIPTION:DJ Staf komt ons elke tweede donderdag van de maand verwennen met de leukste plaatjes. Hij draait verschillende klassiekers\, maar je kan ook altijd liedjes aanvragen. \nIEDEREEN WEKOM! \nBrusselse wafels verkrijgbaar aan €2/st
URL:https://zorggroep-orion.be/activiteit/muziek-en-dansnamiddag-met-dj-staf-2/
LOCATION:Dienstencentrum De Schoor\, Schorvoortstraat 53\, Turnhout\, 2300
CATEGORIES:Muziek
ATTACH;FMTTYPE=image/png:https://zorggroep-orion.be/wp-content/uploads/2024/08/act202411-dans-en-muzieknamiddag-dj-staf.png
END:VEVENT
BEGIN:VEVENT
DTSTART;TZID=Europe/Brussels:20260408T140000
DTEND;TZID=Europe/Brussels:20260408T170000
DTSTAMP:20260424T184229
CREATED:20260317T134713Z
LAST-MODIFIED:20260327T095712Z
UID:10626760-1775656800-1775667600@zorggroep-orion.be
SUMMARY:Oldiesnamiddag met Guy @ DE WISSEL
DESCRIPTION:Hou je van muziek\, luisteren in goed gezelschap en oude plaatjes? Kom dan zeker langs op onze Oldiesnamiddag (vlak na het paasmenu)! \nGuy draait met veel plezier jouw favoriete oude plaatjes. \nBen je niet ingeschreven voor het paasmenu\, maar kom je wel graag genieten van muziek?\nDat kan! Iedereen is welkom!
URL:https://zorggroep-orion.be/activiteit/oldiesnamiddag-met-guy-de-wissel/
LOCATION:Dienstencentrum De Wissel\, Dokter Nand Peetersstraat 33\, Turnhout\, Antwerpen\, 2300\, Belgium
CATEGORIES:Muziek
ATTACH;FMTTYPE=image/jpeg:https://zorggroep-orion.be/wp-content/uploads/2025/02/DJ-Eddy-2025.jpg
END:VEVENT
BEGIN:VEVENT
DTSTART;TZID=Europe/Brussels:20260330T190000
DTEND;TZID=Europe/Brussels:20260330T210000
DTSTAMP:20260424T184229
CREATED:20260205T134059Z
LAST-MODIFIED:20260205T134059Z
UID:10626261-1774897200-1774904400@zorggroep-orion.be
SUMMARY:Genieten van een luistermoment in stilte
DESCRIPTION:Het vocaal ensemble CANTAT komt repeteren in De Schoor. \nLuisteraars zijn welkom\, ons Café is open. \nGRATIS
URL:https://zorggroep-orion.be/activiteit/genieten-van-een-luistermoment-in-stilte-4/
LOCATION:Dienstencentrum De Schoor\, Schorvoortstraat 53\, Turnhout\, 2300
CATEGORIES:Muziek
ATTACH;FMTTYPE=image/png:https://zorggroep-orion.be/wp-content/uploads/2023/03/act-202306-cantat.png
END:VEVENT
BEGIN:VEVENT
DTSTART;TZID=Europe/Brussels:20260329T140000
DTEND;TZID=Europe/Brussels:20260329T160000
DTSTAMP:20260424T184229
CREATED:20260205T133907Z
LAST-MODIFIED:20260216T134321Z
UID:10626259-1774792800-1774800000@zorggroep-orion.be
SUMMARY:Muzieknamiddag met Dany
DESCRIPTION:Zin in een gezellige namiddag vol live muziek? \nDan ben je bij Dany\, zanger uit Pulderbos\, helemaal aan het juiste adres! \nHij brengt met veel enthousiasme en ervaring een sfeervol optreden\, Danny’s repertoire is lekker veelzijdig: van oldies en Nederlandstalige klassiekers tot tijdloze hits uit verschillende genres. Verwacht muziek van o.a. Elvis Presley\, Will Tura\, Nat King Cole\, Jim Reeves\, Dean Martin en Engelbert Humperdinck – en nog zoveel meer! \nMeezingen en dansen? Zeker toegestaan! \nEen warme stem\, herkenbare nummers en een fijne sfeer gegarandeerd. Mis deze muzikale namiddag niet en laat je meevoeren door de mooiste melodieën! \nIEDEREEN WELKOM!
URL:https://zorggroep-orion.be/activiteit/muzieknamiddag-met-dany/
LOCATION:Dienstencentrum De Schoor\, Schorvoortstraat 53\, Turnhout\, 2300
CATEGORIES:Muziek
ATTACH;FMTTYPE=image/png:https://zorggroep-orion.be/wp-content/uploads/2026/02/Schermafbeelding-2026-02-05-143837.png
END:VEVENT
BEGIN:VEVENT
DTSTART;TZID=Europe/Brussels:20260325T140000
DTEND;TZID=Europe/Brussels:20260325T163000
DTSTAMP:20260424T184229
CREATED:20260205T132637Z
LAST-MODIFIED:20260205T132637Z
UID:10626257-1774447200-1774456200@zorggroep-orion.be
SUMMARY:Sing Along door Cantat
DESCRIPTION:Kom jij mee zingen met heel wat echte klassiekers? Van Clouseau tot The Beatles tot Marco Borsato en nog veel meer. We maken er een gezellige namiddag van. Je krijgt een bundeltje met daarin alle nummers\, Cantat zal de muziek begeleiden.
URL:https://zorggroep-orion.be/activiteit/sing-along-door-cantat-2/
LOCATION:Dienstencentrum De Schoor\, Schorvoortstraat 53\, Turnhout\, 2300
CATEGORIES:Muziek
ATTACH;FMTTYPE=image/png:https://zorggroep-orion.be/wp-content/uploads/2023/09/CANTAT.png
END:VEVENT
BEGIN:VEVENT
DTSTART;TZID=Europe/Brussels:20260325T133000
DTEND;TZID=Europe/Brussels:20260325T163000
DTSTAMP:20260424T184229
CREATED:20260220T100514Z
LAST-MODIFIED:20260220T101041Z
UID:10626371-1774445400-1774456200@zorggroep-orion.be
SUMMARY:Karaoke met Guy@ De Wissel
DESCRIPTION:Zin om je zangtalent te laten horen of zin je liever gezellig mee vanop je stoel? \nKom dan op woensdag 25 maart naar de cafetaria van De Wissel voor een namiddag vol muziek en plezier!\nOf je nu een echt podiumbeest bent of gewoon komt genieten van de fijne sfeer en bekende meezingers: iedereen is welkom!
URL:https://zorggroep-orion.be/activiteit/karaoke-met-guy-de-wissel/
LOCATION:Dienstencentrum De Wissel\, Dokter Nand Peetersstraat 33\, Turnhout\, Antwerpen\, 2300\, Belgium
CATEGORIES:Muziek
ATTACH;FMTTYPE=image/jpeg:https://zorggroep-orion.be/wp-content/uploads/2026/02/guy.jpeg
END:VEVENT
BEGIN:VEVENT
DTSTART;TZID=Europe/Brussels:20260319T140000
DTEND;TZID=Europe/Brussels:20260319T170000
DTSTAMP:20260424T184229
CREATED:20260211T111146Z
LAST-MODIFIED:20260310T202014Z
UID:10626269-1773928800-1773939600@zorggroep-orion.be
SUMMARY:VADERDAGBAL MET HERMAN EN EDDY @ Albert
DESCRIPTION:Ter gelegenheid van Vaderdag organiseren we een sfeervol vaderdagbal. \nBezoekers en bewoners kunnen genieten van de gezellige ambiance waar Herman en Eddy voor zorgen. Dit met hun keyboard\, drum en …. zij kunnen zingen als een nachtegaal. \nLekker hapje aan democratische prijs en fijne muziek. Een ideale gelegenheid om vaders te verwennen en samen een mooie dag te beleven. \nHartelijk welkom! Gratis inkom.
URL:https://zorggroep-orion.be/activiteit/vaderdagbal-albert/
LOCATION:Dienstencentrum Albert Van Dyck\, Albert Van Dyckstraat 10\, Turnhout\, Antwerpen\, 2300\, Belgium
CATEGORIES:Feest,Muziek
ATTACH;FMTTYPE=image/jpeg:https://zorggroep-orion.be/wp-content/uploads/2026/02/VADERDAG-MAART-2026-LDC-AVD-.jpg
END:VEVENT
BEGIN:VEVENT
DTSTART;TZID=Europe/Brussels:20260313T133000
DTEND;TZID=Europe/Brussels:20260313T153000
DTSTAMP:20260424T184229
CREATED:20260220T095128Z
LAST-MODIFIED:20260220T095128Z
UID:10626368-1773408600-1773415800@zorggroep-orion.be
SUMMARY:DJ EDDY @ DE WISSEL
DESCRIPTION:Hou je van muziek\, luisteren in goed gezelschap\, je amuseren op de tonen van  Will Tura\, Frank Sinatra\, Elvis\, … en nog zoveel meer? Kom dan zeker langs! Heb je een verzoeknummer?  U vraagt\, Eddy draait ! \nEddy zal elke 2de vrijdag van de maand zijn DJ talenten komen tonen in De Wissel. \nIedereen is welkom!
URL:https://zorggroep-orion.be/activiteit/dj-eddy-de-wissel-3/
LOCATION:Dienstencentrum De Wissel\, Dokter Nand Peetersstraat 33\, Turnhout\, Antwerpen\, 2300\, Belgium
CATEGORIES:Muziek
ATTACH;FMTTYPE=image/jpeg:https://zorggroep-orion.be/wp-content/uploads/2025/02/DJ-Eddy-2025.jpg
END:VEVENT
BEGIN:VEVENT
DTSTART;TZID=Europe/Brussels:20260310T140000
DTEND;TZID=Europe/Brussels:20260310T170000
DTSTAMP:20260424T184229
CREATED:20260203T145658Z
LAST-MODIFIED:20260206T092108Z
UID:10625551-1773151200-1773162000@zorggroep-orion.be
SUMMARY:Karaoké door Gunther
DESCRIPTION:Heb je altijd al willen schitteren op het podium? Dit is je kans! Kom je zangkunsten testen aan onze microfoon en laat je innerlijke ster stralen. 🎶 \nKies alvast je favoriete liedje via de QR-code hieronder of geef je verzoeknummer voor 1 maart door aan een van onze enthousiaste medewerkers. \nOf je nu een doorgewinterde zanger bent of gewoon plezier wilt hebben\, iedereen is welkom om mee te doen en het publiek te verrassen.  We kunnen niet wachten om jouw talent te horen!
URL:https://zorggroep-orion.be/activiteit/karaoke-door-gunther/
LOCATION:Dienstencentrum De Schoor\, Schorvoortstraat 53\, Turnhout\, 2300
CATEGORIES:Muziek
ATTACH;FMTTYPE=application/pdf:https://zorggroep-orion.be/wp-content/uploads/2026/02/Kriekenvlaai.pdf
END:VEVENT
BEGIN:VEVENT
DTSTART;TZID=Europe/Brussels:20260302T190000
DTEND;TZID=Europe/Brussels:20260302T210000
DTSTAMP:20260424T184229
CREATED:20250418T104947Z
LAST-MODIFIED:20260203T133051Z
UID:10618019-1772478000-1772485200@zorggroep-orion.be
SUMMARY:Genieten van een luistermoment in stilte
DESCRIPTION:Het vocaal ensemble Cantat komt repeteren in De Schoor. \nIEDEREEN die wil komen luisteren is WELKOM!  Ons Café is open. \nGRATIS
URL:https://zorggroep-orion.be/activiteit/genieten-van-een-luistermoment-in-stilte/
LOCATION:Dienstencentrum De Schoor\, Schorvoortstraat 53\, Turnhout\, 2300
CATEGORIES:Muziek
ATTACH;FMTTYPE=image/png:https://zorggroep-orion.be/wp-content/uploads/2023/03/act-202306-cantat.png
END:VEVENT
BEGIN:VEVENT
DTSTART;TZID=Europe/Brussels:20260223T140000
DTEND;TZID=Europe/Brussels:20260223T170000
DTSTAMP:20260424T184229
CREATED:20260203T110853Z
LAST-MODIFIED:20260203T110853Z
UID:10624369-1771855200-1771866000@zorggroep-orion.be
SUMMARY:ZANGNAMIDDAG MET GUY
DESCRIPTION:Zin om je zangtalent te laten horen of zing je liever gezellig mee vanop je stoel?  \nKom dan op woensdag 11 februari om 14u00 naar de cafetaria van LDC De Wissel voor een namiddag vol muziek\, plezier en samenzijn. Of je nu een echte podiumbeest bent of gewoon komt genieten van de fijne sfeer en bekende meezingers: iedereen is welkom. \nVerwacht een gezellige namiddag vol lachende gezichten\, vrolijke liedjes en vooral veel gezelligheid. \nKom erbij\, zing mee en laat je meevoeren door de muziek!
URL:https://zorggroep-orion.be/activiteit/zangnamiddag-met-guy/
LOCATION:Dienstencentrum De Wissel\, Dokter Nand Peetersstraat 33\, Turnhout\, Antwerpen\, 2300\, Belgium
CATEGORIES:Muziek
ATTACH;FMTTYPE=image/jpeg:https://zorggroep-orion.be/wp-content/uploads/2025/10/Karaoke-met-Guy-2025.jpg
END:VEVENT
BEGIN:VEVENT
DTSTART;TZID=Europe/Brussels:20260216T190000
DTEND;TZID=Europe/Brussels:20260216T210000
DTSTAMP:20260424T184229
CREATED:20260205T105358Z
LAST-MODIFIED:20260205T105358Z
UID:10626200-1771268400-1771275600@zorggroep-orion.be
SUMMARY:Genieten van een luistermoment in stilte
DESCRIPTION:Het vocaal ensemble CANTAT komt repeteren in De Schoor. \nLuisteraars zijn welkom\, ons Café is open. \nGRATIS
URL:https://zorggroep-orion.be/activiteit/genieten-van-een-luistermoment-in-stilte-3/
LOCATION:Dienstencentrum De Schoor\, Schorvoortstraat 53\, Turnhout\, 2300
CATEGORIES:Muziek
ATTACH;FMTTYPE=image/png:https://zorggroep-orion.be/wp-content/uploads/2023/03/act-202306-cantat.png
END:VEVENT
BEGIN:VEVENT
DTSTART;TZID=Europe/Brussels:20260216T190000
DTEND;TZID=Europe/Brussels:20260216T210000
DTSTAMP:20260424T184229
CREATED:20251009T094852Z
LAST-MODIFIED:20260113T141952Z
UID:10619841-1771268400-1771275600@zorggroep-orion.be
SUMMARY:Genieten van een luistermoment in stilte
DESCRIPTION:Het vocaal ensemble Cantat komt repeteren in De Schoor. Luisteraars zijn welkom – gratis.
URL:https://zorggroep-orion.be/activiteit/genieten-van-een-luistermoment-in-stilte-2/
LOCATION:Dienstencentrum De Schoor\, Schorvoortstraat 53\, Turnhout\, 2300
CATEGORIES:Muziek
ATTACH;FMTTYPE=image/png:https://zorggroep-orion.be/wp-content/uploads/2023/03/act-202306-cantat.png
END:VEVENT
BEGIN:VEVENT
DTSTART;TZID=Europe/Brussels:20260215T140000
DTEND;TZID=Europe/Brussels:20260215T170000
DTSTAMP:20260424T184229
CREATED:20260113T141507Z
LAST-MODIFIED:20260113T141507Z
UID:10623229-1771164000-1771174800@zorggroep-orion.be
SUMMARY:Muzieknamiddag met Berritta
DESCRIPTION:Berritta komt ons café opvrolijken met livemuziek. \nDeze sympathieke zangeres\, woonachtig in Mol\, is zeker geen onbekende in de Vlaamse showbizz.Al meer dan 40 jaar staat ze op het podium en regelmatig brengt ze toffe nieuwe liedjes uit. Gekenmerkt door haar eigen vrolijke stijl weet ze van elk optreden een feest te maken. \nDe Schoor is open vanaf 13u30\, het optreden is van 14u tot 17u \nIEDEREEN WELKOM!
URL:https://zorggroep-orion.be/activiteit/muzieknamiddag-met-berritta/
LOCATION:Dienstencentrum De Schoor\, Schorvoortstraat 53\, Turnhout\, 2300
CATEGORIES:Muziek
ATTACH;FMTTYPE=image/png:https://zorggroep-orion.be/wp-content/uploads/2026/01/Schermafbeelding-2026-01-13-151351.png
END:VEVENT
BEGIN:VEVENT
DTSTART;TZID=Europe/Brussels:20260213T133000
DTEND;TZID=Europe/Brussels:20260213T153000
DTSTAMP:20260424T184229
CREATED:20260203T105012Z
LAST-MODIFIED:20260203T105012Z
UID:10624311-1770989400-1770996600@zorggroep-orion.be
SUMMARY:DJ EDDY @ DE WISSEL
DESCRIPTION:Hou je van muziek\, luisteren in goed gezelschap\, je amuseren op de tonen van  Will Tura\, Frank Sinatra\, Elvis\, … en nog zoveel meer? Kom dan zeker langs! Heb je een verzoeknummer?  U vraagt\, Eddy draait ! \nEddy zal elke 2de vrijdag van de maand zijn DJ talenten komen tonen in De Wissel. \nIedereen is welkom!
URL:https://zorggroep-orion.be/activiteit/dj-eddy-de-wissel/
LOCATION:Dienstencentrum De Wissel\, Dokter Nand Peetersstraat 33\, Turnhout\, Antwerpen\, 2300\, Belgium
CATEGORIES:Muziek
ATTACH;FMTTYPE=image/jpeg:https://zorggroep-orion.be/wp-content/uploads/2025/02/DJ-Eddy-2025.jpg
END:VEVENT
BEGIN:VEVENT
DTSTART;TZID=Europe/Brussels:20260212T120000
DTEND;TZID=Europe/Brussels:20260212T170000
DTSTAMP:20260424T184229
CREATED:20260113T134819Z
LAST-MODIFIED:20260113T134819Z
UID:10623228-1770897600-1770915600@zorggroep-orion.be
SUMMARY:Showmatinée met Celien Hermans en Patrick Onzia in GC't Heilaar te Beerse
DESCRIPTION:Van harte welkom dus bij onze 2e nostalgische shownamiddag vol muziek\, plezier en ontspanning! Het wordt een unieke namiddag boordevol entertainment\, sociale verbinding en positieve ervaringen. De voorstelling is rolstoeltoegankelijk. \nVertrek om 12u15 aan De Schoor \n€28 per persoon \n€8 per persoon met UITPAS \n(incl. vervoer\, koffie en gebak) \nInschrijven bij de medewerkers tot 28/01/2026 of zolang er plaatsen zijn.
URL:https://zorggroep-orion.be/activiteit/showmatinee-met-celien-hermans-en-patrick-onzia-in-gct-heilaar-te-beerse/
LOCATION:Dienstencentrum De Schoor\, Schorvoortstraat 53\, Turnhout\, 2300
CATEGORIES:Muziek,Uitstap
ATTACH;FMTTYPE=image/jpeg:https://zorggroep-orion.be/wp-content/uploads/2026/01/8812.jpg
END:VEVENT
BEGIN:VEVENT
DTSTART;TZID=Europe/Brussels:20260202T190000
DTEND;TZID=Europe/Brussels:20260202T210000
DTSTAMP:20260424T184229
CREATED:20230918T140311Z
LAST-MODIFIED:20260113T093710Z
UID:10605452-1770058800-1770066000@zorggroep-orion.be
SUMMARY:Genieten van een luistermoment in stilte
DESCRIPTION:Het vocaal ensemble CANTAT komt repeteren in De Schoor. \nLuisteraars zijn welkom\, ons Café is open. \nGRATIS
URL:https://zorggroep-orion.be/activiteit/genieten-van-een-luistermoment-in-stilte-8/
LOCATION:Dienstencentrum De Schoor\, Schorvoortstraat 53\, Turnhout\, 2300
CATEGORIES:Muziek
ATTACH;FMTTYPE=image/png:https://zorggroep-orion.be/wp-content/uploads/2023/03/act-202306-cantat.png
END:VEVENT
BEGIN:VEVENT
DTSTART;TZID=Europe/Brussels:20260128T140000
DTEND;TZID=Europe/Brussels:20260128T170000
DTSTAMP:20260424T184229
CREATED:20251029T100338Z
LAST-MODIFIED:20260105T102441Z
UID:10619983-1769608800-1769619600@zorggroep-orion.be
SUMMARY:ZANGNAMIDDAG MET GUY
DESCRIPTION:Zin om je zangtalent te laten horen of zing je liever gezellig mee vanop je stoel?  \nKom dan op woensdag 28 januari om 14u00 naar de cafetaria van LDC De Wissel voor een namiddag vol muziek\, plezier en samenzijn. Of je nu een echte podiumbeest bent of gewoon komt genieten van de fijne sfeer en bekende meezingers: iedereen is welkom. \nVerwacht een gezellige namiddag vol lachende gezichten\, vrolijke liedjes en vooral veel gezelligheid. \nKom erbij\, zing mee en laat je meevoeren door de muziek!
URL:https://zorggroep-orion.be/activiteit/karaoke-met-guy/
LOCATION:Dienstencentrum De Wissel\, Dokter Nand Peetersstraat 33\, Turnhout\, Antwerpen\, 2300\, Belgium
CATEGORIES:Muziek
ATTACH;FMTTYPE=image/jpeg:https://zorggroep-orion.be/wp-content/uploads/2025/10/Karaoke-met-Guy-2025.jpg
END:VEVENT
BEGIN:VEVENT
DTSTART;TZID=Europe/Brussels:20260128T140000
DTEND;TZID=Europe/Brussels:20260128T170000
DTSTAMP:20260424T184229
CREATED:20231020T134414Z
LAST-MODIFIED:20251217T112944Z
UID:10607537-1769608800-1769619600@zorggroep-orion.be
SUMMARY:Sing Along door Cantat
DESCRIPTION:Kom jij mee zingen met heel wat echte klassiekers? Van Clouseau tot The Beatles tot Marco Borsato en nog veel meer. We maken er een gezellige namiddag van. Je krijgt een bundeltje met daarin alle nummers\, Cantat zal de muziek begeleiden.
URL:https://zorggroep-orion.be/activiteit/try-out-sing-along-door-cantat/
LOCATION:Dienstencentrum De Schoor\, Schorvoortstraat 53\, Turnhout\, 2300
CATEGORIES:Muziek
ATTACH;FMTTYPE=image/png:https://zorggroep-orion.be/wp-content/uploads/2023/03/act-202306-cantat.png
END:VEVENT
BEGIN:VEVENT
DTSTART;TZID=Europe/Brussels:20260112T140000
DTEND;TZID=Europe/Brussels:20260112T140000
DTSTAMP:20260424T184229
CREATED:20241217T150649Z
LAST-MODIFIED:20251217T082930Z
UID:10611658-1768226400-1768226400@zorggroep-orion.be
SUMMARY:ZANGKOOR DE GREGORIANEN @ Albert
DESCRIPTION:Ja hoor\, ook mannen kunnen zingen! Een 15 tal mannen die samen als koor ‘DE GREGORIANEN UIT RETIE’ vormen\, zullen deze namiddag laten klinken en galmen in gans ons centrum.  Zij houden het zeer luchtig dus jij kan alvast meezingen of gewoon genieten in het bijzijn van leuk gezelschap? \nInschrijven vanaf Vrijdag 2 jan. 9 u. \nPrijs incl. glaasje cava en klein hapje.
URL:https://zorggroep-orion.be/activiteit/nieuwjaarsconcert-albert/
LOCATION:Dienstencentrum Albert Van Dyck\, Albert Van Dyckstraat 10\, Turnhout\, Antwerpen\, 2300\, Belgium
CATEGORIES:Muziek
ATTACH;FMTTYPE=image/png:https://zorggroep-orion.be/wp-content/uploads/2024/12/ZANGKOOR-LDC-AVD-16-JAN-2025-.png
END:VEVENT
BEGIN:VEVENT
DTSTART;TZID=Europe/Brussels:20260109T133000
DTEND;TZID=Europe/Brussels:20260109T153000
DTSTAMP:20260424T184229
CREATED:20251104T074111Z
LAST-MODIFIED:20260105T100820Z
UID:10619994-1767965400-1767972600@zorggroep-orion.be
SUMMARY:DJ EDDY @ DE WISSEL
DESCRIPTION:Hou je van muziek\, luisteren in goed gezelschap\, je amuseren op de tonen van  Will Tura\, Frank Sinatra\, Elvis\, … en nog zoveel meer? Kom dan zeker langs! Heb je een verzoeknummer?  U vraagt\, Eddy draait ! \nEddy zal elke 2de vrijdag van de maand zijn DJ talenten komen tonen in De Wissel. \nIedereen is welkom!
URL:https://zorggroep-orion.be/activiteit/dj-eddy-de-wissel-2/
LOCATION:Dienstencentrum De Wissel\, Dokter Nand Peetersstraat 33\, Turnhout\, Antwerpen\, 2300\, Belgium
CATEGORIES:Muziek
ATTACH;FMTTYPE=image/jpeg:https://zorggroep-orion.be/wp-content/uploads/2025/02/DJ-Eddy-2025.jpg
END:VEVENT
BEGIN:VEVENT
DTSTART;TZID=Europe/Brussels:20260105T190000
DTEND;TZID=Europe/Brussels:20260105T210000
DTSTAMP:20260424T184229
CREATED:20230918T140425Z
LAST-MODIFIED:20251211T124438Z
UID:10605453-1767639600-1767646800@zorggroep-orion.be
SUMMARY:Genieten van een luistermoment in stilte
DESCRIPTION:Het vocaal ensemble Cantat komt repeteren in De Schoor. Luisteraars zijn welkom – gratis.
URL:https://zorggroep-orion.be/activiteit/genieten-van-een-luistermoment-in-stilte-9/
LOCATION:Dienstencentrum De Schoor\, Schorvoortstraat 53\, Turnhout\, 2300
CATEGORIES:Muziek
ATTACH;FMTTYPE=image/png:https://zorggroep-orion.be/wp-content/uploads/2023/03/act-202306-cantat.png
END:VEVENT
BEGIN:VEVENT
DTSTART;TZID=Europe/Brussels:20251126T140000
DTEND;TZID=Europe/Brussels:20251126T163000
DTSTAMP:20260424T184229
CREATED:20240117T101119Z
LAST-MODIFIED:20251009T095356Z
UID:10608459-1764165600-1764174600@zorggroep-orion.be
SUMMARY:Sing Along door Cantat - Antennepunt 7donk
DESCRIPTION:Onze sing along komt weer naar Zevendonk. Kom jij mee zingen met heel wat echte klassiekers? Van Clouseau tot The Beatles tot Marco Borsato en nog veel meer. We maken er een gezellige namiddag van. Je krijgt een bundeltje met daarin alle nummers\, Cantat zal de muziek begeleiden. Tijdens de sing along is er vlaai te verkrijgen.
URL:https://zorggroep-orion.be/activiteit/sing-along-door-cantat/
LOCATION:Dienstencentrum De Schoor\, Schorvoortstraat 53\, Turnhout\, 2300
CATEGORIES:Muziek
ATTACH;FMTTYPE=image/png:https://zorggroep-orion.be/wp-content/uploads/2023/03/act-202306-cantat.png
END:VEVENT
BEGIN:VEVENT
DTSTART;TZID=Europe/Brussels:20251123T140000
DTEND;TZID=Europe/Brussels:20251123T170000
DTSTAMP:20260424T184229
CREATED:20251015T143630Z
LAST-MODIFIED:20251015T143630Z
UID:10619850-1763906400-1763917200@zorggroep-orion.be
SUMMARY:DANSNAMMIDAG MET JACK CROONEY @ Albert
DESCRIPTION:Om deze week op een sfeervolle manier af te sluiten halen wij onze muzikaalste noot in huis. \nVoor jullie ondertussen al een bekende in ons centrum: \ngene Georges Clooney maar niemand minder dan JACK CROONEY.   \nSmeer de beentjes al maar in\, hier heb je ’t zeker naar je zin! \nHartelijk Welkom. \n 
URL:https://zorggroep-orion.be/activiteit/dansnammidag-met-jack-crooney-albert/
LOCATION:Dienstencentrum Albert Van Dyck\, Albert Van Dyckstraat 10\, Turnhout\, Antwerpen\, 2300\, Belgium
CATEGORIES:Muziek
ATTACH;FMTTYPE=image/png:https://zorggroep-orion.be/wp-content/uploads/2025/10/JACK-CROONEY-NOV-LDC-AVD-2025.png
END:VEVENT
BEGIN:VEVENT
DTSTART;TZID=Europe/Brussels:20251118T150000
DTEND;TZID=Europe/Brussels:20251118T170000
DTSTAMP:20260424T184229
CREATED:20251029T100132Z
LAST-MODIFIED:20251029T100132Z
UID:10619982-1763478000-1763485200@zorggroep-orion.be
SUMMARY:ZINGENDE KEMPEN @ DE WISSEL
DESCRIPTION:Al meer dan 50 jaar brengt De Zingende Kempen de sfeer\, trots en warmte van onze streek tot leven met prachtige Nederlandstalige liederen. \nLaat je meevoeren door hun enthousiasme en muziek\, en geniet van een namiddag vol herkenbare melodieën\, vrolijke klanken en Kempense charme. \nKom jij ook mee genieten? Breng gerust familie\, vrienden of buren mee — samen maken we er een sfeervol optreden van dat je niet wil missen!
URL:https://zorggroep-orion.be/activiteit/zingende-kempen-de-wissel/
LOCATION:Dienstencentrum De Wissel\, Dokter Nand Peetersstraat 33\, Turnhout\, Antwerpen\, 2300\, Belgium
CATEGORIES:Muziek
ATTACH;FMTTYPE=image/jpeg:https://zorggroep-orion.be/wp-content/uploads/2025/10/Zingende-Kempen-112025.jpg
END:VEVENT
END:VCALENDAR