BEGIN:VCALENDAR
VERSION:2.0
PRODID:-//Zorggroep Orion - ECPv6.15.17.1//NONSGML v1.0//EN
CALSCALE:GREGORIAN
METHOD:PUBLISH
X-ORIGINAL-URL:https://zorggroep-orion.be
X-WR-CALDESC:Evenementen voor Zorggroep Orion
REFRESH-INTERVAL;VALUE=DURATION:PT1H
X-Robots-Tag:noindex
X-PUBLISHED-TTL:PT1H
BEGIN:VTIMEZONE
TZID:Europe/Brussels
BEGIN:DAYLIGHT
TZOFFSETFROM:+0100
TZOFFSETTO:+0200
TZNAME:CEST
DTSTART:20250330T010000
END:DAYLIGHT
BEGIN:STANDARD
TZOFFSETFROM:+0200
TZOFFSETTO:+0100
TZNAME:CET
DTSTART:20251026T010000
END:STANDARD
BEGIN:DAYLIGHT
TZOFFSETFROM:+0100
TZOFFSETTO:+0200
TZNAME:CEST
DTSTART:20260329T010000
END:DAYLIGHT
BEGIN:STANDARD
TZOFFSETFROM:+0200
TZOFFSETTO:+0100
TZNAME:CET
DTSTART:20261025T010000
END:STANDARD
BEGIN:DAYLIGHT
TZOFFSETFROM:+0100
TZOFFSETTO:+0200
TZNAME:CEST
DTSTART:20270328T010000
END:DAYLIGHT
BEGIN:STANDARD
TZOFFSETFROM:+0200
TZOFFSETTO:+0100
TZNAME:CET
DTSTART:20271031T010000
END:STANDARD
END:VTIMEZONE
BEGIN:VEVENT
DTSTART;TZID=Europe/Brussels:20260430T090000
DTEND;TZID=Europe/Brussels:20260430T170000
DTSTAMP:20260424T154011
CREATED:20260203T111115Z
LAST-MODIFIED:20260203T112442Z
UID:10624394-1777539600-1777568400@zorggroep-orion.be
SUMMARY:NAAIATELIER @ DE WISSEL
DESCRIPTION:Ben je creatief én handig? Dan ben je in ons naaiatelier aan het juiste adres! Hier leer je de kneepjes van het vak: van verstellen\, herstellen tot het maken van kleding. \nDoe inspiratie op en ontwikkel je vaardigheden onder begeleiding van een ervaren vrijwilligster. \nWanneer? Elke donderdag in LDC De Wissel vanaf 9u00 tot 17u00! \nOp donderdagvoormiddag (9u00 – 12u00) betaal je €2\,00 inclusief koffie en thee. \nIn de namiddag (13u30 – 17u00) is onze cafetaria open\, dan kan je hier een drankje bestellen.
URL:https://zorggroep-orion.be/activiteit/de-floeren-broek-de-wissel/2026-04-30/
LOCATION:Dienstencentrum De Wissel\, Dokter Nand Peetersstraat 33\, Turnhout\, Antwerpen\, 2300\, Belgium
CATEGORIES:Recreatie,Workshop
ATTACH;FMTTYPE=image/png:https://zorggroep-orion.be/wp-content/uploads/2023/03/Naaiatelier-2023.png
END:VEVENT
BEGIN:VEVENT
DTSTART;TZID=Europe/Brussels:20260430T100000
DTEND;TZID=Europe/Brussels:20260430T113000
DTSTAMP:20260424T154011
CREATED:20251119T082131Z
LAST-MODIFIED:20251219T064418Z
UID:10622129-1777543200-1777548600@zorggroep-orion.be
SUMMARY:ONTMOET JE BUUR @ Albert
DESCRIPTION:Onder het motto ‘Ontmoet je buren’ komen we wekelijks samen in ons centrum. \nHeb jij ook nood aan ne’n babbel\, ontmoeting\, sociaal contact ….  Dit kost géén moeite. \nOok al is het maar voor de koffie (€ 1) … of gewoon te luisteren. \nOnze deur staat altijd open en er is géén drempel! \nVoel je vrij\, kom gerust eens langs\, alvast een hartelijk\, warme welkom! \n 
URL:https://zorggroep-orion.be/activiteit/ontmoet-je-buur-albert-15/2026-04-30/
LOCATION:Dienstencentrum Albert Van Dyck\, Albert Van Dyckstraat 10\, Turnhout\, Antwerpen\, 2300\, Belgium
CATEGORIES:Recreatie
ATTACH;FMTTYPE=image/png:https://zorggroep-orion.be/wp-content/uploads/2025/11/ONTMOET-JE-BUUR-LDC-AVD-2025.png
END:VEVENT
BEGIN:VEVENT
DTSTART;TZID=Europe/Brussels:20260506T090000
DTEND;TZID=Europe/Brussels:20260506T120000
DTSTAMP:20260424T154011
CREATED:20260203T141424Z
LAST-MODIFIED:20260403T134153Z
UID:10625548-1778058000-1778068800@zorggroep-orion.be
SUMMARY:'t Schrijverke
DESCRIPTION:Een oefensessie kalligrafie voor zij die reeds een cursus gevolgd hebben.
URL:https://zorggroep-orion.be/activiteit/t-schrijverke/
LOCATION:Dienstencentrum De Schoor\, Schorvoortstraat 53\, Turnhout\, 2300
CATEGORIES:Recreatie
ATTACH;FMTTYPE=image/jpeg:https://zorggroep-orion.be/wp-content/uploads/2023/07/act202307-Kalligrafie.jpg
END:VEVENT
BEGIN:VEVENT
DTSTART;TZID=Europe/Brussels:20260507T133000
DTEND;TZID=Europe/Brussels:20260507T170000
DTSTAMP:20260424T154011
CREATED:20260415T134915Z
LAST-MODIFIED:20260415T135001Z
UID:10627076-1778160600-1778173200@zorggroep-orion.be
SUMMARY:CREA
DESCRIPTION:Tijd om creatief te zijn! Tijdens onze crea knutselen we een originele servetring die jouw tafel net dat tikkeltje extra geeft
URL:https://zorggroep-orion.be/activiteit/crea-2/
LOCATION:Dienstencentrum De Schoor\, Schorvoortstraat 53\, Turnhout\, 2300
CATEGORIES:Recreatie
ATTACH;FMTTYPE=image/jpeg:https://zorggroep-orion.be/wp-content/uploads/2026/04/WhatsApp-Image-2026-04-15-at-15.37.28.jpeg
END:VEVENT
BEGIN:VEVENT
DTSTART;TZID=Europe/Brussels:20260507T140000
DTEND;TZID=Europe/Brussels:20260507T160000
DTSTAMP:20260424T154011
CREATED:20260420T140446Z
LAST-MODIFIED:20260420T140446Z
UID:10627148-1778162400-1778169600@zorggroep-orion.be
SUMMARY:BINGO @ DE WISSEL
DESCRIPTION:Een gezellige bingonamiddag in LDC De Wissel! \nKoop een bingokaart\, streep de nummers af\, en wie weet roep jij straks luidkeels BINGO! En ga je naar huis met een geweldige prijs! \nPrijs: € 0\,75 per bingokaart \nVoor meer info: dewissel@zorggroep-orion.be of 014 28 40 71 \n 
URL:https://zorggroep-orion.be/activiteit/bingo-de-wissel-5/
LOCATION:Dienstencentrum De Wissel\, Dokter Nand Peetersstraat 33\, Turnhout\, Antwerpen\, 2300\, Belgium
CATEGORIES:Recreatie
ATTACH;FMTTYPE=image/png:https://zorggroep-orion.be/wp-content/uploads/2023/03/act-2021-Bingo.png
END:VEVENT
BEGIN:VEVENT
DTSTART;TZID=Europe/Brussels:20260511T190000
DTEND;TZID=Europe/Brussels:20260511T210000
DTSTAMP:20260424T154011
CREATED:20250418T105203Z
LAST-MODIFIED:20260407T113549Z
UID:10618020-1778526000-1778533200@zorggroep-orion.be
SUMMARY:Poëzieclub
DESCRIPTION:We bespreken hier verschillende soorten poëzie\, wat het met je doet\, waar je aan denkt\, …\nSpreekt dit jou aan? Kom zeker eens langs en geef ons groepje mee vorm. \n€1 per persoon \nDrinken te verkrijgen bij de vrijwilligers aan de toog.
URL:https://zorggroep-orion.be/activiteit/poezieclub-2/
LOCATION:Dienstencentrum De Schoor\, Schorvoortstraat 53\, Turnhout\, 2300
CATEGORIES:Recreatie
ATTACH;FMTTYPE=image/jpeg:https://zorggroep-orion.be/wp-content/uploads/2023/09/act202310-poezieclubje.jpg
END:VEVENT
BEGIN:VEVENT
DTSTART;TZID=Europe/Brussels:20260520T140000
DTEND;TZID=Europe/Brussels:20260520T163000
DTSTAMP:20260424T154011
CREATED:20260113T142508Z
LAST-MODIFIED:20260415T140138Z
UID:10623235-1779285600-1779294600@zorggroep-orion.be
SUMMARY:Bingo in DE SCHOOR
DESCRIPTION:Elke derde woensdag van de maand organiseren we een bingo in ons dienstencentrum. \n€4.5/6 rondes. \nIEDEREEN WELKOM! \nTijdens de pauze kun je genieten van een Brusselse wafel aan €2.
URL:https://zorggroep-orion.be/activiteit/bingo-in-de-schoor/2026-05-20/
LOCATION:Dienstencentrum De Schoor\, Schorvoortstraat 53\, Turnhout\, 2300
CATEGORIES:Recreatie
ATTACH;FMTTYPE=image/png:https://zorggroep-orion.be/wp-content/uploads/2022/01/bingo.png
END:VEVENT
BEGIN:VEVENT
DTSTART;TZID=Europe/Brussels:20260521T093000
DTEND;TZID=Europe/Brussels:20260521T120000
DTSTAMP:20260424T154011
CREATED:20260416T075807Z
LAST-MODIFIED:20260416T075807Z
UID:10627131-1779355800-1779364800@zorggroep-orion.be
SUMMARY:FILM @ Albert
DESCRIPTION:Je kan hier maandelijks in alle rust genieten van een film: romantiek\, actie\, thriller\, familie …. uw vraagt\, wij draaien.  Waarom nog twijfelen? Géén was\, géén plas\, maar een donderdag genieten in goed gezelschap. Van Harte Welkom! Prijs € 2 incl. koffie\, thee of water. \nTelkens de 3e Donderdagvoormiddag!
URL:https://zorggroep-orion.be/activiteit/film-albert-4/
LOCATION:Dienstencentrum Albert Van Dyck\, Albert Van Dyckstraat 10\, Turnhout\, Antwerpen\, 2300\, Belgium
CATEGORIES:Recreatie
ATTACH;FMTTYPE=image/png:https://zorggroep-orion.be/wp-content/uploads/2025/09/FILM-OKT-LDC-AVD-2025.png
END:VEVENT
BEGIN:VEVENT
DTSTART;TZID=Europe/Brussels:20260521T133000
DTEND;TZID=Europe/Brussels:20260521T170000
DTSTAMP:20260424T154011
CREATED:20260415T135047Z
LAST-MODIFIED:20260415T135047Z
UID:10627077-1779370200-1779382800@zorggroep-orion.be
SUMMARY:CREA
DESCRIPTION:Tijd om creatief te zijn! Tijdens onze crea knutselen we een originele servetring die jouw tafel net dat tikkeltje extra geeft
URL:https://zorggroep-orion.be/activiteit/crea-3/
LOCATION:Dienstencentrum De Schoor\, Schorvoortstraat 53\, Turnhout\, 2300
CATEGORIES:Recreatie
ATTACH;FMTTYPE=image/jpeg:https://zorggroep-orion.be/wp-content/uploads/2026/04/WhatsApp-Image-2026-04-15-at-15.37.28.jpeg
END:VEVENT
BEGIN:VEVENT
DTSTART;TZID=Europe/Brussels:20260529T090000
DTEND;TZID=Europe/Brussels:20260605T170000
DTSTAMP:20260424T154011
CREATED:20260420T070511Z
LAST-MODIFIED:20260420T185507Z
UID:10627137-1780045200-1780678800@zorggroep-orion.be
SUMMARY:FOTOZOEKTOCHT 'THUIS IN TURNHOUT' @ Dienstencentra
DESCRIPTION:Fotozoektocht voor iedereen!\nWij organiseren een leuke en toegankelijke fotozoektocht voor iedereen: jong en oud\, groot en klein\, mobiel en minder mobiel. Iedereen is welkom om deel te nemen!\nDe zoektocht speelt zich af tussen drie dienstencentra (Albert Van Dyck\, De Schoor en De Wissel). Onderweg kan je telkens even pauzeren en genieten van iets lekkers. \nJe kan kiezen tussen twee soorten fotozoektochten:\n\nWandel- of fietszoektocht: een traject tussen de drie dienstencentra\, met foto’s die je onderweg moet terugvinden.\n\nKorte fotozoektocht: deze vindt plaats aan en rond de drie dienstencentra.\n\n\nZo kan iedereen op zijn eigen tempo deelnemen en gezellig samen zoeken én genieten.\nPraktische info:\n\nVan vrijdag 29 mei t.e.m. vrijdag 5 juni\nElke namiddag tussen 14u en 17u\n\nDeelnameformulieren liggen klaar in elk lokaal dienstencentrum.\nHeb je vervoer nodig tussen de dienstencentra? Laat dit dan vooraf even weten (dag en uur)\, dan zorgen wij voor een oplossing.\n \nHet wordt een fijne samenwerking tussen:\nZorggroep Orion\nFotoclub Turnhout\nSeniorenraad Turnhout\nStad Turnhout (Thuis in Turnhout)
URL:https://zorggroep-orion.be/activiteit/fotozoektocht-thuis-in-turnhout-3-dienstencentra/
LOCATION:Dienstencentrum Albert Van Dyck\, Albert Van Dyckstraat 10\, Turnhout\, Antwerpen\, 2300\, Belgium
CATEGORIES:Recreatie
ATTACH;FMTTYPE=image/png:https://zorggroep-orion.be/wp-content/uploads/2026/04/FOTOZOEKTOCHT-MEI-LDC-s-2026.png
END:VEVENT
END:VCALENDAR