BEGIN:VCALENDAR
VERSION:2.0
PRODID:-//Zorggroep Orion - ECPv6.15.17.1//NONSGML v1.0//EN
CALSCALE:GREGORIAN
METHOD:PUBLISH
X-WR-CALNAME:Zorggroep Orion
X-ORIGINAL-URL:https://zorggroep-orion.be
X-WR-CALDESC:Evenementen voor Zorggroep Orion
REFRESH-INTERVAL;VALUE=DURATION:PT1H
X-Robots-Tag:noindex
X-PUBLISHED-TTL:PT1H
BEGIN:VTIMEZONE
TZID:Europe/Brussels
BEGIN:DAYLIGHT
TZOFFSETFROM:+0100
TZOFFSETTO:+0200
TZNAME:CEST
DTSTART:20230326T010000
END:DAYLIGHT
BEGIN:STANDARD
TZOFFSETFROM:+0200
TZOFFSETTO:+0100
TZNAME:CET
DTSTART:20231029T010000
END:STANDARD
BEGIN:DAYLIGHT
TZOFFSETFROM:+0100
TZOFFSETTO:+0200
TZNAME:CEST
DTSTART:20240331T010000
END:DAYLIGHT
BEGIN:STANDARD
TZOFFSETFROM:+0200
TZOFFSETTO:+0100
TZNAME:CET
DTSTART:20241027T010000
END:STANDARD
BEGIN:DAYLIGHT
TZOFFSETFROM:+0100
TZOFFSETTO:+0200
TZNAME:CEST
DTSTART:20250330T010000
END:DAYLIGHT
BEGIN:STANDARD
TZOFFSETFROM:+0200
TZOFFSETTO:+0100
TZNAME:CET
DTSTART:20251026T010000
END:STANDARD
BEGIN:DAYLIGHT
TZOFFSETFROM:+0100
TZOFFSETTO:+0200
TZNAME:CEST
DTSTART:20260329T010000
END:DAYLIGHT
BEGIN:STANDARD
TZOFFSETFROM:+0200
TZOFFSETTO:+0100
TZNAME:CET
DTSTART:20261025T010000
END:STANDARD
BEGIN:DAYLIGHT
TZOFFSETFROM:+0100
TZOFFSETTO:+0200
TZNAME:CEST
DTSTART:20270328T010000
END:DAYLIGHT
BEGIN:STANDARD
TZOFFSETFROM:+0200
TZOFFSETTO:+0100
TZNAME:CET
DTSTART:20271031T010000
END:STANDARD
END:VTIMEZONE
BEGIN:VEVENT
DTSTART;TZID=Europe/Brussels:20260205T133000
DTEND;TZID=Europe/Brussels:20260205T170000
DTSTAMP:20260424T192025
CREATED:20260115T144236Z
LAST-MODIFIED:20260115T144604Z
UID:10623510-1770298200-1770310800@zorggroep-orion.be
SUMMARY:Crea @ De Schoor
DESCRIPTION:Deze keer maakt onze creagroep decoratie in het thema Valentijn \nIedereen welkom!
URL:https://zorggroep-orion.be/activiteit/crea-de-schoor-2/
LOCATION:Dienstencentrum De Schoor\, Schorvoortstraat 53\, Turnhout\, 2300
CATEGORIES:Recreatie
ATTACH;FMTTYPE=image/jpeg:https://zorggroep-orion.be/wp-content/uploads/2025/01/Valentijnsgebakje-02-2025.jpg
END:VEVENT
BEGIN:VEVENT
DTSTART;TZID=Europe/Brussels:20260204T090000
DTEND;TZID=Europe/Brussels:20260204T120000
DTSTAMP:20260424T192025
CREATED:20231124T075134Z
LAST-MODIFIED:20260113T100750Z
UID:10607579-1770195600-1770206400@zorggroep-orion.be
SUMMARY:'t Schrijverke
DESCRIPTION:Een oefensessie kalligrafie voor zij die reeds een cursus gevolgd hebben.
URL:https://zorggroep-orion.be/activiteit/t-schrijverke-3/
LOCATION:Dienstencentrum De Schoor\, Schorvoortstraat 53\, Turnhout\, 2300
CATEGORIES:Recreatie
ATTACH;FMTTYPE=image/jpeg:https://zorggroep-orion.be/wp-content/uploads/2023/07/act202307-Kalligrafie.jpg
END:VEVENT
BEGIN:VEVENT
DTSTART;TZID=Europe/Brussels:20260203T130000
DTEND;TZID=Europe/Brussels:20260203T170000
DTSTAMP:20260424T192025
CREATED:20250321T121953Z
LAST-MODIFIED:20260112T132917Z
UID:10615851-1770123600-1770138000@zorggroep-orion.be
SUMMARY:Demo Victoria juwelen
DESCRIPTION:Valentijn gluurt alweer om de hoek! Bij Magda’s mini shop in de Foyer van De Schoor vind je alles wat je hartje begeert om deze bijzondere dag een vleugje magie te geven. En ja\, ook de heren worden niet vergeten! \nIEDEREEN IS WELKOM \nJe hoeft niets te kopen als je dat niet wilt! \nKom gezellig langs en laat je inspireren. 🌹❤️
URL:https://zorggroep-orion.be/activiteit/demo-victoria-juwelen/
LOCATION:Dienstencentrum De Schoor\, Schorvoortstraat 53\, Turnhout\, 2300
CATEGORIES:Recreatie
ATTACH;FMTTYPE=image/png:https://zorggroep-orion.be/wp-content/uploads/2024/10/11-VICTORIA-LDC-AVD-2024.png
END:VEVENT
BEGIN:VEVENT
DTSTART;TZID=Europe/Brussels:20260126T120000
DTEND;TZID=Europe/Brussels:20260126T170000
DTSTAMP:20260424T192025
CREATED:20231220T083533Z
LAST-MODIFIED:20251217T112822Z
UID:10607910-1769428800-1769446800@zorggroep-orion.be
SUMMARY:Verkoopnamiddag kleding
DESCRIPTION:Kom de collectie en heel wat soldenkoopjes van kledingwinkel Flo uit Lille ontdekken in De Schoor!\nWe maken er een gezellige namiddag van.
URL:https://zorggroep-orion.be/activiteit/verkoopnamiddag-kledingwinkel/
LOCATION:Dienstencentrum De Schoor\, Schorvoortstraat 53\, Turnhout\, 2300
CATEGORIES:Recreatie
ATTACH;FMTTYPE=image/jpeg:https://zorggroep-orion.be/wp-content/uploads/2023/12/act202401-verkoop-Flo-Lille.jpg
END:VEVENT
BEGIN:VEVENT
DTSTART;TZID=Europe/Brussels:20260121T140000
DTEND;TZID=Europe/Brussels:20260121T163000
DTSTAMP:20260424T192025
CREATED:20251009T094034Z
LAST-MODIFIED:20251217T111154Z
UID:10619839-1769004000-1769013000@zorggroep-orion.be
SUMMARY:Bingo in DE SCHOOR
DESCRIPTION:Elke derde woensdag van de maand organiseren we een bingo in ons dienstencentrum. \n€4.5/6 rondes. \nIEDEREEN WELKOM! \nTijdens de pauze is vlaai verkrijgbaar aan €2.
URL:https://zorggroep-orion.be/activiteit/bingo-in-antennepunt-7donk-4/
LOCATION:Dienstencentrum De Schoor\, Schorvoortstraat 53\, Turnhout\, 2300
CATEGORIES:Recreatie
ATTACH;FMTTYPE=image/png:https://zorggroep-orion.be/wp-content/uploads/2023/03/act-2021-Bingo.png
END:VEVENT
BEGIN:VEVENT
DTSTART;TZID=Europe/Brussels:20260115T093000
DTEND;TZID=Europe/Brussels:20260115T120000
DTSTAMP:20260424T192025
CREATED:20251217T085117Z
LAST-MODIFIED:20251217T085117Z
UID:10620420-1768469400-1768478400@zorggroep-orion.be
SUMMARY:FILM @ Albert
DESCRIPTION:Je kan hier maandelijks in alle rust genieten van een film: romantiek\, actie\, thriller\, familie …. uw vraagt\, wij draaien.  Waarom nog twijfelen? Géén was\, géén plas\, maar een donderdag genieten in goed gezelschap. Van Harte Welkom! Prijs € 2 incl. koffie\, thee of water. \nTelkens de 3e Donderdagvoormiddag!
URL:https://zorggroep-orion.be/activiteit/film-albert-25/
LOCATION:Dienstencentrum Albert Van Dyck\, Albert Van Dyckstraat 10\, Turnhout\, Antwerpen\, 2300\, Belgium
CATEGORIES:Recreatie
ATTACH;FMTTYPE=image/png:https://zorggroep-orion.be/wp-content/uploads/2025/09/FILM-OKT-LDC-AVD-2025.png
END:VEVENT
BEGIN:VEVENT
DTSTART;TZID=Europe/Brussels:20260114T133000
DTEND;TZID=Europe/Brussels:20260114T170000
DTSTAMP:20260424T192025
CREATED:20260105T101651Z
LAST-MODIFIED:20260105T101651Z
UID:10622696-1768397400-1768410000@zorggroep-orion.be
SUMMARY:KLEDINGVERKOOP @ DE WISSEL
DESCRIPTION:Nieuwe kleding nodig? Dan is deze kledingverkoop van seniorenmode beslist iets voor jou! \nSpeciaal voor senioren en minder mobiele mensen brengt seniorenmode aangepaste\, comfortabele én betaalbare kledij tot bij ons in het dienstencentrum. \nDankzij hun jarenlange ervaring en specialisatie in seniorenmode weten ze perfect wat belangrijk is: comfortabele pasvormen\, kwalitatieve stoffen en een stijl waarin je je goed voelt. \nDe damescollectie begint vanaf maat 38 tot maat 56. De herencollectie gaat van small tot 5 XL. \nGemakkelijk\, zorgeloos en helemaal op maat – shoppen was nog nooit zo comfortabel!
URL:https://zorggroep-orion.be/activiteit/kledingverkoop-de-wissel/
LOCATION:Dienstencentrum De Wissel\, Dokter Nand Peetersstraat 33\, Turnhout\, Antwerpen\, 2300\, Belgium
CATEGORIES:Recreatie
ATTACH;FMTTYPE=image/jpeg:https://zorggroep-orion.be/wp-content/uploads/2026/01/Kledingverkoop-seniorenmode-012026.jpg
END:VEVENT
BEGIN:VEVENT
DTSTART;TZID=Europe/Brussels:20260106T100000
DTEND;TZID=Europe/Brussels:20260106T113000
DTSTAMP:20260424T192025
CREATED:20251104T073329Z
LAST-MODIFIED:20260105T094903Z
UID:10619991-1767693600-1767699000@zorggroep-orion.be
SUMMARY:HONDENCAFE @ DE WISSEL
DESCRIPTION:Elke eerste dinsdag van de maand nodigen we baasjes en hun trouwe viervoeters uit om samen te genieten van een tasje koffie of thee. \nTerwijl de honden vrolijk rondlopen en zich laten knuffelen\, zorgen ze voor een glimlach bij iedereen. Een moment van gezelschap en vrolijk gekwispel. \nIedereen is welkom\, met of zonder hond! \n€2\,00 inclusief koffie/thee
URL:https://zorggroep-orion.be/activiteit/hondencafe-de-wissel-2/
LOCATION:Dienstencentrum De Wissel\, Dokter Nand Peetersstraat 33\, Turnhout\, Antwerpen\, 2300\, Belgium
CATEGORIES:Recreatie
ATTACH;FMTTYPE=image/jpeg:https://zorggroep-orion.be/wp-content/uploads/2025/10/WhatsApp-Image-2025-07-31-at-10.27.56.jpeg
END:VEVENT
BEGIN:VEVENT
DTSTART;TZID=Europe/Brussels:20251208T090000
DTEND;TZID=Europe/Brussels:20251208T090000
DTSTAMP:20260424T192025
CREATED:20251117T183824Z
LAST-MODIFIED:20251117T183844Z
UID:10620007-1765184400-1765184400@zorggroep-orion.be
SUMMARY:KERSTBOMEN ZETTEN @ Albert
DESCRIPTION:Wij brengen de Kerstsfeer in huis. Ben jij een beetje creatief en heb je toch wat vrije tijd? Kom dan gerust een handje toesteken bij het plaatsen van onze Kerstbomen en -decoratie in ons cafetaria en restaurant! \nOf liever de Hersftdecoratie mee opbergen? Ook hier steeds helpende handen gevraagd. \n#samenwerkenmaaktwerklichter \nWij zorgen alvast voor de koffie – Hartelijk welkom!
URL:https://zorggroep-orion.be/activiteit/kerstbomen-zetten-albert-3/
LOCATION:Dienstencentrum Albert Van Dyck\, Albert Van Dyckstraat 10\, Turnhout\, Antwerpen\, 2300\, Belgium
CATEGORIES:Recreatie
ATTACH;FMTTYPE=image/png:https://zorggroep-orion.be/wp-content/uploads/2025/11/KERSTSFEER-LDC-AVD-2025.png
END:VEVENT
BEGIN:VEVENT
DTSTART;TZID=Europe/Brussels:20251022T133000
DTEND;TZID=Europe/Brussels:20251022T160000
DTSTAMP:20260424T192025
CREATED:20250418T114359Z
LAST-MODIFIED:20250922T150650Z
UID:10618028-1761139800-1761148800@zorggroep-orion.be
SUMMARY:Rummikub in Antennepunt 7donk
DESCRIPTION:Kom elke woensdag (uitgezonderd tijdens de Bingo of Sing-Along) rummikubben in ons Antennepunt in Zevendonk. \nSchuif gezellig mee aan.  IEDEREEN WELKOM!
URL:https://zorggroep-orion.be/activiteit/rummikub-in-antennepunt-7donk-5/
LOCATION:Dienstencentrum De Schoor\, Schorvoortstraat 53\, Turnhout\, 2300
CATEGORIES:Recreatie
ATTACH;FMTTYPE=image/jpeg:https://zorggroep-orion.be/wp-content/uploads/2024/09/act202410-rummikub-antennepunt.jpg
END:VEVENT
BEGIN:VEVENT
DTSTART;TZID=Europe/Brussels:20251015T140000
DTEND;TZID=Europe/Brussels:20251015T163000
DTSTAMP:20260424T192025
CREATED:20250418T110723Z
LAST-MODIFIED:20250923T122204Z
UID:10618024-1760536800-1760545800@zorggroep-orion.be
SUMMARY:Bingo in Antennepunt 7donk
DESCRIPTION:Elke derde woensdag van de maand organiseren we een bingo in ons antennepunt in Zevendonk. \n€4.5/6 rondes. \nIEDEREEN WELKOM! \nTijdens de pauze is vlaai verkrijgbaar aan €2.
URL:https://zorggroep-orion.be/activiteit/bingo-in-antennepunt-7donk-3/
LOCATION:Dienstencentrum De Schoor\, Schorvoortstraat 53\, Turnhout\, 2300
CATEGORIES:Recreatie
ATTACH;FMTTYPE=image/png:https://zorggroep-orion.be/wp-content/uploads/2023/03/act-2021-Bingo.png
END:VEVENT
BEGIN:VEVENT
DTSTART;TZID=Europe/Brussels:20251013T190000
DTEND;TZID=Europe/Brussels:20251013T210000
DTSTAMP:20260424T192025
CREATED:20230920T082014Z
LAST-MODIFIED:20250923T122039Z
UID:10606769-1760382000-1760389200@zorggroep-orion.be
SUMMARY:Poëziegroep
DESCRIPTION:We bespreken hier verschillende soorten poëzie\, wat het met je doet\, waar je aan denkt\, …\nSpreekt dit jou aan? Kom zeker eens langs en geef ons groepje mee vorm.
URL:https://zorggroep-orion.be/activiteit/poezieclub/
LOCATION:Dienstencentrum De Schoor\, Schorvoortstraat 53\, Turnhout\, 2300
CATEGORIES:Recreatie
ATTACH;FMTTYPE=image/jpeg:https://zorggroep-orion.be/wp-content/uploads/2023/09/act202310-poezieclubje.jpg
END:VEVENT
BEGIN:VEVENT
DTSTART;TZID=Europe/Brussels:20251001T133000
DTEND;TZID=Europe/Brussels:20251001T160000
DTSTAMP:20260424T192025
CREATED:20250519T065551Z
LAST-MODIFIED:20250922T150509Z
UID:10618631-1759325400-1759334400@zorggroep-orion.be
SUMMARY:Rummikub in Antennepunt 7donk
DESCRIPTION:Kom elke woensdag (uitgezonderd tijdens de Bingo of Sing-Along) rummikubben in ons Antennepunt in Zevendonk. \nSchuif gezellig mee aan.  IEDEREEN WELKOM!
URL:https://zorggroep-orion.be/activiteit/rummikub-in-antennepunt-7donk-7/
LOCATION:Dienstencentrum De Schoor\, Schorvoortstraat 53\, Turnhout\, 2300
CATEGORIES:Recreatie
ATTACH;FMTTYPE=image/jpeg:https://zorggroep-orion.be/wp-content/uploads/2024/09/act202410-rummikub-antennepunt.jpg
END:VEVENT
BEGIN:VEVENT
DTSTART;TZID=Europe/Brussels:20250924T133000
DTEND;TZID=Europe/Brussels:20250924T160000
DTSTAMP:20260424T192025
CREATED:20250418T103032Z
LAST-MODIFIED:20250820T111424Z
UID:10617760-1758720600-1758729600@zorggroep-orion.be
SUMMARY:Rummikub in Antennepunt 7donk
DESCRIPTION:Kom elke woensdag (uitgezonderd tijdens de Bingo of Sing-Along) rummikubben in ons Antennepunt in Zevendonk. \nSchuif gezellig mee aan.  IEDEREEN WELKOM!
URL:https://zorggroep-orion.be/activiteit/rummikub-in-antennepunt-7donk-4/
LOCATION:Dienstencentrum De Schoor\, Schorvoortstraat 53\, Turnhout\, 2300
CATEGORIES:Recreatie
ATTACH;FMTTYPE=image/jpeg:https://zorggroep-orion.be/wp-content/uploads/2024/09/act202410-rummikub-antennepunt.jpg
END:VEVENT
BEGIN:VEVENT
DTSTART;TZID=Europe/Brussels:20250915T093000
DTEND;TZID=Europe/Brussels:20250915T150000
DTSTAMP:20260424T192025
CREATED:20250807T120742Z
LAST-MODIFIED:20250807T125512Z
UID:10619439-1757928600-1757948400@zorggroep-orion.be
SUMMARY:DECOREREN HERFST @ Albert
DESCRIPTION:Hopelijk genieten we nog van een late zomer\, maar onze kalender zegt dat we toch stilaan overstappen naar een volgend seizoen. Dit wil zeggen dat wij met ons team ons centrum in een nieuw kleurrijk jasje steken.   \nKale takken\, gekleurde bladeren\, pompoenen enz. … zullen deze herfst tot zijn recht komen.  \nBen jij ook een beetje creatief? Kom gerust een handje toesteken.  \nWij zorgen alvast voor de koffie.
URL:https://zorggroep-orion.be/activiteit/decoreren-herfst-albert-2/
LOCATION:Dienstencentrum Albert Van Dyck\, Albert Van Dyckstraat 10\, Turnhout\, Antwerpen\, 2300\, Belgium
CATEGORIES:Recreatie
ATTACH;FMTTYPE=image/png:https://zorggroep-orion.be/wp-content/uploads/2025/07/SEPTEMBER-2025-LDC-AVD-2025.png
END:VEVENT
BEGIN:VEVENT
DTSTART;TZID=Europe/Brussels:20250828T133000
DTEND;TZID=Europe/Brussels:20250828T170000
DTSTAMP:20260424T192025
CREATED:20240612T082905Z
LAST-MODIFIED:20250627T093631Z
UID:10619085-1756387800-1756400400@zorggroep-orion.be
SUMMARY:Crea in de vakantie
DESCRIPTION:In juli en augustus is er geen specifieke crea. Kom wel gezellig naar De Schoor en breng je eigen spullen mee om zelf te knutselen op volgende momenten: 3/7\, 17/7\, 31/7\, 14/8 en 28/8. Iedereen welkom.\nGratis.
URL:https://zorggroep-orion.be/activiteit/crea-in-de-vakantie/2025-08-28/
LOCATION:Dienstencentrum De Schoor\, Schorvoortstraat 53\, Turnhout\, 2300
CATEGORIES:Recreatie
ATTACH;FMTTYPE=image/png:https://zorggroep-orion.be/wp-content/uploads/2024/06/act202407-crea-juli-en-augustus.png
END:VEVENT
BEGIN:VEVENT
DTSTART;TZID=Europe/Brussels:20250725T140000
DTEND;TZID=Europe/Brussels:20250725T163000
DTSTAMP:20260424T192025
CREATED:20241015T113603Z
LAST-MODIFIED:20250627T134506Z
UID:10611340-1753452000-1753461000@zorggroep-orion.be
SUMMARY:Zomerbingo in De Schoor
DESCRIPTION:Op vrijdag 25 juli organiseren we onze eerste zomerbingo in De Schoor. Een gezellige bingo van 6 rondes waarmee je leuke kleine prijsjes kan winnen. Kom jij ook? Een namiddag vol plezier!\nTijdens de pauze is vlaai verkrijgbaar aan €2.
URL:https://zorggroep-orion.be/activiteit/bingo-in-antennepunt-7donk-2/
LOCATION:Dienstencentrum De Schoor\, Schorvoortstraat 53\, Turnhout\, 2300
CATEGORIES:Recreatie
ATTACH;FMTTYPE=image/png:https://zorggroep-orion.be/wp-content/uploads/2023/03/act-2021-Bingo.png
END:VEVENT
BEGIN:VEVENT
DTSTART;TZID=Europe/Brussels:20250715T140000
DTEND;TZID=Europe/Brussels:20250715T170000
DTSTAMP:20260424T192025
CREATED:20250526T082523Z
LAST-MODIFIED:20250526T123909Z
UID:10618652-1752588000-1752598800@zorggroep-orion.be
SUMMARY:DANSNAMIDDAG met NOSTALGIA @ Albert
DESCRIPTION:Hou jij van accordeon muziek? \nDeze namiddag kan je volop genieten van NOSTALGIA – zij zorgen voor de klank en jullie voor de zang. \nDus laat je volledig meeslepen – do re mi fa sol ….. Ons tentje zit weer vol! \nInkom bij de deur € 5 (incl. hapje) \n 
URL:https://zorggroep-orion.be/activiteit/dansnamiddag-met-nostalgia-albert/
LOCATION:Dienstencentrum Albert Van Dyck\, Albert Van Dyckstraat 10\, Turnhout\, Antwerpen\, 2300\, Belgium
CATEGORIES:Recreatie
ATTACH;FMTTYPE=image/png:https://zorggroep-orion.be/wp-content/uploads/2025/05/NOSTALGIA-JULI-LDC-AVD-2025-1.png
END:VEVENT
BEGIN:VEVENT
DTSTART;TZID=Europe/Brussels:20250705T133000
DTEND;TZID=Europe/Brussels:20250727T170000
DTSTAMP:20260424T192025
CREATED:20250627T140710Z
LAST-MODIFIED:20250627T140710Z
UID:10619153-1751722200-1753635600@zorggroep-orion.be
SUMMARY:Tour de France op onze TV in't café
DESCRIPTION:Elke dag kan je in ons café naar de Ronde van Frankrijk komen kijken. \nDe ganse Tour kan je genieten van een bordje koud gemengd aan €4.
URL:https://zorggroep-orion.be/activiteit/tour-de-france-op-onze-tv-int-cafe/
LOCATION:Dienstencentrum De Schoor\, Schorvoortstraat 53\, Turnhout\, 2300
CATEGORIES:Recreatie
ATTACH;FMTTYPE=image/png:https://zorggroep-orion.be/wp-content/uploads/2023/05/act202307-ronde-van-frankrijk.png
END:VEVENT
BEGIN:VEVENT
DTSTART;VALUE=DATE:20250701
DTEND;VALUE=DATE:20250901
DTSTAMP:20260424T192025
CREATED:20250627T140051Z
LAST-MODIFIED:20250627T140051Z
UID:10619151-1751328000-1756684799@zorggroep-orion.be
SUMMARY:Fotozoektocht door de Parkwijk
DESCRIPTION:Denk jij de straten van de Parkwijk te kennen? Onze vrijwilligers hebben een leuke fotozoektocht in elkaar gestoken.\nWe hebben een zoektocht voor volwassenen en voor kinderen. \n€5 voor de zoektocht voor volwassenen.\n€3 voor de zoektocht voor kinderen.
URL:https://zorggroep-orion.be/activiteit/fotozoektocht-door-de-parkwijk/
LOCATION:Dienstencentrum De Schoor\, Schorvoortstraat 53\, Turnhout\, 2300
CATEGORIES:Recreatie
ATTACH;FMTTYPE=image/png:https://zorggroep-orion.be/wp-content/uploads/2024/06/act202407-fotozoektocht.png
END:VEVENT
BEGIN:VEVENT
DTSTART;TZID=Europe/Brussels:20250630T100000
DTEND;TZID=Europe/Brussels:20250630T110000
DTSTAMP:20260424T192025
CREATED:20240422T140453Z
LAST-MODIFIED:20240516T093735Z
UID:10608883-1751277600-1751281200@zorggroep-orion.be
SUMMARY:Ontmoet je buur @ De Schoor
DESCRIPTION:Onder het motto ‘Ontmoet je buren’ komen we elke maandagvoormiddag samen in het café van De Schoor.\nHeb jij ook nood aan een babbel\, ontmoeting\, sociaal contact\, …? Dan ben je meer dan welkom! \nKom gerust eens langs en voor zij die willen staat er een tasje koffie of thee klaar voor €1. \n 
URL:https://zorggroep-orion.be/activiteit/ontmoet-je-buur-de-schoor-2/2025-06-30/
LOCATION:Dienstencentrum De Schoor\, Schorvoortstraat 53\, Turnhout\, 2300
CATEGORIES:Recreatie
ATTACH;FMTTYPE=image/jpeg:https://zorggroep-orion.be/wp-content/uploads/2024/03/ontmoet-je-buren.jpg
END:VEVENT
BEGIN:VEVENT
DTSTART;TZID=Europe/Brussels:20250618T133000
DTEND;TZID=Europe/Brussels:20250618T170000
DTSTAMP:20260424T192025
CREATED:20240528T091610Z
LAST-MODIFIED:20250522T095657Z
UID:10608900-1750253400-1750266000@zorggroep-orion.be
SUMMARY:Blokjesfestival De Schoor
DESCRIPTION:Raak Sint-Pieter en Raak Zevendonk organiseren het blokjesfestival in ons Dienstencentrum.\nKom jij mee gezellig bouwen met de 150kg legoblokjes? Groot en klein\, jong en oud welkom!
URL:https://zorggroep-orion.be/activiteit/blokjesfestival-de-schoor/
LOCATION:Dienstencentrum De Schoor\, Schorvoortstraat 53\, Turnhout\, 2300
CATEGORIES:Recreatie
ATTACH;FMTTYPE=image/png:https://zorggroep-orion.be/wp-content/uploads/2023/03/act-202306-Legofestival.png
END:VEVENT
BEGIN:VEVENT
DTSTART;TZID=Europe/Brussels:20250423T140000
DTEND;TZID=Europe/Brussels:20250423T170000
DTSTAMP:20260424T192025
CREATED:20250305T132800Z
LAST-MODIFIED:20250310T094220Z
UID:10615821-1745416800-1745427600@zorggroep-orion.be
SUMMARY:DANSEN EN SJANSEN MET HERMAN EN DENISE @ Albert
DESCRIPTION:VIJGEN NA PASEN BAL met HERMAN EN DENISE. Haal die dansschoenen uit de kast. Speciaal voor jou en je gezelschap hebben wij een uniek optreden van dit gekende duo\, niemand minder dan Herman aan zijn keyboard en zang door zijn vrouwtje Denise. Gegarandeerd beleven jullie een amusante namiddag.  \nMet zijn allen daarheen …. Hartelijk welkom in ons centrum. \nINKOM €5 aan de deur! \n 
URL:https://zorggroep-orion.be/activiteit/dansen-en-sjansen-met-herman-en-denise-albert/
LOCATION:Dienstencentrum Albert Van Dyck\, Albert Van Dyckstraat 10\, Turnhout\, Antwerpen\, 2300\, Belgium
CATEGORIES:Recreatie
ATTACH;FMTTYPE=image/png:https://zorggroep-orion.be/wp-content/uploads/2024/03/act202404-paaslunch.png
END:VEVENT
BEGIN:VEVENT
DTSTART;TZID=Europe/Brussels:20250419T090000
DTEND;TZID=Europe/Brussels:20250426T170000
DTSTAMP:20260424T192025
CREATED:20240320T120618Z
LAST-MODIFIED:20250425T133602Z
UID:10615843-1745053200-1745686800@zorggroep-orion.be
SUMMARY:Paaseierenzoektocht
DESCRIPTION:Tijdens de paasvakantie organiseren we in De Schoor een gratis paaseierenzoektocht voor jong en oud! Zoek de paaseieren die verspreid zijn in en rond ons dienstencentrum. De zoekformulieren kan je verkrijgen bij de medewerkers of de vrijwilligers. Het ingevulde blad kan je komen omruilen voor een zakje lekkere paaseitjes. \nDe zoektocht loopt van maandag 7 april tot en met zaterdag 19 april tijdens de openingsuren van het dienstencentrum.
URL:https://zorggroep-orion.be/activiteit/paaseierenzoektocht/2025-04-19/
LOCATION:Dienstencentrum De Schoor\, Schorvoortstraat 53\, Turnhout\, 2300
CATEGORIES:Recreatie
ATTACH;FMTTYPE=image/jpeg:https://zorggroep-orion.be/wp-content/uploads/2024/03/act202404-paaszoektocht.jpg
END:VEVENT
BEGIN:VEVENT
DTSTART;TZID=Europe/Brussels:20250416T140000
DTEND;TZID=Europe/Brussels:20250416T170000
DTSTAMP:20260424T192025
CREATED:20260305T091618Z
LAST-MODIFIED:20260305T091618Z
UID:10626402-1744812000-1744822800@zorggroep-orion.be
SUMMARY:VIJGEN NA PASEN BAL MET ROGER @ Albert
DESCRIPTION:VIJGEN NA PASEN BAL met ROGER SMETS. \nHaal die dansschoenen uit de kast. Speciaal voor jou en je gezelschap hebben wij een nieuwkomer in ons gezelschap\, niemand minder dan Roger met zang en keyboard. \nGegarandeerd beleven jullie een amusante namiddag.  \nMet zijn allen daarheen …. Hartelijk welkom in ons centrum. \nINKOM GRATIS  – Wij voorzien een hapje aan democratische prijs!
URL:https://zorggroep-orion.be/activiteit/vijgen-na-pasen-bal-met-roger-albert/
LOCATION:Dienstencentrum Albert Van Dyck\, Albert Van Dyckstraat 10\, Turnhout\, Antwerpen\, 2300\, Belgium
CATEGORIES:Recreatie
ATTACH;FMTTYPE=image/png:https://zorggroep-orion.be/wp-content/uploads/2026/03/DANSEN-EN-SJANSEN-LDC-AVD-2026.png
END:VEVENT
BEGIN:VEVENT
DTSTART;TZID=Europe/Brussels:20250411T140000
DTEND;TZID=Europe/Brussels:20250411T170000
DTSTAMP:20260424T192025
CREATED:20240315T134332Z
LAST-MODIFIED:20250321T135907Z
UID:10608615-1744380000-1744390800@zorggroep-orion.be
SUMMARY:Paasquiz @ De Wissel
DESCRIPTION:Het is weer tijd voor onze jaarlijkse paasquiz! Fred is onze quizmaster van dienst tijdens onze gezellige paasquiz. \nPraktisch: \n\nInschrijven doe je per ploeg van minimum 3 en maximum 5 personen\nDe inschrijvingsprijs is €3\,00 per persoon\nInschrijven kan bij LDC De Wissel\nIedereen ontvangt een prijs!
URL:https://zorggroep-orion.be/activiteit/paasquizde-wissel/
LOCATION:Dienstencentrum De Wissel\, Dokter Nand Peetersstraat 33\, Turnhout\, Antwerpen\, 2300\, Belgium
CATEGORIES:Recreatie
ATTACH;FMTTYPE=image/jpeg:https://zorggroep-orion.be/wp-content/uploads/2024/03/Kopie-van-Lezing-heksen-042025.jpg
END:VEVENT
BEGIN:VEVENT
DTSTART;VALUE=DATE:20250407
DTEND;VALUE=DATE:20250421
DTSTAMP:20260424T192025
CREATED:20240315T124843Z
LAST-MODIFIED:20250321T115612Z
UID:10608614-1743984000-1745193599@zorggroep-orion.be
SUMMARY:Paaszoektocht@De Wissel
DESCRIPTION:Tijdens de paasvakantie organiseren we een paaszoektocht voor jong en oud! Kan jij alle paaseitjes vinden die verstopt zijn op het binnenplein? \nJe mag je aanmelden in de cafetaria\, daar krijg je het formulier van de zoektocht. Het ingevulde formulier kan je bij onze vrijwilligers inruilen voor een zakje paaseitjes. \nDe paaszoektocht loopt vanaf 7 april t.e.m. 20 april. \n 
URL:https://zorggroep-orion.be/activiteit/paaszoektochtde-wissel/
LOCATION:Dienstencentrum De Wissel\, Dokter Nand Peetersstraat 33\, Turnhout\, Antwerpen\, 2300\, Belgium
CATEGORIES:Recreatie
ATTACH;FMTTYPE=image/jpeg:https://zorggroep-orion.be/wp-content/uploads/2024/03/act202404-paaszoektocht.jpg
END:VEVENT
BEGIN:VEVENT
DTSTART;TZID=Europe/Brussels:20250319T140000
DTEND;TZID=Europe/Brussels:20250319T170000
DTSTAMP:20260424T192025
CREATED:20250217T145409Z
LAST-MODIFIED:20250217T145409Z
UID:10615603-1742392800-1742403600@zorggroep-orion.be
SUMMARY:VADERDAG BAL @ Albert
DESCRIPTION:VADERS\, PAPA’s\, PLUS PAPA’s\, OPA’s\, haal die dansschoenen uit de kast. Speciaal voor jullie en je gezelschap vieren we vandaag de Heilige Jozef. Dansen of sjansen met Heidi\, een nieuwkomer in ons centrum\, zij brengt zowel Nederlands-  als Engelstalige liederen die we allemaal kennen \nKom haar alvast aanmoedigen en geniet mee in leuk gezelschap van dit muzikaal talent. \nMet zijn allen daarheen …. Hartelijk welkom in ons centrum. \nInschrijven tot 17 maart € 5 incl. hapjes. \n 
URL:https://zorggroep-orion.be/activiteit/vaderdag-bal-albert-2/
LOCATION:Dienstencentrum Albert Van Dyck\, Albert Van Dyckstraat 10\, Turnhout\, Antwerpen\, 2300\, Belgium
CATEGORIES:Recreatie
ATTACH;FMTTYPE=image/png:https://zorggroep-orion.be/wp-content/uploads/2025/02/VADERDAG-BAL-LDC-AVD-03-2025.png
END:VEVENT
BEGIN:VEVENT
DTSTART;TZID=Europe/Brussels:20241222T140000
DTEND;TZID=Europe/Brussels:20241222T140000
DTSTAMP:20260424T192025
CREATED:20241107T135057Z
LAST-MODIFIED:20241107T135057Z
UID:10611620-1734876000-1734876000@zorggroep-orion.be
SUMMARY:TRACEY EN DE KERSTMAN @ Albert
DESCRIPTION:HOHOHO: Zondag\, een dag om te DANSEN EN SJANSEN met TRACEY\, zangeres die zorgt voor den ambiance en met een beetje chance passeert de KERSTMAN met zijn ELFENFAMILIE. \nKom jij mee genieten van een gezellige namiddag in ons cafetaria? \nEn de Kerstman denkt natuurlijk ook aan onze kleintjes. Dus hohoho\, gogogo! \nHARTELIJK WELKOM
URL:https://zorggroep-orion.be/activiteit/tracey-en-de-kerstman-albert/
LOCATION:Dienstencentrum Albert Van Dyck\, Albert Van Dyckstraat 10\, Turnhout\, Antwerpen\, 2300\, Belgium
CATEGORIES:Recreatie
ATTACH;FMTTYPE=image/png:https://zorggroep-orion.be/wp-content/uploads/2024/11/LDC-AVD-KERSTMAN-DEC-2024.png
END:VEVENT
BEGIN:VEVENT
DTSTART;TZID=Europe/Brussels:20241218T140000
DTEND;TZID=Europe/Brussels:20241218T163000
DTSTAMP:20260424T192025
CREATED:20240918T093023Z
LAST-MODIFIED:20241118T140705Z
UID:10611256-1734530400-1734539400@zorggroep-orion.be
SUMMARY:Bingo in Antennepunt 7donk
DESCRIPTION:Elke derde woensdag van de maand organiseren we een bingo in ons antennepunt. Kom jij ook? Een namiddag vol plezier!\nTijdens de pauze is er appelstrudel met slagroom verkrijgbaar aan €1.3.
URL:https://zorggroep-orion.be/activiteit/bingo-in-antennepunt-7donk/
LOCATION:Antennepunt 7donk\, Kapelweg 52\, Turnhout\, 2300\, Belgium
CATEGORIES:Recreatie
ATTACH;FMTTYPE=image/png:https://zorggroep-orion.be/wp-content/uploads/2023/03/act-2021-Bingo.png
END:VEVENT
END:VCALENDAR