BEGIN:VCALENDAR
VERSION:2.0
PRODID:-//Zorggroep Orion - ECPv6.15.17.1//NONSGML v1.0//EN
CALSCALE:GREGORIAN
METHOD:PUBLISH
X-ORIGINAL-URL:https://zorggroep-orion.be
X-WR-CALDESC:Evenementen voor Zorggroep Orion
REFRESH-INTERVAL;VALUE=DURATION:PT1H
X-Robots-Tag:noindex
X-PUBLISHED-TTL:PT1H
BEGIN:VTIMEZONE
TZID:Europe/Brussels
BEGIN:DAYLIGHT
TZOFFSETFROM:+0100
TZOFFSETTO:+0200
TZNAME:CEST
DTSTART:20250330T010000
END:DAYLIGHT
BEGIN:STANDARD
TZOFFSETFROM:+0200
TZOFFSETTO:+0100
TZNAME:CET
DTSTART:20251026T010000
END:STANDARD
BEGIN:DAYLIGHT
TZOFFSETFROM:+0100
TZOFFSETTO:+0200
TZNAME:CEST
DTSTART:20260329T010000
END:DAYLIGHT
BEGIN:STANDARD
TZOFFSETFROM:+0200
TZOFFSETTO:+0100
TZNAME:CET
DTSTART:20261025T010000
END:STANDARD
BEGIN:DAYLIGHT
TZOFFSETFROM:+0100
TZOFFSETTO:+0200
TZNAME:CEST
DTSTART:20270328T010000
END:DAYLIGHT
BEGIN:STANDARD
TZOFFSETFROM:+0200
TZOFFSETTO:+0100
TZNAME:CET
DTSTART:20271031T010000
END:STANDARD
END:VTIMEZONE
BEGIN:VEVENT
DTSTART;TZID=Europe/Brussels:20260420T080000
DTEND;TZID=Europe/Brussels:20260420T170000
DTSTAMP:20260425T131743
CREATED:20250827T101603Z
LAST-MODIFIED:20260204T140908Z
UID:10619651-1776672000-1776704400@zorggroep-orion.be
SUMMARY:PEDICURE @ DE WISSEL
DESCRIPTION:Pedicure en/of manicure in LDC De Wissel! Heidi\, zal jullie met de beste zorg soigneren. \nWanneer: Wekelijks op maandag in LDC De Wissel \nEnkel op afspraak: een afspraak kan je maken met Heidi Van Rooy (Pedicure) via het nummer: 0498 56 36 00. \nDuur behandeling: +/- 45 minuten per behandeling \nBetaling: ter plaatse te betalen (geen bankcontact of payconiq)
URL:https://zorggroep-orion.be/activiteit/pedicure-de-wissel/2026-04-20/
LOCATION:Dienstencentrum De Wissel\, Dokter Nand Peetersstraat 33\, Turnhout\, Antwerpen\, 2300\, Belgium
CATEGORIES:Dienstverlening
ATTACH;FMTTYPE=image/png:https://zorggroep-orion.be/wp-content/uploads/2024/05/PEDICURE-LDC-AVD-2024.png
END:VEVENT
BEGIN:VEVENT
DTSTART;TZID=Europe/Brussels:20260417T140000
DTEND;TZID=Europe/Brussels:20260417T160000
DTSTAMP:20260425T131743
CREATED:20260304T102417Z
LAST-MODIFIED:20260304T102417Z
UID:10626398-1776434400-1776441600@zorggroep-orion.be
SUMMARY:DE DIGITALE WERELD @ Albert
DESCRIPTION:Infosessie door Bob Devisscher \nTHEMA VAN DE MAAND : THE CLOUD \nWat is the cloud? \nStap voor stap gaan we door de wondere wereld van de technologie\, in een duidelijk\, rustig tempo én in verstaanbare taal.  \nHiervoor INSCHRIJVEN bij het onthaal. 
URL:https://zorggroep-orion.be/activiteit/de-digitale-wereld-albert/
LOCATION:Dienstencentrum Albert Van Dyck\, Albert Van Dyckstraat 10\, Turnhout\, Antwerpen\, 2300\, Belgium
CATEGORIES:Infosessie
ATTACH;FMTTYPE=image/png:https://zorggroep-orion.be/wp-content/uploads/2026/03/THE-CLOUD-LDC-AVD.png
END:VEVENT
BEGIN:VEVENT
DTSTART;TZID=Europe/Brussels:20260417T090000
DTEND;TZID=Europe/Brussels:20260417T180000
DTSTAMP:20260425T131743
CREATED:20260304T163123Z
LAST-MODIFIED:20260304T163123Z
UID:10626406-1776416400-1776448800@zorggroep-orion.be
SUMMARY:SHOPPEN / HERENTALS MARKT @ Albert
DESCRIPTION:Wat is er gezelliger dan in goed gezelschap te genieten van een dagje uit naar de markt? \nWij vertrekken om 9 u bij onze hoofdingang van ons centrum. Je kan zelf je dag invullen naar wens en om 17 u staat onze chauffeur van dienst\, Dirk en of Louis weer paraat om jullie in alle veiligheid weer thuis te brengen. \nInschrijven\, want de plaatsen zijn beperkt. (bij veel interesse leggen we een 2e datum vast)
URL:https://zorggroep-orion.be/activiteit/shoppen-herentals-markt-albert/
LOCATION:Dienstencentrum Albert Van Dyck\, Albert Van Dyckstraat 10\, Turnhout\, Antwerpen\, 2300\, Belgium
CATEGORIES:Uitstap
ATTACH;FMTTYPE=image/png:https://zorggroep-orion.be/wp-content/uploads/2026/03/MARKT-LDC-AVD.png
END:VEVENT
BEGIN:VEVENT
DTSTART;TZID=Europe/Brussels:20260417T090000
DTEND;TZID=Europe/Brussels:20260417T160000
DTSTAMP:20260425T131743
CREATED:20260317T100659Z
LAST-MODIFIED:20260317T105418Z
UID:10626754-1776416400-1776441600@zorggroep-orion.be
SUMMARY:Paasspeurtocht @ De Schoor
DESCRIPTION:Op zoek naar een leuke activiteit voor Pasen? Kom bij ons een Paasspeurtocht doen.  We hebben 2 speurtochten voor speurneuzen van 4-6 jaar en speurneuzen van 7-9 jaar. \nIn deze speurtocht volg je aanwijzingen die de dader heeft achtergelaten in de vorm van puzzels en afbeeldingen. Elke puzzel leidt naar een nieuwe locatie in De Schoor. Door de puzzels op te lossen kom je stap voor stap dichter bij je beloning.  \nJe kan deze speurtocht kopen bij de vrijwilligers achter de toog.
URL:https://zorggroep-orion.be/activiteit/paasspeurtocht-de-schoor/2026-04-17/
LOCATION:Dienstencentrum De Schoor\, Schorvoortstraat 53\, Turnhout\, 2300
CATEGORIES:Recreatie
ATTACH;FMTTYPE=image/png:https://zorggroep-orion.be/wp-content/uploads/2026/03/Schermafbeelding-2026-03-17-115311.png
END:VEVENT
BEGIN:VEVENT
DTSTART;TZID=Europe/Brussels:20260417T090000
DTEND;TZID=Europe/Brussels:20260417T110000
DTSTAMP:20260425T131743
CREATED:20260216T135737Z
LAST-MODIFIED:20260403T130458Z
UID:10626308-1776416400-1776423600@zorggroep-orion.be
SUMMARY:Project Bloeikas van Curieus
DESCRIPTION:Bloeikas is een nieuw\, verbindend kunstproject van Curieus waarin groepen tijdens de lente samen een creatief idee tot leven brengen. \nHaak mee met \nDe Schoorse Bloemenbende! \nOns LDC doet mee aan het grote Project Bloeikas van Curieus en binnen dat mooie initiatief starten wij onze eigen fleurige ploeg: De Schoorse Bloemenbende! \nVan 23 maart tot en met 17 april toveren we ons dienstencentrum om tot een plek vol kleur en creativiteit. \nWe haken bloemen voor het project en maken er tegelijk gezellige voormiddagen van. \nElke weekdag van 9 tot 11 uur in LDC De Schoor. \nBen jij een handige\, creatieve Harriette of gewoon iemand die graag gezellig samen bezig is? \nIedereen is welkom! \nErvaring is fijn\, maar goesting is nóg belangrijker. \nKom langs\, breng je haaknaald\, geniet van een fijne babbel en help ons De Schoor in bloei te zetten. \nSamen maken we er een bonte bloemenbende van!
URL:https://zorggroep-orion.be/activiteit/projece-bloeikas-van-curieus/2026-04-17/
LOCATION:Dienstencentrum De Schoor\, Schorvoortstraat 53\, Turnhout\, 2300
CATEGORIES:Recreatie
ATTACH;FMTTYPE=image/png:https://zorggroep-orion.be/wp-content/uploads/2026/02/Schermafbeelding-2026-02-16-145557-e1771250202806.png
END:VEVENT
BEGIN:VEVENT
DTSTART;TZID=Europe/Brussels:20260416T140000
DTEND;TZID=Europe/Brussels:20260416T170000
DTSTAMP:20260425T131743
CREATED:20260305T094635Z
LAST-MODIFIED:20260305T094635Z
UID:10626410-1776348000-1776358800@zorggroep-orion.be
SUMMARY:VIJGEN NA PASEN BAL @ Albert
DESCRIPTION:VIJGEN NA PASEN BAL met ROGER en MARC. \nHaal die dansschoenen uit de kast. Speciaal voor jou en je gezelschap hebben wij twee nieuwkomers in ons gezelschap\, niemand minder dan Roger en Marc met zang\, keyboard en accordeon. \n\nGegarandeerd beleven jullie een amusante namiddag. \nMet zijn allen daarheen …. \nHartelijk welkom in ons centrum. \nINKOM GRATIS \nWij voorzien een hapje aan democratische prijs!
URL:https://zorggroep-orion.be/activiteit/vijgen-na-pasen-bal-albert/
LOCATION:Dienstencentrum Albert Van Dyck\, Albert Van Dyckstraat 10\, Turnhout\, Antwerpen\, 2300\, Belgium
CATEGORIES:Feest
ATTACH;FMTTYPE=image/png:https://zorggroep-orion.be/wp-content/uploads/2026/03/DANSEN-EN-SJANSEN-LDC-AVD-2026.png
END:VEVENT
BEGIN:VEVENT
DTSTART;TZID=Europe/Brussels:20260416T093000
DTEND;TZID=Europe/Brussels:20260416T120000
DTSTAMP:20260425T131743
CREATED:20260204T125033Z
LAST-MODIFIED:20260204T125033Z
UID:10626140-1776331800-1776340800@zorggroep-orion.be
SUMMARY:FILM @ Albert
DESCRIPTION:Je kan hier maandelijks in alle rust genieten van een film: romantiek\, actie\, thriller\, familie …. uw vraagt\, wij draaien.  Waarom nog twijfelen? Géén was\, géén plas\, maar een donderdag genieten in goed gezelschap. Van Harte Welkom! Prijs € 2 incl. koffie\, thee of water. \nTelkens de 3e Donderdagvoormiddag!
URL:https://zorggroep-orion.be/activiteit/film-albert-3/
LOCATION:Dienstencentrum Albert Van Dyck\, Albert Van Dyckstraat 10\, Turnhout\, Antwerpen\, 2300\, Belgium
CATEGORIES:Recreatie
ATTACH;FMTTYPE=image/png:https://zorggroep-orion.be/wp-content/uploads/2025/09/FILM-OKT-LDC-AVD-2025.png
END:VEVENT
BEGIN:VEVENT
DTSTART;TZID=Europe/Brussels:20260415T140000
DTEND;TZID=Europe/Brussels:20260415T163000
DTSTAMP:20260425T131743
CREATED:20260113T142508Z
LAST-MODIFIED:20260415T140138Z
UID:10623234-1776261600-1776270600@zorggroep-orion.be
SUMMARY:Bingo in DE SCHOOR
DESCRIPTION:Elke derde woensdag van de maand organiseren we een bingo in ons dienstencentrum. \n€4.5/6 rondes. \nIEDEREEN WELKOM! \nTijdens de pauze kun je genieten van een Brusselse wafel aan €2.
URL:https://zorggroep-orion.be/activiteit/bingo-in-de-schoor/2026-04-15/
LOCATION:Dienstencentrum De Schoor\, Schorvoortstraat 53\, Turnhout\, 2300
CATEGORIES:Recreatie
ATTACH;FMTTYPE=image/png:https://zorggroep-orion.be/wp-content/uploads/2022/01/bingo.png
END:VEVENT
BEGIN:VEVENT
DTSTART;TZID=Europe/Brussels:20260415T140000
DTEND;TZID=Europe/Brussels:20260415T140000
DTSTAMP:20260425T131743
CREATED:20260203T152243Z
LAST-MODIFIED:20260203T152308Z
UID:10625614-1776261600-1776261600@zorggroep-orion.be
SUMMARY:MIA's SOEP @ Albert
DESCRIPTION:Vanaf 14 u zet Mia de potten op het vuur\, en wees gerust – ’t is niet duur! \nGewoon als 4-uurtje kan je genieten van een heerlijk VERS KOPJE SOEP met brood! \nMaandelijks een ander smaakje.  \nJij komt toch ook proeven?  \nMia heet jullie hartelijk welkom in ons cafetaria onder het motto OP = OP. \n(NIET OM AF TE HALEN) \n 
URL:https://zorggroep-orion.be/activiteit/mias-soep-albert-2/
LOCATION:Dienstencentrum Albert Van Dyck\, Albert Van Dyckstraat 10\, Turnhout\, Antwerpen\, 2300\, Belgium
CATEGORIES:Workshop
ATTACH;FMTTYPE=image/png:https://zorggroep-orion.be/wp-content/uploads/2025/12/SOEP-JAN-LDC-AVD-2026.png
END:VEVENT
BEGIN:VEVENT
DTSTART;TZID=Europe/Brussels:20260415T100000
DTEND;TZID=Europe/Brussels:20260422T113000
DTSTAMP:20260425T131743
CREATED:20260203T104730Z
LAST-MODIFIED:20260203T104730Z
UID:10624267-1776247200-1776857400@zorggroep-orion.be
SUMMARY:FRANSE CONVERSATIE @ DE WISSEL
DESCRIPTION:Heb je zin om je Franse vaardigheden wat op te frissen? Kom dan op woensdag tussen 10u00 en 11u30 uur langs in LDC De Wissel voor een praatje in het Frans. \nPrijs: €2\,00 inclusief koffie/thee
URL:https://zorggroep-orion.be/activiteit/franse-conversatie-de-wissel/2026-04-15/
LOCATION:Dienstencentrum De Wissel\, Dokter Nand Peetersstraat 33\, Turnhout\, Antwerpen\, 2300\, Belgium
CATEGORIES:Leren
ATTACH;FMTTYPE=image/png:https://zorggroep-orion.be/wp-content/uploads/2020/03/2003-act-frans-conversatie.png
END:VEVENT
BEGIN:VEVENT
DTSTART;TZID=Europe/Brussels:20260414T140000
DTEND;TZID=Europe/Brussels:20260414T170000
DTSTAMP:20260425T131743
CREATED:20260305T083730Z
LAST-MODIFIED:20260305T084844Z
UID:10626408-1776175200-1776186000@zorggroep-orion.be
SUMMARY:PAAS - BINGO @ Albert
DESCRIPTION:Met Pasen nog in de zaal\, wat een gezellig ding\, Eitjes op tafel en daar klinkt: “Bingo!” in de kring. \nEen kaart vol haasjes\, een kuikentje hier en daar\, Wie heeft als eerste een volle rij klaar? \nChocolade eitjes als prijs in een mand\, Spanning en lachen door het hele land. \nNog één nummertje… iedereen zit stil — “BINGO!” klinkt achteraan luid\, wat een gegil! 🐣 \n€ 2\,5 (3 rondes – incl. 1 gratis ronde) Gezelligheid troef bij onze vrijwilligers van dienst! Allen welkom.
URL:https://zorggroep-orion.be/activiteit/paas-bingo-albert/
LOCATION:Dienstencentrum Albert Van Dyck\, Albert Van Dyckstraat 10\, Turnhout\, Antwerpen\, 2300\, Belgium
CATEGORIES:Recreatie
ATTACH;FMTTYPE=image/jpeg:https://zorggroep-orion.be/wp-content/uploads/2026/03/PAAS-BINGO-LDC-AVD-2026.jpg
END:VEVENT
BEGIN:VEVENT
DTSTART;TZID=Europe/Brussels:20260414T140000
DTEND;TZID=Europe/Brussels:20260414T160000
DTSTAMP:20260425T131743
CREATED:20260311T144816Z
LAST-MODIFIED:20260311T145345Z
UID:10626594-1776175200-1776182400@zorggroep-orion.be
SUMMARY:Kinderkaroké
DESCRIPTION:Kom meezingen met de leukste liedjes van Studio 100\, #LikeMe\, Disney en nog veel meer! Alle kinderen zijn welkom om hun favoriete nummers te zingen en plezier te maken. Papa’s\, mama’s\, oma’s en opa’s: kom gezellig mee supporteren\, meezingen mag natuurlijk ook! \nIedereen welkom voor een vrolijke namiddag vol muziek en plezier!
URL:https://zorggroep-orion.be/activiteit/kinderkaroke/
LOCATION:Dienstencentrum De Schoor\, Schorvoortstraat 53\, Turnhout\, 2300
CATEGORIES:Muziek
ATTACH;FMTTYPE=image/png:https://zorggroep-orion.be/wp-content/uploads/2026/03/Schermafbeelding-2026-03-11-153019.png
END:VEVENT
BEGIN:VEVENT
DTSTART;TZID=Europe/Brussels:20260414T090000
DTEND;TZID=Europe/Brussels:20260414T150000
DTSTAMP:20260425T131743
CREATED:20260311T143047Z
LAST-MODIFIED:20260311T143047Z
UID:10626592-1776157200-1776178800@zorggroep-orion.be
SUMMARY:Uitstap Japanse tuinen Hasselt
DESCRIPTION:Kom mee naar de Japanse Tuin in Hasselt en geniet van de prachtige kersenbloesems\, een bijzonder moment waarop de tuin op zijn mooist is. Terwijl de zachte roze bloesems de bomen vullen\, wandelen we samen door de serene paden en ervaren we de rust en schoonheid van de Japanse natuur en cultuur. \nInschrijven tot 9 april bij de medewerkers van De Schoor: deschoor@zorggroep-orion.be of 014 28 40 72 of door binnen te springen.
URL:https://zorggroep-orion.be/activiteit/uitstap-japanse-tuinen-hasselt/
LOCATION:Dienstencentrum De Schoor\, Schorvoortstraat 53\, Turnhout\, 2300
CATEGORIES:Uitstap
ATTACH;FMTTYPE=image/png:https://zorggroep-orion.be/wp-content/uploads/2026/03/Schermafbeelding-2026-03-11-153003.png
END:VEVENT
BEGIN:VEVENT
DTSTART;TZID=Europe/Brussels:20260413T190000
DTEND;TZID=Europe/Brussels:20260413T210000
DTSTAMP:20260425T131743
CREATED:20260311T142615Z
LAST-MODIFIED:20260311T142615Z
UID:10626591-1776106800-1776114000@zorggroep-orion.be
SUMMARY:Genieten van een luistermoment in stilte
DESCRIPTION:Het vocaal ensemble CANTAT komt repeteren in De Schoor. \nLuisteraars zijn welkom\, ons Café is open. \nGRATIS
URL:https://zorggroep-orion.be/activiteit/genieten-van-een-luistermoment-in-stilte-5/
LOCATION:Dienstencentrum De Schoor\, Schorvoortstraat 53\, Turnhout\, 2300
CATEGORIES:Muziek
ATTACH;FMTTYPE=image/png:https://zorggroep-orion.be/wp-content/uploads/2023/03/act-202306-cantat.png
END:VEVENT
BEGIN:VEVENT
DTSTART;TZID=Europe/Brussels:20260413T140000
DTEND;TZID=Europe/Brussels:20260413T160000
DTSTAMP:20260425T131743
CREATED:20260310T201131Z
LAST-MODIFIED:20260310T201133Z
UID:10626400-1776088800-1776096000@zorggroep-orion.be
SUMMARY:DE DIGITALE WERELD VAN BOB @ Albert
DESCRIPTION:Bob Devisscher legt uit! \nVrije inloop voor verdere vragen ivm. GSM\, Smartphone\, …. \nStap voor stap gaan we door de wondere wereld van de technologie\, in een duidelijk\, rustig tempo \nén in verstaanbare taal. \nGratis toegang!
URL:https://zorggroep-orion.be/activiteit/de-digitale-wereld-van-bob-albert-9-2/
LOCATION:Dienstencentrum Albert Van Dyck\, Albert Van Dyckstraat 10\, Turnhout\, Antwerpen\, 2300\, Belgium
CATEGORIES:Leren
ATTACH;FMTTYPE=image/png:https://zorggroep-orion.be/wp-content/uploads/2025/10/11-DIGITALE-WERELD-LDC-AVD.png
END:VEVENT
BEGIN:VEVENT
DTSTART;TZID=Europe/Brussels:20260413T133000
DTEND;TZID=Europe/Brussels:20260413T170000
DTSTAMP:20260425T131743
CREATED:20260327T102117Z
LAST-MODIFIED:20260327T102117Z
UID:10626768-1776087000-1776099600@zorggroep-orion.be
SUMMARY:BREICAFE @ DE WISSEL
DESCRIPTION:Wil je graag zelf die leuke pull of vest breien\, maar durf je er niet alleen aan te beginnen? Of hou je meer van borduren of ander handwerk? In ons breicafé ben je om de twee weken welkom op maandagnamiddag. \n\nMaandag 13 april\nMaandag 27 april\n\nAnnemie is een zeer ervaren vrijwilligster die jou met plezier op weg helpt.
URL:https://zorggroep-orion.be/activiteit/breicafe-de-wissel-6/
LOCATION:Dienstencentrum De Wissel\, Dokter Nand Peetersstraat 33\, Turnhout\, Antwerpen\, 2300\, Belgium
CATEGORIES:Workshop
ATTACH;FMTTYPE=image/png:https://zorggroep-orion.be/wp-content/uploads/2023/01/1900act-Babbel-en-breicafe.png
END:VEVENT
BEGIN:VEVENT
DTSTART;TZID=Europe/Brussels:20260413T133000
DTEND;TZID=Europe/Brussels:20260413T170000
DTSTAMP:20260425T131743
CREATED:20260311T142448Z
LAST-MODIFIED:20260311T142448Z
UID:10626590-1776087000-1776099600@zorggroep-orion.be
SUMMARY:Naaicafé
DESCRIPTION:Onder het motto ‘we helpen elkaar’ organiseren we elke 14 dagen een ‘naainamiddag’. Breng zelf je gerief en naaimachine mee en kom gezellig mee aan je stuk werken. \nZit je met vragen? We helpen mekaar verder.
URL:https://zorggroep-orion.be/activiteit/naaicafe-10/
LOCATION:Dienstencentrum De Schoor\, Schorvoortstraat 53\, Turnhout\, 2300
CATEGORIES:Workshop
ATTACH;FMTTYPE=image/png:https://zorggroep-orion.be/wp-content/uploads/2025/08/act.-202509-naaicafe.png
END:VEVENT
BEGIN:VEVENT
DTSTART;TZID=Europe/Brussels:20260413T133000
DTEND;TZID=Europe/Brussels:20260413T133000
DTSTAMP:20260425T131743
CREATED:20260203T131252Z
LAST-MODIFIED:20260203T131252Z
UID:10625541-1776087000-1776087000@zorggroep-orion.be
SUMMARY:WANDELINGEN @ Albert
DESCRIPTION:🚶‍♂️ Wandel in groep 🚶‍♀️Een gezellige tocht van ongeveer 5 km\, geschikt voor iedereen. (vaak buiten het centrum)Doe mee en ontdek hoe leuk wandelen samen kan zijn! \nVertrek om 13.30u bij onze hoofdingang van dienstencentrum Albert Van Dyck. Al dan niet vervoer mogelijk met ons busje! \nDeze maand: HOGE RIELEN in Kasterlee. \nDeelname € 2 (incl. verzekering/ koffie\, thee of water)
URL:https://zorggroep-orion.be/activiteit/wandelingen-albert-3/
LOCATION:Dienstencentrum Albert Van Dyck\, Albert Van Dyckstraat 10\, Turnhout\, Antwerpen\, 2300\, Belgium
CATEGORIES:Bewegen
ATTACH;FMTTYPE=image/png:https://zorggroep-orion.be/wp-content/uploads/2026/02/WAND-APRIL-LDC-AVD.png
END:VEVENT
BEGIN:VEVENT
DTSTART;TZID=Europe/Brussels:20260413T120000
DTEND;TZID=Europe/Brussels:20260413T130000
DTSTAMP:20260425T131743
CREATED:20260327T111815Z
LAST-MODIFIED:20260327T112345Z
UID:10626780-1776081600-1776085200@zorggroep-orion.be
SUMMARY:SOEP MET BABBELS @ TURNHOUT-OOST
DESCRIPTION:Woon jij in Turnhout-Oost? Wil je je buren ontmoeten of met bekende een babbeltje slaan? Schuif dan om 12u mee aan voor een bord verse soep tijdens de activiteit ‘soep met babbels’ \nWanneer? We treffen elkaar elke 2 weken op maandag. \nVolgend soepmoment: \n\nMaandag 13 april\n\nPrijs? €3\,00 (inclusief 2 tassen soep met brood) \nWaar? PC Goddelijk Kind – zaal achteraan – Meuletiende – Turnhout \nWees welkom & breng gerust nog een buur mee!
URL:https://zorggroep-orion.be/activiteit/soep-met-babbels-turnhout-oost-4/
LOCATION:Dienstencentrum De Wissel\, Dokter Nand Peetersstraat 33\, Turnhout\, Antwerpen\, 2300\, Belgium
CATEGORIES:Eten & Drinken
ATTACH;FMTTYPE=image/png:https://zorggroep-orion.be/wp-content/uploads/2024/11/SOEP-12-LDC-AVD-2024.png
END:VEVENT
BEGIN:VEVENT
DTSTART;TZID=Europe/Brussels:20260412T140000
DTEND;TZID=Europe/Brussels:20260412T163000
DTSTAMP:20260425T131744
CREATED:20260311T142237Z
LAST-MODIFIED:20260311T142237Z
UID:10626589-1776002400-1776011400@zorggroep-orion.be
SUMMARY:Meezingen met Jos
DESCRIPTION:Zin in een gezellige namiddag vol live muziek? \nDan ben je bij Jos Truyens aan het juiste adres! \nMet zijn warme stem en jarenlange podiumervaring zorgt hij voor een sfeervol optreden vol ambiance. Van mooie oldies en Nederlandstalige klassiekers tot tijdloze internationale hits: herkenbare muziek om van te genieten\, mee te zingen en zelfs een dansje te wagen. \nEen namiddag vol muziek\, gezelligheid en plezier voor jong en minder jong. \nIEDEREEN WELKOM!
URL:https://zorggroep-orion.be/activiteit/meezingen-met-jos/
LOCATION:Dienstencentrum De Schoor\, Schorvoortstraat 53\, Turnhout\, 2300
CATEGORIES:Muziek
ATTACH;FMTTYPE=image/png:https://zorggroep-orion.be/wp-content/uploads/2026/03/Schermafbeelding-2026-03-11-152211.png
END:VEVENT
BEGIN:VEVENT
DTSTART;TZID=Europe/Brussels:20260410T150000
DTEND;TZID=Europe/Brussels:20260410T160000
DTSTAMP:20260425T131744
CREATED:20260327T101416Z
LAST-MODIFIED:20260327T101620Z
UID:10626766-1775833200-1775836800@zorggroep-orion.be
SUMMARY:WATER EN WELLNESS @ GielsBos
DESCRIPTION:Elke tweede vrijdag van de maand! \n\nWater en wellness is de perfecte ontspanning voor mensen met dementie.\nPersonen met dementie kunnen\, samen met hun begeleider\, elke maand genieten van een uurtje water en wellness in een aangepaste zwemomgeving\n\n\n\n\n€ 5 voor de persoon met dementie / begeleider zwemt gratis. \n€ 1 via kansentarief met UITpas.\n\n\nInschrijven kan via: www.turnhout.be/water-welness\n\n\nLocatie: Het GielsBos\nBelevingsbad Waterlelie\nVosselaarseweg 1 – 2275 GIERLE
URL:https://zorggroep-orion.be/activiteit/water-en-wellness-gielsbos-6/
LOCATION:Dienstencentrum Albert Van Dyck\, Albert Van Dyckstraat 10\, Turnhout\, Antwerpen\, 2300\, Belgium
CATEGORIES:Bewegen
ATTACH;FMTTYPE=image/png:https://zorggroep-orion.be/wp-content/uploads/2024/09/DEMENTIE-VRIENDELIJK-ZWEMMEN-LDCs.png
END:VEVENT
BEGIN:VEVENT
DTSTART;TZID=Europe/Brussels:20260410T150000
DTEND;TZID=Europe/Brussels:20260410T160000
DTSTAMP:20260425T131744
CREATED:20260203T122956Z
LAST-MODIFIED:20260203T131314Z
UID:10625539-1775833200-1775836800@zorggroep-orion.be
SUMMARY:WATER EN WELLNESS @ GielsBos
DESCRIPTION:Telkens de 2e vrijdag!\n\nZwemmen in het zwembad van het Gielsbos voor mensen met dementie en hun begeleider.\nMen kan kiezen en genieten van een combinatie tussen beweging en wellness.\nHeb je geen begeleider: laat het ons weten\, wij gaan op zoek naar een zwembuddy voor jou.\nEr is steeds een redder aanwezig.\n\n€ 5 voor de persoon met dementie / begeleider zwemt gratis. \n€ 1 via kansentarief met UITpas.\n\n\nVervoer nodig?\n€ 4 / persoon.\n\nInschrijven bij Leen Van Den Broeck t 0471 02 02 70\nWebsite: www.turnhout.be/inschrijvingsformulier-dementievriendelijk-zwemmen\n\n\n\n\nLocatie: Het GielsBos\nBelevingsbad Waterlelie\nVosselaarseweg 1 – 2275 GIERLE
URL:https://zorggroep-orion.be/activiteit/water-en-wellness-gielsbos-4/
LOCATION:Dienstencentrum Albert Van Dyck\, Albert Van Dyckstraat 10\, Turnhout\, Antwerpen\, 2300\, Belgium
CATEGORIES:Bewegen
ATTACH;FMTTYPE=image/png:https://zorggroep-orion.be/wp-content/uploads/2024/09/DEMENTIE-VRIENDELIJK-ZWEMMEN-LDCs.png
END:VEVENT
BEGIN:VEVENT
DTSTART;TZID=Europe/Brussels:20260410T133000
DTEND;TZID=Europe/Brussels:20260410T153000
DTSTAMP:20260425T131744
CREATED:20260327T101801Z
LAST-MODIFIED:20260327T101801Z
UID:10626767-1775827800-1775835000@zorggroep-orion.be
SUMMARY:DJ EDDY @ DE WISSEL
DESCRIPTION:Hou je van muziek\, luisteren in goed gezelschap\, je amuseren op de tonen van  Will Tura\, Frank Sinatra\, Elvis\, … en nog zoveel meer? Kom dan zeker langs! Heb je een verzoeknummer?  U vraagt\, Eddy draait ! \nEddy zal elke 2de vrijdag van de maand zijn DJ talenten komen tonen in De Wissel. \nIedereen is welkom!
URL:https://zorggroep-orion.be/activiteit/dj-eddy-de-wissel-4/
LOCATION:Dienstencentrum De Wissel\, Dokter Nand Peetersstraat 33\, Turnhout\, Antwerpen\, 2300\, Belgium
CATEGORIES:Muziek
ATTACH;FMTTYPE=image/jpeg:https://zorggroep-orion.be/wp-content/uploads/2025/02/DJ-Eddy-2025.jpg
END:VEVENT
BEGIN:VEVENT
DTSTART;TZID=Europe/Brussels:20260409T140000
DTEND;TZID=Europe/Brussels:20260409T170000
DTSTAMP:20260425T131744
CREATED:20260304T095532Z
LAST-MODIFIED:20260304T100119Z
UID:10626397-1775743200-1775754000@zorggroep-orion.be
SUMMARY:RONDLEIDING 'DE WARANDE' @ TURNHOUT
DESCRIPTION:Bij interesse over het reilen en zeilen in De Warande\, kan je mee genieten van een rondleiding\, voor en achter de schermen. \nHier krijg je meer info over de UITpas en hoe je deze moet aanvragen. \nINSCHRIJVEN in ons centrum bij het onthaal. Heb je vervoer nodig\, laat het ons weten – busje staat klaar. \n 
URL:https://zorggroep-orion.be/activiteit/rondleiding-de-warande-turnhout/
LOCATION:Dienstencentrum Albert Van Dyck\, Albert Van Dyckstraat 10\, Turnhout\, Antwerpen\, 2300\, Belgium
CATEGORIES:Infosessie
ATTACH;FMTTYPE=image/png:https://zorggroep-orion.be/wp-content/uploads/2026/03/zaal-DE-WARANDE-LDC-AVD.png
END:VEVENT
BEGIN:VEVENT
DTSTART;TZID=Europe/Brussels:20260409T133000
DTEND;TZID=Europe/Brussels:20260409T170000
DTSTAMP:20260425T131744
CREATED:20260311T141858Z
LAST-MODIFIED:20260312T092515Z
UID:10626588-1775741400-1775754000@zorggroep-orion.be
SUMMARY:Muziek- en dansnamiddag met DJ Staf
DESCRIPTION:DJ Staf komt ons elke tweede donderdag van de maand verwennen met de leukste plaatjes. Hij draait verschillende klassiekers\, maar je kan ook altijd liedjes aanvragen. \nIEDEREEN WEKOM! \nBrusselse wafels verkrijgbaar aan €2/st
URL:https://zorggroep-orion.be/activiteit/muziek-en-dansnamiddag-met-dj-staf-2/
LOCATION:Dienstencentrum De Schoor\, Schorvoortstraat 53\, Turnhout\, 2300
CATEGORIES:Muziek
ATTACH;FMTTYPE=image/png:https://zorggroep-orion.be/wp-content/uploads/2024/08/act202411-dans-en-muzieknamiddag-dj-staf.png
END:VEVENT
BEGIN:VEVENT
DTSTART;TZID=Europe/Brussels:20260408T140000
DTEND;TZID=Europe/Brussels:20260408T170000
DTSTAMP:20260425T131744
CREATED:20260317T134713Z
LAST-MODIFIED:20260327T095712Z
UID:10626760-1775656800-1775667600@zorggroep-orion.be
SUMMARY:Oldiesnamiddag met Guy @ DE WISSEL
DESCRIPTION:Hou je van muziek\, luisteren in goed gezelschap en oude plaatjes? Kom dan zeker langs op onze Oldiesnamiddag (vlak na het paasmenu)! \nGuy draait met veel plezier jouw favoriete oude plaatjes. \nBen je niet ingeschreven voor het paasmenu\, maar kom je wel graag genieten van muziek?\nDat kan! Iedereen is welkom!
URL:https://zorggroep-orion.be/activiteit/oldiesnamiddag-met-guy-de-wissel/
LOCATION:Dienstencentrum De Wissel\, Dokter Nand Peetersstraat 33\, Turnhout\, Antwerpen\, 2300\, Belgium
CATEGORIES:Muziek
ATTACH;FMTTYPE=image/jpeg:https://zorggroep-orion.be/wp-content/uploads/2025/02/DJ-Eddy-2025.jpg
END:VEVENT
BEGIN:VEVENT
DTSTART;TZID=Europe/Brussels:20260408T120000
DTEND;TZID=Europe/Brussels:20260408T140000
DTSTAMP:20260425T131744
CREATED:20260316T151900Z
LAST-MODIFIED:20260403T114350Z
UID:10626689-1775649600-1775656800@zorggroep-orion.be
SUMMARY:Paasmenu@DeWissel
DESCRIPTION:Kom genieten van een lekker menu om te vieren dat de paasklokken weer in het land waren. \nWe beginnen met een aspergeroomsoep\, als hoofdgerecht serveren we kalfsblanket met lentegroenten en fijne kruidenpuree en als dessert hebben we een biscuit met fruit \nVOLZET! Inschrijven voor het paasmenu is dus\, jammer genoeg\, niet meer mogelijk.
URL:https://zorggroep-orion.be/activiteit/paasmenudewissel/
LOCATION:Dienstencentrum De Wissel\, Dokter Nand Peetersstraat 33\, Turnhout\, Antwerpen\, 2300\, Belgium
CATEGORIES:Eten & Drinken
ATTACH;FMTTYPE=image/png:https://zorggroep-orion.be/wp-content/uploads/2026/03/Pasen.png
END:VEVENT
BEGIN:VEVENT
DTSTART;VALUE=DATE:20260406
DTEND;VALUE=DATE:20260408
DTSTAMP:20260425T131744
CREATED:20250410T122241Z
LAST-MODIFIED:20260304T145028Z
UID:10626405-1775490629-1775577029@zorggroep-orion.be
SUMMARY:PASEN @ Albert
DESCRIPTION:Aan jullie allen een Zalig PAASFEEST gewenst. \nPASEN EN PAASMAANDAG \nRestaurant open van 12 – 13 u \nCafetaria open van 11.30 – 17 u \nKANTOREN GESLOTEN
URL:https://zorggroep-orion.be/activiteit/pasen-albert-2/2026-04-06/
LOCATION:Dienstencentrum Albert Van Dyck\, Albert Van Dyckstraat 10\, Turnhout\, Antwerpen\, 2300\, Belgium
CATEGORIES:Goed om weten
ATTACH;FMTTYPE=image/png:https://zorggroep-orion.be/wp-content/uploads/2026/02/APRIL-LDC-AVD.png
END:VEVENT
BEGIN:VEVENT
DTSTART;TZID=Europe/Brussels:20260406T140000
DTEND;TZID=Europe/Brussels:20260406T140000
DTSTAMP:20260425T131744
CREATED:20260203T100357Z
LAST-MODIFIED:20260203T100357Z
UID:10624060-1775484000-1775484000@zorggroep-orion.be
SUMMARY:KLEUREN VOOR VOLWASSENEN @ Albert
DESCRIPTION:✨ WEKELIJKS IN ONS CENTRUM!Even ontspannen en toch creatief bezig zijn? \nDoe mee met Kleuren voor Volwassenen. \nLaat de drukte los en geef kleur aan je dag.  \nGeniet van een rustgevend moment voor jezelf\, gezellig en zelfs zonder ervaring kan je hieraan deelnemen. \nHartelijk welkom!
URL:https://zorggroep-orion.be/activiteit/kleuren-voor-volwassenen-albert-3/
LOCATION:Dienstencentrum Albert Van Dyck\, Albert Van Dyckstraat 10\, Turnhout\, Antwerpen\, 2300\, Belgium
CATEGORIES:Workshop
ATTACH;FMTTYPE=image/png:https://zorggroep-orion.be/wp-content/uploads/2026/01/MANDALA-KLEUREN-LDC-AVD.png
END:VEVENT
BEGIN:VEVENT
DTSTART;TZID=Europe/Brussels:20260403T093000
DTEND;TZID=Europe/Brussels:20260403T120000
DTSTAMP:20260425T131744
CREATED:20260311T135530Z
LAST-MODIFIED:20260311T135530Z
UID:10626473-1775208600-1775217600@zorggroep-orion.be
SUMMARY:Plusvriendcirkels
DESCRIPTION:PlusVriend is een initiatief voor mensen met een spychische kwetsbaarheid die eenzaam zijn en/of het moeilijk vinden om contacten te leggen. Tijdens de PlusVriendCirkels leren de deelnemers elkaar beter kennen op een laagdrempelige manier. Er worden ook suggesties meegegeven voor soicale en culturele activiteiten in de regio. Nadien kan je eventueel samen verder op stap gaan. Dit op eigen tempo en met ondersteunig vanuit UilenSpiegel. \nInschrijven is verplicht en kan via plusvriend.kempen@uitlenspiegel.net
URL:https://zorggroep-orion.be/activiteit/plusvriendcirkels/
LOCATION:Dienstencentrum De Schoor\, Schorvoortstraat 53\, Turnhout\, 2300
CATEGORIES:Recreatie
ATTACH;FMTTYPE=image/png:https://zorggroep-orion.be/wp-content/uploads/2026/03/Schermafbeelding-2026-03-11-145504.png
END:VEVENT
END:VCALENDAR