BEGIN:VCALENDAR
VERSION:2.0
PRODID:-//Zorggroep Orion - ECPv6.15.17.1//NONSGML v1.0//EN
CALSCALE:GREGORIAN
METHOD:PUBLISH
X-WR-CALNAME:Zorggroep Orion
X-ORIGINAL-URL:https://zorggroep-orion.be
X-WR-CALDESC:Evenementen voor Zorggroep Orion
REFRESH-INTERVAL;VALUE=DURATION:PT1H
X-Robots-Tag:noindex
X-PUBLISHED-TTL:PT1H
BEGIN:VTIMEZONE
TZID:Europe/Brussels
BEGIN:DAYLIGHT
TZOFFSETFROM:+0100
TZOFFSETTO:+0200
TZNAME:CEST
DTSTART:20250330T010000
END:DAYLIGHT
BEGIN:STANDARD
TZOFFSETFROM:+0200
TZOFFSETTO:+0100
TZNAME:CET
DTSTART:20251026T010000
END:STANDARD
BEGIN:DAYLIGHT
TZOFFSETFROM:+0100
TZOFFSETTO:+0200
TZNAME:CEST
DTSTART:20260329T010000
END:DAYLIGHT
BEGIN:STANDARD
TZOFFSETFROM:+0200
TZOFFSETTO:+0100
TZNAME:CET
DTSTART:20261025T010000
END:STANDARD
BEGIN:DAYLIGHT
TZOFFSETFROM:+0100
TZOFFSETTO:+0200
TZNAME:CEST
DTSTART:20270328T010000
END:DAYLIGHT
BEGIN:STANDARD
TZOFFSETFROM:+0200
TZOFFSETTO:+0100
TZNAME:CET
DTSTART:20271031T010000
END:STANDARD
END:VTIMEZONE
BEGIN:VEVENT
DTSTART;TZID=Europe/Brussels:20260428T133000
DTEND;TZID=Europe/Brussels:20260428T170000
DTSTAMP:20260424T140000
CREATED:20260203T102925Z
LAST-MODIFIED:20260203T102925Z
UID:10624213-1777383000-1777395600@zorggroep-orion.be
SUMMARY:Kaarten@De Wissel
DESCRIPTION:Elke dinsdagnamiddag worden de kaarten bovengehaald voor een spelletje kaarten in onze cafetaria.
URL:https://zorggroep-orion.be/activiteit/kaartende-wissel/2026-04-28/
LOCATION:Dienstencentrum De Wissel\, Dokter Nand Peetersstraat 33\, Turnhout\, Antwerpen\, 2300\, Belgium
CATEGORIES:Recreatie
ATTACH;FMTTYPE=image/jpeg:https://zorggroep-orion.be/wp-content/uploads/2021/08/Orion_zorggroep_lr-319.jpg
END:VEVENT
BEGIN:VEVENT
DTSTART;TZID=Europe/Brussels:20260505T133000
DTEND;TZID=Europe/Brussels:20260505T170000
DTSTAMP:20260424T140000
CREATED:20260203T102925Z
LAST-MODIFIED:20260203T102925Z
UID:10624214-1777987800-1778000400@zorggroep-orion.be
SUMMARY:Kaarten@De Wissel
DESCRIPTION:Elke dinsdagnamiddag worden de kaarten bovengehaald voor een spelletje kaarten in onze cafetaria.
URL:https://zorggroep-orion.be/activiteit/kaartende-wissel/2026-05-05/
LOCATION:Dienstencentrum De Wissel\, Dokter Nand Peetersstraat 33\, Turnhout\, Antwerpen\, 2300\, Belgium
CATEGORIES:Recreatie
ATTACH;FMTTYPE=image/jpeg:https://zorggroep-orion.be/wp-content/uploads/2021/08/Orion_zorggroep_lr-319.jpg
END:VEVENT
BEGIN:VEVENT
DTSTART;TZID=Europe/Brussels:20260512T133000
DTEND;TZID=Europe/Brussels:20260512T170000
DTSTAMP:20260424T140000
CREATED:20260203T102925Z
LAST-MODIFIED:20260203T102925Z
UID:10624215-1778592600-1778605200@zorggroep-orion.be
SUMMARY:Kaarten@De Wissel
DESCRIPTION:Elke dinsdagnamiddag worden de kaarten bovengehaald voor een spelletje kaarten in onze cafetaria.
URL:https://zorggroep-orion.be/activiteit/kaartende-wissel/2026-05-12/
LOCATION:Dienstencentrum De Wissel\, Dokter Nand Peetersstraat 33\, Turnhout\, Antwerpen\, 2300\, Belgium
CATEGORIES:Recreatie
ATTACH;FMTTYPE=image/jpeg:https://zorggroep-orion.be/wp-content/uploads/2021/08/Orion_zorggroep_lr-319.jpg
END:VEVENT
BEGIN:VEVENT
DTSTART;TZID=Europe/Brussels:20260519T133000
DTEND;TZID=Europe/Brussels:20260519T170000
DTSTAMP:20260424T140000
CREATED:20260203T102925Z
LAST-MODIFIED:20260203T102925Z
UID:10624216-1779197400-1779210000@zorggroep-orion.be
SUMMARY:Kaarten@De Wissel
DESCRIPTION:Elke dinsdagnamiddag worden de kaarten bovengehaald voor een spelletje kaarten in onze cafetaria.
URL:https://zorggroep-orion.be/activiteit/kaartende-wissel/2026-05-19/
LOCATION:Dienstencentrum De Wissel\, Dokter Nand Peetersstraat 33\, Turnhout\, Antwerpen\, 2300\, Belgium
CATEGORIES:Recreatie
ATTACH;FMTTYPE=image/jpeg:https://zorggroep-orion.be/wp-content/uploads/2021/08/Orion_zorggroep_lr-319.jpg
END:VEVENT
BEGIN:VEVENT
DTSTART;TZID=Europe/Brussels:20260526T133000
DTEND;TZID=Europe/Brussels:20260526T170000
DTSTAMP:20260424T140000
CREATED:20260203T102925Z
LAST-MODIFIED:20260203T102925Z
UID:10624217-1779802200-1779814800@zorggroep-orion.be
SUMMARY:Kaarten@De Wissel
DESCRIPTION:Elke dinsdagnamiddag worden de kaarten bovengehaald voor een spelletje kaarten in onze cafetaria.
URL:https://zorggroep-orion.be/activiteit/kaartende-wissel/2026-05-26/
LOCATION:Dienstencentrum De Wissel\, Dokter Nand Peetersstraat 33\, Turnhout\, Antwerpen\, 2300\, Belgium
CATEGORIES:Recreatie
ATTACH;FMTTYPE=image/jpeg:https://zorggroep-orion.be/wp-content/uploads/2021/08/Orion_zorggroep_lr-319.jpg
END:VEVENT
BEGIN:VEVENT
DTSTART;TZID=Europe/Brussels:20260602T133000
DTEND;TZID=Europe/Brussels:20260602T170000
DTSTAMP:20260424T140000
CREATED:20260203T102925Z
LAST-MODIFIED:20260203T102925Z
UID:10624218-1780407000-1780419600@zorggroep-orion.be
SUMMARY:Kaarten@De Wissel
DESCRIPTION:Elke dinsdagnamiddag worden de kaarten bovengehaald voor een spelletje kaarten in onze cafetaria.
URL:https://zorggroep-orion.be/activiteit/kaartende-wissel/2026-06-02/
LOCATION:Dienstencentrum De Wissel\, Dokter Nand Peetersstraat 33\, Turnhout\, Antwerpen\, 2300\, Belgium
CATEGORIES:Recreatie
ATTACH;FMTTYPE=image/jpeg:https://zorggroep-orion.be/wp-content/uploads/2021/08/Orion_zorggroep_lr-319.jpg
END:VEVENT
BEGIN:VEVENT
DTSTART;TZID=Europe/Brussels:20260609T133000
DTEND;TZID=Europe/Brussels:20260609T170000
DTSTAMP:20260424T140000
CREATED:20260203T102925Z
LAST-MODIFIED:20260203T102925Z
UID:10624219-1781011800-1781024400@zorggroep-orion.be
SUMMARY:Kaarten@De Wissel
DESCRIPTION:Elke dinsdagnamiddag worden de kaarten bovengehaald voor een spelletje kaarten in onze cafetaria.
URL:https://zorggroep-orion.be/activiteit/kaartende-wissel/2026-06-09/
LOCATION:Dienstencentrum De Wissel\, Dokter Nand Peetersstraat 33\, Turnhout\, Antwerpen\, 2300\, Belgium
CATEGORIES:Recreatie
ATTACH;FMTTYPE=image/jpeg:https://zorggroep-orion.be/wp-content/uploads/2021/08/Orion_zorggroep_lr-319.jpg
END:VEVENT
BEGIN:VEVENT
DTSTART;TZID=Europe/Brussels:20260616T133000
DTEND;TZID=Europe/Brussels:20260616T170000
DTSTAMP:20260424T140000
CREATED:20260203T102925Z
LAST-MODIFIED:20260203T102925Z
UID:10624220-1781616600-1781629200@zorggroep-orion.be
SUMMARY:Kaarten@De Wissel
DESCRIPTION:Elke dinsdagnamiddag worden de kaarten bovengehaald voor een spelletje kaarten in onze cafetaria.
URL:https://zorggroep-orion.be/activiteit/kaartende-wissel/2026-06-16/
LOCATION:Dienstencentrum De Wissel\, Dokter Nand Peetersstraat 33\, Turnhout\, Antwerpen\, 2300\, Belgium
CATEGORIES:Recreatie
ATTACH;FMTTYPE=image/jpeg:https://zorggroep-orion.be/wp-content/uploads/2021/08/Orion_zorggroep_lr-319.jpg
END:VEVENT
BEGIN:VEVENT
DTSTART;TZID=Europe/Brussels:20260623T133000
DTEND;TZID=Europe/Brussels:20260623T170000
DTSTAMP:20260424T140001
CREATED:20260203T102925Z
LAST-MODIFIED:20260203T102925Z
UID:10624221-1782221400-1782234000@zorggroep-orion.be
SUMMARY:Kaarten@De Wissel
DESCRIPTION:Elke dinsdagnamiddag worden de kaarten bovengehaald voor een spelletje kaarten in onze cafetaria.
URL:https://zorggroep-orion.be/activiteit/kaartende-wissel/2026-06-23/
LOCATION:Dienstencentrum De Wissel\, Dokter Nand Peetersstraat 33\, Turnhout\, Antwerpen\, 2300\, Belgium
CATEGORIES:Recreatie
ATTACH;FMTTYPE=image/jpeg:https://zorggroep-orion.be/wp-content/uploads/2021/08/Orion_zorggroep_lr-319.jpg
END:VEVENT
BEGIN:VEVENT
DTSTART;TZID=Europe/Brussels:20260630T133000
DTEND;TZID=Europe/Brussels:20260630T170000
DTSTAMP:20260424T140001
CREATED:20260203T102925Z
LAST-MODIFIED:20260203T102925Z
UID:10624222-1782826200-1782838800@zorggroep-orion.be
SUMMARY:Kaarten@De Wissel
DESCRIPTION:Elke dinsdagnamiddag worden de kaarten bovengehaald voor een spelletje kaarten in onze cafetaria.
URL:https://zorggroep-orion.be/activiteit/kaartende-wissel/2026-06-30/
LOCATION:Dienstencentrum De Wissel\, Dokter Nand Peetersstraat 33\, Turnhout\, Antwerpen\, 2300\, Belgium
CATEGORIES:Recreatie
ATTACH;FMTTYPE=image/jpeg:https://zorggroep-orion.be/wp-content/uploads/2021/08/Orion_zorggroep_lr-319.jpg
END:VEVENT
BEGIN:VEVENT
DTSTART;TZID=Europe/Brussels:20260707T133000
DTEND;TZID=Europe/Brussels:20260707T170000
DTSTAMP:20260424T140001
CREATED:20260203T102925Z
LAST-MODIFIED:20260203T102925Z
UID:10624223-1783431000-1783443600@zorggroep-orion.be
SUMMARY:Kaarten@De Wissel
DESCRIPTION:Elke dinsdagnamiddag worden de kaarten bovengehaald voor een spelletje kaarten in onze cafetaria.
URL:https://zorggroep-orion.be/activiteit/kaartende-wissel/2026-07-07/
LOCATION:Dienstencentrum De Wissel\, Dokter Nand Peetersstraat 33\, Turnhout\, Antwerpen\, 2300\, Belgium
CATEGORIES:Recreatie
ATTACH;FMTTYPE=image/jpeg:https://zorggroep-orion.be/wp-content/uploads/2021/08/Orion_zorggroep_lr-319.jpg
END:VEVENT
BEGIN:VEVENT
DTSTART;TZID=Europe/Brussels:20260714T133000
DTEND;TZID=Europe/Brussels:20260714T170000
DTSTAMP:20260424T140001
CREATED:20260203T102925Z
LAST-MODIFIED:20260203T102925Z
UID:10624224-1784035800-1784048400@zorggroep-orion.be
SUMMARY:Kaarten@De Wissel
DESCRIPTION:Elke dinsdagnamiddag worden de kaarten bovengehaald voor een spelletje kaarten in onze cafetaria.
URL:https://zorggroep-orion.be/activiteit/kaartende-wissel/2026-07-14/
LOCATION:Dienstencentrum De Wissel\, Dokter Nand Peetersstraat 33\, Turnhout\, Antwerpen\, 2300\, Belgium
CATEGORIES:Recreatie
ATTACH;FMTTYPE=image/jpeg:https://zorggroep-orion.be/wp-content/uploads/2021/08/Orion_zorggroep_lr-319.jpg
END:VEVENT
BEGIN:VEVENT
DTSTART;TZID=Europe/Brussels:20260721T133000
DTEND;TZID=Europe/Brussels:20260721T170000
DTSTAMP:20260424T140001
CREATED:20260203T102925Z
LAST-MODIFIED:20260203T102925Z
UID:10624225-1784640600-1784653200@zorggroep-orion.be
SUMMARY:Kaarten@De Wissel
DESCRIPTION:Elke dinsdagnamiddag worden de kaarten bovengehaald voor een spelletje kaarten in onze cafetaria.
URL:https://zorggroep-orion.be/activiteit/kaartende-wissel/2026-07-21/
LOCATION:Dienstencentrum De Wissel\, Dokter Nand Peetersstraat 33\, Turnhout\, Antwerpen\, 2300\, Belgium
CATEGORIES:Recreatie
ATTACH;FMTTYPE=image/jpeg:https://zorggroep-orion.be/wp-content/uploads/2021/08/Orion_zorggroep_lr-319.jpg
END:VEVENT
BEGIN:VEVENT
DTSTART;TZID=Europe/Brussels:20260728T133000
DTEND;TZID=Europe/Brussels:20260728T170000
DTSTAMP:20260424T140001
CREATED:20260203T102925Z
LAST-MODIFIED:20260203T102925Z
UID:10624226-1785245400-1785258000@zorggroep-orion.be
SUMMARY:Kaarten@De Wissel
DESCRIPTION:Elke dinsdagnamiddag worden de kaarten bovengehaald voor een spelletje kaarten in onze cafetaria.
URL:https://zorggroep-orion.be/activiteit/kaartende-wissel/2026-07-28/
LOCATION:Dienstencentrum De Wissel\, Dokter Nand Peetersstraat 33\, Turnhout\, Antwerpen\, 2300\, Belgium
CATEGORIES:Recreatie
ATTACH;FMTTYPE=image/jpeg:https://zorggroep-orion.be/wp-content/uploads/2021/08/Orion_zorggroep_lr-319.jpg
END:VEVENT
BEGIN:VEVENT
DTSTART;TZID=Europe/Brussels:20260804T133000
DTEND;TZID=Europe/Brussels:20260804T170000
DTSTAMP:20260424T140001
CREATED:20260203T102925Z
LAST-MODIFIED:20260203T102925Z
UID:10624227-1785850200-1785862800@zorggroep-orion.be
SUMMARY:Kaarten@De Wissel
DESCRIPTION:Elke dinsdagnamiddag worden de kaarten bovengehaald voor een spelletje kaarten in onze cafetaria.
URL:https://zorggroep-orion.be/activiteit/kaartende-wissel/2026-08-04/
LOCATION:Dienstencentrum De Wissel\, Dokter Nand Peetersstraat 33\, Turnhout\, Antwerpen\, 2300\, Belgium
CATEGORIES:Recreatie
ATTACH;FMTTYPE=image/jpeg:https://zorggroep-orion.be/wp-content/uploads/2021/08/Orion_zorggroep_lr-319.jpg
END:VEVENT
BEGIN:VEVENT
DTSTART;TZID=Europe/Brussels:20260811T133000
DTEND;TZID=Europe/Brussels:20260811T170000
DTSTAMP:20260424T140001
CREATED:20260203T102925Z
LAST-MODIFIED:20260203T102925Z
UID:10624228-1786455000-1786467600@zorggroep-orion.be
SUMMARY:Kaarten@De Wissel
DESCRIPTION:Elke dinsdagnamiddag worden de kaarten bovengehaald voor een spelletje kaarten in onze cafetaria.
URL:https://zorggroep-orion.be/activiteit/kaartende-wissel/2026-08-11/
LOCATION:Dienstencentrum De Wissel\, Dokter Nand Peetersstraat 33\, Turnhout\, Antwerpen\, 2300\, Belgium
CATEGORIES:Recreatie
ATTACH;FMTTYPE=image/jpeg:https://zorggroep-orion.be/wp-content/uploads/2021/08/Orion_zorggroep_lr-319.jpg
END:VEVENT
BEGIN:VEVENT
DTSTART;TZID=Europe/Brussels:20260818T133000
DTEND;TZID=Europe/Brussels:20260818T170000
DTSTAMP:20260424T140001
CREATED:20260203T102925Z
LAST-MODIFIED:20260203T102925Z
UID:10624229-1787059800-1787072400@zorggroep-orion.be
SUMMARY:Kaarten@De Wissel
DESCRIPTION:Elke dinsdagnamiddag worden de kaarten bovengehaald voor een spelletje kaarten in onze cafetaria.
URL:https://zorggroep-orion.be/activiteit/kaartende-wissel/2026-08-18/
LOCATION:Dienstencentrum De Wissel\, Dokter Nand Peetersstraat 33\, Turnhout\, Antwerpen\, 2300\, Belgium
CATEGORIES:Recreatie
ATTACH;FMTTYPE=image/jpeg:https://zorggroep-orion.be/wp-content/uploads/2021/08/Orion_zorggroep_lr-319.jpg
END:VEVENT
BEGIN:VEVENT
DTSTART;TZID=Europe/Brussels:20260825T133000
DTEND;TZID=Europe/Brussels:20260825T170000
DTSTAMP:20260424T140001
CREATED:20260203T102925Z
LAST-MODIFIED:20260203T102925Z
UID:10624230-1787664600-1787677200@zorggroep-orion.be
SUMMARY:Kaarten@De Wissel
DESCRIPTION:Elke dinsdagnamiddag worden de kaarten bovengehaald voor een spelletje kaarten in onze cafetaria.
URL:https://zorggroep-orion.be/activiteit/kaartende-wissel/2026-08-25/
LOCATION:Dienstencentrum De Wissel\, Dokter Nand Peetersstraat 33\, Turnhout\, Antwerpen\, 2300\, Belgium
CATEGORIES:Recreatie
ATTACH;FMTTYPE=image/jpeg:https://zorggroep-orion.be/wp-content/uploads/2021/08/Orion_zorggroep_lr-319.jpg
END:VEVENT
BEGIN:VEVENT
DTSTART;TZID=Europe/Brussels:20260901T133000
DTEND;TZID=Europe/Brussels:20260901T170000
DTSTAMP:20260424T140001
CREATED:20260203T102925Z
LAST-MODIFIED:20260203T102925Z
UID:10624231-1788269400-1788282000@zorggroep-orion.be
SUMMARY:Kaarten@De Wissel
DESCRIPTION:Elke dinsdagnamiddag worden de kaarten bovengehaald voor een spelletje kaarten in onze cafetaria.
URL:https://zorggroep-orion.be/activiteit/kaartende-wissel/2026-09-01/
LOCATION:Dienstencentrum De Wissel\, Dokter Nand Peetersstraat 33\, Turnhout\, Antwerpen\, 2300\, Belgium
CATEGORIES:Recreatie
ATTACH;FMTTYPE=image/jpeg:https://zorggroep-orion.be/wp-content/uploads/2021/08/Orion_zorggroep_lr-319.jpg
END:VEVENT
BEGIN:VEVENT
DTSTART;TZID=Europe/Brussels:20260908T133000
DTEND;TZID=Europe/Brussels:20260908T170000
DTSTAMP:20260424T140001
CREATED:20260203T102925Z
LAST-MODIFIED:20260203T102925Z
UID:10624232-1788874200-1788886800@zorggroep-orion.be
SUMMARY:Kaarten@De Wissel
DESCRIPTION:Elke dinsdagnamiddag worden de kaarten bovengehaald voor een spelletje kaarten in onze cafetaria.
URL:https://zorggroep-orion.be/activiteit/kaartende-wissel/2026-09-08/
LOCATION:Dienstencentrum De Wissel\, Dokter Nand Peetersstraat 33\, Turnhout\, Antwerpen\, 2300\, Belgium
CATEGORIES:Recreatie
ATTACH;FMTTYPE=image/jpeg:https://zorggroep-orion.be/wp-content/uploads/2021/08/Orion_zorggroep_lr-319.jpg
END:VEVENT
BEGIN:VEVENT
DTSTART;TZID=Europe/Brussels:20260915T133000
DTEND;TZID=Europe/Brussels:20260915T170000
DTSTAMP:20260424T140001
CREATED:20260203T102925Z
LAST-MODIFIED:20260203T102925Z
UID:10624233-1789479000-1789491600@zorggroep-orion.be
SUMMARY:Kaarten@De Wissel
DESCRIPTION:Elke dinsdagnamiddag worden de kaarten bovengehaald voor een spelletje kaarten in onze cafetaria.
URL:https://zorggroep-orion.be/activiteit/kaartende-wissel/2026-09-15/
LOCATION:Dienstencentrum De Wissel\, Dokter Nand Peetersstraat 33\, Turnhout\, Antwerpen\, 2300\, Belgium
CATEGORIES:Recreatie
ATTACH;FMTTYPE=image/jpeg:https://zorggroep-orion.be/wp-content/uploads/2021/08/Orion_zorggroep_lr-319.jpg
END:VEVENT
BEGIN:VEVENT
DTSTART;TZID=Europe/Brussels:20260922T133000
DTEND;TZID=Europe/Brussels:20260922T170000
DTSTAMP:20260424T140001
CREATED:20260203T102925Z
LAST-MODIFIED:20260203T102925Z
UID:10624234-1790083800-1790096400@zorggroep-orion.be
SUMMARY:Kaarten@De Wissel
DESCRIPTION:Elke dinsdagnamiddag worden de kaarten bovengehaald voor een spelletje kaarten in onze cafetaria.
URL:https://zorggroep-orion.be/activiteit/kaartende-wissel/2026-09-22/
LOCATION:Dienstencentrum De Wissel\, Dokter Nand Peetersstraat 33\, Turnhout\, Antwerpen\, 2300\, Belgium
CATEGORIES:Recreatie
ATTACH;FMTTYPE=image/jpeg:https://zorggroep-orion.be/wp-content/uploads/2021/08/Orion_zorggroep_lr-319.jpg
END:VEVENT
BEGIN:VEVENT
DTSTART;TZID=Europe/Brussels:20260929T133000
DTEND;TZID=Europe/Brussels:20260929T170000
DTSTAMP:20260424T140001
CREATED:20260203T102925Z
LAST-MODIFIED:20260203T102925Z
UID:10624235-1790688600-1790701200@zorggroep-orion.be
SUMMARY:Kaarten@De Wissel
DESCRIPTION:Elke dinsdagnamiddag worden de kaarten bovengehaald voor een spelletje kaarten in onze cafetaria.
URL:https://zorggroep-orion.be/activiteit/kaartende-wissel/2026-09-29/
LOCATION:Dienstencentrum De Wissel\, Dokter Nand Peetersstraat 33\, Turnhout\, Antwerpen\, 2300\, Belgium
CATEGORIES:Recreatie
ATTACH;FMTTYPE=image/jpeg:https://zorggroep-orion.be/wp-content/uploads/2021/08/Orion_zorggroep_lr-319.jpg
END:VEVENT
BEGIN:VEVENT
DTSTART;TZID=Europe/Brussels:20261006T133000
DTEND;TZID=Europe/Brussels:20261006T170000
DTSTAMP:20260424T140001
CREATED:20260203T102925Z
LAST-MODIFIED:20260203T102925Z
UID:10624236-1791293400-1791306000@zorggroep-orion.be
SUMMARY:Kaarten@De Wissel
DESCRIPTION:Elke dinsdagnamiddag worden de kaarten bovengehaald voor een spelletje kaarten in onze cafetaria.
URL:https://zorggroep-orion.be/activiteit/kaartende-wissel/2026-10-06/
LOCATION:Dienstencentrum De Wissel\, Dokter Nand Peetersstraat 33\, Turnhout\, Antwerpen\, 2300\, Belgium
CATEGORIES:Recreatie
ATTACH;FMTTYPE=image/jpeg:https://zorggroep-orion.be/wp-content/uploads/2021/08/Orion_zorggroep_lr-319.jpg
END:VEVENT
BEGIN:VEVENT
DTSTART;TZID=Europe/Brussels:20261013T133000
DTEND;TZID=Europe/Brussels:20261013T170000
DTSTAMP:20260424T140001
CREATED:20260203T102925Z
LAST-MODIFIED:20260203T102925Z
UID:10624237-1791898200-1791910800@zorggroep-orion.be
SUMMARY:Kaarten@De Wissel
DESCRIPTION:Elke dinsdagnamiddag worden de kaarten bovengehaald voor een spelletje kaarten in onze cafetaria.
URL:https://zorggroep-orion.be/activiteit/kaartende-wissel/2026-10-13/
LOCATION:Dienstencentrum De Wissel\, Dokter Nand Peetersstraat 33\, Turnhout\, Antwerpen\, 2300\, Belgium
CATEGORIES:Recreatie
ATTACH;FMTTYPE=image/jpeg:https://zorggroep-orion.be/wp-content/uploads/2021/08/Orion_zorggroep_lr-319.jpg
END:VEVENT
BEGIN:VEVENT
DTSTART;TZID=Europe/Brussels:20261020T133000
DTEND;TZID=Europe/Brussels:20261020T170000
DTSTAMP:20260424T140001
CREATED:20260203T102925Z
LAST-MODIFIED:20260203T102925Z
UID:10624238-1792503000-1792515600@zorggroep-orion.be
SUMMARY:Kaarten@De Wissel
DESCRIPTION:Elke dinsdagnamiddag worden de kaarten bovengehaald voor een spelletje kaarten in onze cafetaria.
URL:https://zorggroep-orion.be/activiteit/kaartende-wissel/2026-10-20/
LOCATION:Dienstencentrum De Wissel\, Dokter Nand Peetersstraat 33\, Turnhout\, Antwerpen\, 2300\, Belgium
CATEGORIES:Recreatie
ATTACH;FMTTYPE=image/jpeg:https://zorggroep-orion.be/wp-content/uploads/2021/08/Orion_zorggroep_lr-319.jpg
END:VEVENT
BEGIN:VEVENT
DTSTART;TZID=Europe/Brussels:20261027T133000
DTEND;TZID=Europe/Brussels:20261027T170000
DTSTAMP:20260424T140001
CREATED:20260203T102925Z
LAST-MODIFIED:20260203T102925Z
UID:10624239-1793107800-1793120400@zorggroep-orion.be
SUMMARY:Kaarten@De Wissel
DESCRIPTION:Elke dinsdagnamiddag worden de kaarten bovengehaald voor een spelletje kaarten in onze cafetaria.
URL:https://zorggroep-orion.be/activiteit/kaartende-wissel/2026-10-27/
LOCATION:Dienstencentrum De Wissel\, Dokter Nand Peetersstraat 33\, Turnhout\, Antwerpen\, 2300\, Belgium
CATEGORIES:Recreatie
ATTACH;FMTTYPE=image/jpeg:https://zorggroep-orion.be/wp-content/uploads/2021/08/Orion_zorggroep_lr-319.jpg
END:VEVENT
BEGIN:VEVENT
DTSTART;TZID=Europe/Brussels:20261103T133000
DTEND;TZID=Europe/Brussels:20261103T170000
DTSTAMP:20260424T140001
CREATED:20260203T102925Z
LAST-MODIFIED:20260203T102925Z
UID:10624240-1793712600-1793725200@zorggroep-orion.be
SUMMARY:Kaarten@De Wissel
DESCRIPTION:Elke dinsdagnamiddag worden de kaarten bovengehaald voor een spelletje kaarten in onze cafetaria.
URL:https://zorggroep-orion.be/activiteit/kaartende-wissel/2026-11-03/
LOCATION:Dienstencentrum De Wissel\, Dokter Nand Peetersstraat 33\, Turnhout\, Antwerpen\, 2300\, Belgium
CATEGORIES:Recreatie
ATTACH;FMTTYPE=image/jpeg:https://zorggroep-orion.be/wp-content/uploads/2021/08/Orion_zorggroep_lr-319.jpg
END:VEVENT
BEGIN:VEVENT
DTSTART;TZID=Europe/Brussels:20261110T133000
DTEND;TZID=Europe/Brussels:20261110T170000
DTSTAMP:20260424T140001
CREATED:20260203T102925Z
LAST-MODIFIED:20260203T102925Z
UID:10624241-1794317400-1794330000@zorggroep-orion.be
SUMMARY:Kaarten@De Wissel
DESCRIPTION:Elke dinsdagnamiddag worden de kaarten bovengehaald voor een spelletje kaarten in onze cafetaria.
URL:https://zorggroep-orion.be/activiteit/kaartende-wissel/2026-11-10/
LOCATION:Dienstencentrum De Wissel\, Dokter Nand Peetersstraat 33\, Turnhout\, Antwerpen\, 2300\, Belgium
CATEGORIES:Recreatie
ATTACH;FMTTYPE=image/jpeg:https://zorggroep-orion.be/wp-content/uploads/2021/08/Orion_zorggroep_lr-319.jpg
END:VEVENT
BEGIN:VEVENT
DTSTART;TZID=Europe/Brussels:20261117T133000
DTEND;TZID=Europe/Brussels:20261117T170000
DTSTAMP:20260424T140001
CREATED:20260203T102925Z
LAST-MODIFIED:20260203T102925Z
UID:10624242-1794922200-1794934800@zorggroep-orion.be
SUMMARY:Kaarten@De Wissel
DESCRIPTION:Elke dinsdagnamiddag worden de kaarten bovengehaald voor een spelletje kaarten in onze cafetaria.
URL:https://zorggroep-orion.be/activiteit/kaartende-wissel/2026-11-17/
LOCATION:Dienstencentrum De Wissel\, Dokter Nand Peetersstraat 33\, Turnhout\, Antwerpen\, 2300\, Belgium
CATEGORIES:Recreatie
ATTACH;FMTTYPE=image/jpeg:https://zorggroep-orion.be/wp-content/uploads/2021/08/Orion_zorggroep_lr-319.jpg
END:VEVENT
END:VCALENDAR