BEGIN:VCALENDAR
VERSION:2.0
PRODID:-//Zorggroep Orion - ECPv6.15.17.1//NONSGML v1.0//EN
CALSCALE:GREGORIAN
METHOD:PUBLISH
X-WR-CALNAME:Zorggroep Orion
X-ORIGINAL-URL:https://zorggroep-orion.be
X-WR-CALDESC:Evenementen voor Zorggroep Orion
REFRESH-INTERVAL;VALUE=DURATION:PT1H
X-Robots-Tag:noindex
X-PUBLISHED-TTL:PT1H
BEGIN:VTIMEZONE
TZID:Europe/Brussels
BEGIN:DAYLIGHT
TZOFFSETFROM:+0100
TZOFFSETTO:+0200
TZNAME:CEST
DTSTART:20250330T010000
END:DAYLIGHT
BEGIN:STANDARD
TZOFFSETFROM:+0200
TZOFFSETTO:+0100
TZNAME:CET
DTSTART:20251026T010000
END:STANDARD
BEGIN:DAYLIGHT
TZOFFSETFROM:+0100
TZOFFSETTO:+0200
TZNAME:CEST
DTSTART:20260329T010000
END:DAYLIGHT
BEGIN:STANDARD
TZOFFSETFROM:+0200
TZOFFSETTO:+0100
TZNAME:CET
DTSTART:20261025T010000
END:STANDARD
BEGIN:DAYLIGHT
TZOFFSETFROM:+0100
TZOFFSETTO:+0200
TZNAME:CEST
DTSTART:20270328T010000
END:DAYLIGHT
BEGIN:STANDARD
TZOFFSETFROM:+0200
TZOFFSETTO:+0100
TZNAME:CET
DTSTART:20271031T010000
END:STANDARD
END:VTIMEZONE
BEGIN:VEVENT
DTSTART;TZID=Europe/Brussels:20260429T100000
DTEND;TZID=Europe/Brussels:20260429T113000
DTSTAMP:20260424T212517
CREATED:20250219T103910Z
LAST-MODIFIED:20250828T073449Z
UID:10619547-1777456800-1777462200@zorggroep-orion.be
SUMMARY:ONTMOET JE BUUR @ DE WISSEL
DESCRIPTION:Onder het motto ‘Ontmoet je buren’ komen we elke woensdagvoormiddag samen in het café van LDC De Wissel. \nHeb jij ook nood aan een babbel\, ontmoeting\, sociaal contact\, …? Dan ben je meer dan welkom! \nOnze deur staat open voor jou! Kom gerust eens langs en voor zij die willen staat er een tasje koffie of thee klaar voor €1\,00. \nWanneer? Elke woensdag! Dit telkens vanaf 10u00
URL:https://zorggroep-orion.be/activiteit/ontmoet-je-buurde-wissel-2-2/2026-04-29/
LOCATION:Dienstencentrum De Wissel\, Dokter Nand Peetersstraat 33\, Turnhout\, Antwerpen\, 2300\, Belgium
CATEGORIES:Dienstverlening
ATTACH;FMTTYPE=image/png:https://zorggroep-orion.be/wp-content/uploads/2023/03/Ontmoet-je-buur-2023.png
END:VEVENT
BEGIN:VEVENT
DTSTART;TZID=Europe/Brussels:20260506T100000
DTEND;TZID=Europe/Brussels:20260506T113000
DTSTAMP:20260424T212517
CREATED:20250219T103910Z
LAST-MODIFIED:20250828T073449Z
UID:10619548-1778061600-1778067000@zorggroep-orion.be
SUMMARY:ONTMOET JE BUUR @ DE WISSEL
DESCRIPTION:Onder het motto ‘Ontmoet je buren’ komen we elke woensdagvoormiddag samen in het café van LDC De Wissel. \nHeb jij ook nood aan een babbel\, ontmoeting\, sociaal contact\, …? Dan ben je meer dan welkom! \nOnze deur staat open voor jou! Kom gerust eens langs en voor zij die willen staat er een tasje koffie of thee klaar voor €1\,00. \nWanneer? Elke woensdag! Dit telkens vanaf 10u00
URL:https://zorggroep-orion.be/activiteit/ontmoet-je-buurde-wissel-2-2/2026-05-06/
LOCATION:Dienstencentrum De Wissel\, Dokter Nand Peetersstraat 33\, Turnhout\, Antwerpen\, 2300\, Belgium
CATEGORIES:Dienstverlening
ATTACH;FMTTYPE=image/png:https://zorggroep-orion.be/wp-content/uploads/2023/03/Ontmoet-je-buur-2023.png
END:VEVENT
BEGIN:VEVENT
DTSTART;TZID=Europe/Brussels:20260513T100000
DTEND;TZID=Europe/Brussels:20260513T113000
DTSTAMP:20260424T212517
CREATED:20250219T103910Z
LAST-MODIFIED:20250828T073449Z
UID:10619549-1778666400-1778671800@zorggroep-orion.be
SUMMARY:ONTMOET JE BUUR @ DE WISSEL
DESCRIPTION:Onder het motto ‘Ontmoet je buren’ komen we elke woensdagvoormiddag samen in het café van LDC De Wissel. \nHeb jij ook nood aan een babbel\, ontmoeting\, sociaal contact\, …? Dan ben je meer dan welkom! \nOnze deur staat open voor jou! Kom gerust eens langs en voor zij die willen staat er een tasje koffie of thee klaar voor €1\,00. \nWanneer? Elke woensdag! Dit telkens vanaf 10u00
URL:https://zorggroep-orion.be/activiteit/ontmoet-je-buurde-wissel-2-2/2026-05-13/
LOCATION:Dienstencentrum De Wissel\, Dokter Nand Peetersstraat 33\, Turnhout\, Antwerpen\, 2300\, Belgium
CATEGORIES:Dienstverlening
ATTACH;FMTTYPE=image/png:https://zorggroep-orion.be/wp-content/uploads/2023/03/Ontmoet-je-buur-2023.png
END:VEVENT
BEGIN:VEVENT
DTSTART;TZID=Europe/Brussels:20260520T100000
DTEND;TZID=Europe/Brussels:20260520T113000
DTSTAMP:20260424T212517
CREATED:20250219T103910Z
LAST-MODIFIED:20250828T073449Z
UID:10619550-1779271200-1779276600@zorggroep-orion.be
SUMMARY:ONTMOET JE BUUR @ DE WISSEL
DESCRIPTION:Onder het motto ‘Ontmoet je buren’ komen we elke woensdagvoormiddag samen in het café van LDC De Wissel. \nHeb jij ook nood aan een babbel\, ontmoeting\, sociaal contact\, …? Dan ben je meer dan welkom! \nOnze deur staat open voor jou! Kom gerust eens langs en voor zij die willen staat er een tasje koffie of thee klaar voor €1\,00. \nWanneer? Elke woensdag! Dit telkens vanaf 10u00
URL:https://zorggroep-orion.be/activiteit/ontmoet-je-buurde-wissel-2-2/2026-05-20/
LOCATION:Dienstencentrum De Wissel\, Dokter Nand Peetersstraat 33\, Turnhout\, Antwerpen\, 2300\, Belgium
CATEGORIES:Dienstverlening
ATTACH;FMTTYPE=image/png:https://zorggroep-orion.be/wp-content/uploads/2023/03/Ontmoet-je-buur-2023.png
END:VEVENT
BEGIN:VEVENT
DTSTART;TZID=Europe/Brussels:20260527T100000
DTEND;TZID=Europe/Brussels:20260527T113000
DTSTAMP:20260424T212517
CREATED:20250219T103910Z
LAST-MODIFIED:20250828T073449Z
UID:10619551-1779876000-1779881400@zorggroep-orion.be
SUMMARY:ONTMOET JE BUUR @ DE WISSEL
DESCRIPTION:Onder het motto ‘Ontmoet je buren’ komen we elke woensdagvoormiddag samen in het café van LDC De Wissel. \nHeb jij ook nood aan een babbel\, ontmoeting\, sociaal contact\, …? Dan ben je meer dan welkom! \nOnze deur staat open voor jou! Kom gerust eens langs en voor zij die willen staat er een tasje koffie of thee klaar voor €1\,00. \nWanneer? Elke woensdag! Dit telkens vanaf 10u00
URL:https://zorggroep-orion.be/activiteit/ontmoet-je-buurde-wissel-2-2/2026-05-27/
LOCATION:Dienstencentrum De Wissel\, Dokter Nand Peetersstraat 33\, Turnhout\, Antwerpen\, 2300\, Belgium
CATEGORIES:Dienstverlening
ATTACH;FMTTYPE=image/png:https://zorggroep-orion.be/wp-content/uploads/2023/03/Ontmoet-je-buur-2023.png
END:VEVENT
BEGIN:VEVENT
DTSTART;TZID=Europe/Brussels:20260603T100000
DTEND;TZID=Europe/Brussels:20260603T113000
DTSTAMP:20260424T212517
CREATED:20250219T103910Z
LAST-MODIFIED:20250828T073449Z
UID:10619552-1780480800-1780486200@zorggroep-orion.be
SUMMARY:ONTMOET JE BUUR @ DE WISSEL
DESCRIPTION:Onder het motto ‘Ontmoet je buren’ komen we elke woensdagvoormiddag samen in het café van LDC De Wissel. \nHeb jij ook nood aan een babbel\, ontmoeting\, sociaal contact\, …? Dan ben je meer dan welkom! \nOnze deur staat open voor jou! Kom gerust eens langs en voor zij die willen staat er een tasje koffie of thee klaar voor €1\,00. \nWanneer? Elke woensdag! Dit telkens vanaf 10u00
URL:https://zorggroep-orion.be/activiteit/ontmoet-je-buurde-wissel-2-2/2026-06-03/
LOCATION:Dienstencentrum De Wissel\, Dokter Nand Peetersstraat 33\, Turnhout\, Antwerpen\, 2300\, Belgium
CATEGORIES:Dienstverlening
ATTACH;FMTTYPE=image/png:https://zorggroep-orion.be/wp-content/uploads/2023/03/Ontmoet-je-buur-2023.png
END:VEVENT
BEGIN:VEVENT
DTSTART;TZID=Europe/Brussels:20260610T100000
DTEND;TZID=Europe/Brussels:20260610T113000
DTSTAMP:20260424T212517
CREATED:20250219T103910Z
LAST-MODIFIED:20250828T073449Z
UID:10619553-1781085600-1781091000@zorggroep-orion.be
SUMMARY:ONTMOET JE BUUR @ DE WISSEL
DESCRIPTION:Onder het motto ‘Ontmoet je buren’ komen we elke woensdagvoormiddag samen in het café van LDC De Wissel. \nHeb jij ook nood aan een babbel\, ontmoeting\, sociaal contact\, …? Dan ben je meer dan welkom! \nOnze deur staat open voor jou! Kom gerust eens langs en voor zij die willen staat er een tasje koffie of thee klaar voor €1\,00. \nWanneer? Elke woensdag! Dit telkens vanaf 10u00
URL:https://zorggroep-orion.be/activiteit/ontmoet-je-buurde-wissel-2-2/2026-06-10/
LOCATION:Dienstencentrum De Wissel\, Dokter Nand Peetersstraat 33\, Turnhout\, Antwerpen\, 2300\, Belgium
CATEGORIES:Dienstverlening
ATTACH;FMTTYPE=image/png:https://zorggroep-orion.be/wp-content/uploads/2023/03/Ontmoet-je-buur-2023.png
END:VEVENT
BEGIN:VEVENT
DTSTART;TZID=Europe/Brussels:20260617T100000
DTEND;TZID=Europe/Brussels:20260617T113000
DTSTAMP:20260424T212517
CREATED:20250219T103910Z
LAST-MODIFIED:20250828T073449Z
UID:10619554-1781690400-1781695800@zorggroep-orion.be
SUMMARY:ONTMOET JE BUUR @ DE WISSEL
DESCRIPTION:Onder het motto ‘Ontmoet je buren’ komen we elke woensdagvoormiddag samen in het café van LDC De Wissel. \nHeb jij ook nood aan een babbel\, ontmoeting\, sociaal contact\, …? Dan ben je meer dan welkom! \nOnze deur staat open voor jou! Kom gerust eens langs en voor zij die willen staat er een tasje koffie of thee klaar voor €1\,00. \nWanneer? Elke woensdag! Dit telkens vanaf 10u00
URL:https://zorggroep-orion.be/activiteit/ontmoet-je-buurde-wissel-2-2/2026-06-17/
LOCATION:Dienstencentrum De Wissel\, Dokter Nand Peetersstraat 33\, Turnhout\, Antwerpen\, 2300\, Belgium
CATEGORIES:Dienstverlening
ATTACH;FMTTYPE=image/png:https://zorggroep-orion.be/wp-content/uploads/2023/03/Ontmoet-je-buur-2023.png
END:VEVENT
BEGIN:VEVENT
DTSTART;TZID=Europe/Brussels:20260624T100000
DTEND;TZID=Europe/Brussels:20260624T113000
DTSTAMP:20260424T212517
CREATED:20250219T103910Z
LAST-MODIFIED:20250828T073449Z
UID:10619555-1782295200-1782300600@zorggroep-orion.be
SUMMARY:ONTMOET JE BUUR @ DE WISSEL
DESCRIPTION:Onder het motto ‘Ontmoet je buren’ komen we elke woensdagvoormiddag samen in het café van LDC De Wissel. \nHeb jij ook nood aan een babbel\, ontmoeting\, sociaal contact\, …? Dan ben je meer dan welkom! \nOnze deur staat open voor jou! Kom gerust eens langs en voor zij die willen staat er een tasje koffie of thee klaar voor €1\,00. \nWanneer? Elke woensdag! Dit telkens vanaf 10u00
URL:https://zorggroep-orion.be/activiteit/ontmoet-je-buurde-wissel-2-2/2026-06-24/
LOCATION:Dienstencentrum De Wissel\, Dokter Nand Peetersstraat 33\, Turnhout\, Antwerpen\, 2300\, Belgium
CATEGORIES:Dienstverlening
ATTACH;FMTTYPE=image/png:https://zorggroep-orion.be/wp-content/uploads/2023/03/Ontmoet-je-buur-2023.png
END:VEVENT
BEGIN:VEVENT
DTSTART;TZID=Europe/Brussels:20260701T100000
DTEND;TZID=Europe/Brussels:20260701T113000
DTSTAMP:20260424T212517
CREATED:20250219T103910Z
LAST-MODIFIED:20250828T073449Z
UID:10619556-1782900000-1782905400@zorggroep-orion.be
SUMMARY:ONTMOET JE BUUR @ DE WISSEL
DESCRIPTION:Onder het motto ‘Ontmoet je buren’ komen we elke woensdagvoormiddag samen in het café van LDC De Wissel. \nHeb jij ook nood aan een babbel\, ontmoeting\, sociaal contact\, …? Dan ben je meer dan welkom! \nOnze deur staat open voor jou! Kom gerust eens langs en voor zij die willen staat er een tasje koffie of thee klaar voor €1\,00. \nWanneer? Elke woensdag! Dit telkens vanaf 10u00
URL:https://zorggroep-orion.be/activiteit/ontmoet-je-buurde-wissel-2-2/2026-07-01/
LOCATION:Dienstencentrum De Wissel\, Dokter Nand Peetersstraat 33\, Turnhout\, Antwerpen\, 2300\, Belgium
CATEGORIES:Dienstverlening
ATTACH;FMTTYPE=image/png:https://zorggroep-orion.be/wp-content/uploads/2023/03/Ontmoet-je-buur-2023.png
END:VEVENT
BEGIN:VEVENT
DTSTART;TZID=Europe/Brussels:20260708T100000
DTEND;TZID=Europe/Brussels:20260708T113000
DTSTAMP:20260424T212517
CREATED:20250219T103910Z
LAST-MODIFIED:20250828T073449Z
UID:10619557-1783504800-1783510200@zorggroep-orion.be
SUMMARY:ONTMOET JE BUUR @ DE WISSEL
DESCRIPTION:Onder het motto ‘Ontmoet je buren’ komen we elke woensdagvoormiddag samen in het café van LDC De Wissel. \nHeb jij ook nood aan een babbel\, ontmoeting\, sociaal contact\, …? Dan ben je meer dan welkom! \nOnze deur staat open voor jou! Kom gerust eens langs en voor zij die willen staat er een tasje koffie of thee klaar voor €1\,00. \nWanneer? Elke woensdag! Dit telkens vanaf 10u00
URL:https://zorggroep-orion.be/activiteit/ontmoet-je-buurde-wissel-2-2/2026-07-08/
LOCATION:Dienstencentrum De Wissel\, Dokter Nand Peetersstraat 33\, Turnhout\, Antwerpen\, 2300\, Belgium
CATEGORIES:Dienstverlening
ATTACH;FMTTYPE=image/png:https://zorggroep-orion.be/wp-content/uploads/2023/03/Ontmoet-je-buur-2023.png
END:VEVENT
BEGIN:VEVENT
DTSTART;TZID=Europe/Brussels:20260715T100000
DTEND;TZID=Europe/Brussels:20260715T113000
DTSTAMP:20260424T212517
CREATED:20250219T103910Z
LAST-MODIFIED:20250828T073449Z
UID:10619558-1784109600-1784115000@zorggroep-orion.be
SUMMARY:ONTMOET JE BUUR @ DE WISSEL
DESCRIPTION:Onder het motto ‘Ontmoet je buren’ komen we elke woensdagvoormiddag samen in het café van LDC De Wissel. \nHeb jij ook nood aan een babbel\, ontmoeting\, sociaal contact\, …? Dan ben je meer dan welkom! \nOnze deur staat open voor jou! Kom gerust eens langs en voor zij die willen staat er een tasje koffie of thee klaar voor €1\,00. \nWanneer? Elke woensdag! Dit telkens vanaf 10u00
URL:https://zorggroep-orion.be/activiteit/ontmoet-je-buurde-wissel-2-2/2026-07-15/
LOCATION:Dienstencentrum De Wissel\, Dokter Nand Peetersstraat 33\, Turnhout\, Antwerpen\, 2300\, Belgium
CATEGORIES:Dienstverlening
ATTACH;FMTTYPE=image/png:https://zorggroep-orion.be/wp-content/uploads/2023/03/Ontmoet-je-buur-2023.png
END:VEVENT
BEGIN:VEVENT
DTSTART;TZID=Europe/Brussels:20260722T100000
DTEND;TZID=Europe/Brussels:20260722T113000
DTSTAMP:20260424T212517
CREATED:20250219T103910Z
LAST-MODIFIED:20250828T073449Z
UID:10619559-1784714400-1784719800@zorggroep-orion.be
SUMMARY:ONTMOET JE BUUR @ DE WISSEL
DESCRIPTION:Onder het motto ‘Ontmoet je buren’ komen we elke woensdagvoormiddag samen in het café van LDC De Wissel. \nHeb jij ook nood aan een babbel\, ontmoeting\, sociaal contact\, …? Dan ben je meer dan welkom! \nOnze deur staat open voor jou! Kom gerust eens langs en voor zij die willen staat er een tasje koffie of thee klaar voor €1\,00. \nWanneer? Elke woensdag! Dit telkens vanaf 10u00
URL:https://zorggroep-orion.be/activiteit/ontmoet-je-buurde-wissel-2-2/2026-07-22/
LOCATION:Dienstencentrum De Wissel\, Dokter Nand Peetersstraat 33\, Turnhout\, Antwerpen\, 2300\, Belgium
CATEGORIES:Dienstverlening
ATTACH;FMTTYPE=image/png:https://zorggroep-orion.be/wp-content/uploads/2023/03/Ontmoet-je-buur-2023.png
END:VEVENT
BEGIN:VEVENT
DTSTART;TZID=Europe/Brussels:20260729T100000
DTEND;TZID=Europe/Brussels:20260729T113000
DTSTAMP:20260424T212517
CREATED:20250219T103910Z
LAST-MODIFIED:20250828T073449Z
UID:10619560-1785319200-1785324600@zorggroep-orion.be
SUMMARY:ONTMOET JE BUUR @ DE WISSEL
DESCRIPTION:Onder het motto ‘Ontmoet je buren’ komen we elke woensdagvoormiddag samen in het café van LDC De Wissel. \nHeb jij ook nood aan een babbel\, ontmoeting\, sociaal contact\, …? Dan ben je meer dan welkom! \nOnze deur staat open voor jou! Kom gerust eens langs en voor zij die willen staat er een tasje koffie of thee klaar voor €1\,00. \nWanneer? Elke woensdag! Dit telkens vanaf 10u00
URL:https://zorggroep-orion.be/activiteit/ontmoet-je-buurde-wissel-2-2/2026-07-29/
LOCATION:Dienstencentrum De Wissel\, Dokter Nand Peetersstraat 33\, Turnhout\, Antwerpen\, 2300\, Belgium
CATEGORIES:Dienstverlening
ATTACH;FMTTYPE=image/png:https://zorggroep-orion.be/wp-content/uploads/2023/03/Ontmoet-je-buur-2023.png
END:VEVENT
BEGIN:VEVENT
DTSTART;TZID=Europe/Brussels:20260805T100000
DTEND;TZID=Europe/Brussels:20260805T113000
DTSTAMP:20260424T212517
CREATED:20250219T103910Z
LAST-MODIFIED:20250828T073449Z
UID:10619561-1785924000-1785929400@zorggroep-orion.be
SUMMARY:ONTMOET JE BUUR @ DE WISSEL
DESCRIPTION:Onder het motto ‘Ontmoet je buren’ komen we elke woensdagvoormiddag samen in het café van LDC De Wissel. \nHeb jij ook nood aan een babbel\, ontmoeting\, sociaal contact\, …? Dan ben je meer dan welkom! \nOnze deur staat open voor jou! Kom gerust eens langs en voor zij die willen staat er een tasje koffie of thee klaar voor €1\,00. \nWanneer? Elke woensdag! Dit telkens vanaf 10u00
URL:https://zorggroep-orion.be/activiteit/ontmoet-je-buurde-wissel-2-2/2026-08-05/
LOCATION:Dienstencentrum De Wissel\, Dokter Nand Peetersstraat 33\, Turnhout\, Antwerpen\, 2300\, Belgium
CATEGORIES:Dienstverlening
ATTACH;FMTTYPE=image/png:https://zorggroep-orion.be/wp-content/uploads/2023/03/Ontmoet-je-buur-2023.png
END:VEVENT
BEGIN:VEVENT
DTSTART;TZID=Europe/Brussels:20260812T100000
DTEND;TZID=Europe/Brussels:20260812T113000
DTSTAMP:20260424T212517
CREATED:20250219T103910Z
LAST-MODIFIED:20250828T073449Z
UID:10619562-1786528800-1786534200@zorggroep-orion.be
SUMMARY:ONTMOET JE BUUR @ DE WISSEL
DESCRIPTION:Onder het motto ‘Ontmoet je buren’ komen we elke woensdagvoormiddag samen in het café van LDC De Wissel. \nHeb jij ook nood aan een babbel\, ontmoeting\, sociaal contact\, …? Dan ben je meer dan welkom! \nOnze deur staat open voor jou! Kom gerust eens langs en voor zij die willen staat er een tasje koffie of thee klaar voor €1\,00. \nWanneer? Elke woensdag! Dit telkens vanaf 10u00
URL:https://zorggroep-orion.be/activiteit/ontmoet-je-buurde-wissel-2-2/2026-08-12/
LOCATION:Dienstencentrum De Wissel\, Dokter Nand Peetersstraat 33\, Turnhout\, Antwerpen\, 2300\, Belgium
CATEGORIES:Dienstverlening
ATTACH;FMTTYPE=image/png:https://zorggroep-orion.be/wp-content/uploads/2023/03/Ontmoet-je-buur-2023.png
END:VEVENT
BEGIN:VEVENT
DTSTART;TZID=Europe/Brussels:20260819T100000
DTEND;TZID=Europe/Brussels:20260819T113000
DTSTAMP:20260424T212517
CREATED:20250219T103910Z
LAST-MODIFIED:20250828T073449Z
UID:10619563-1787133600-1787139000@zorggroep-orion.be
SUMMARY:ONTMOET JE BUUR @ DE WISSEL
DESCRIPTION:Onder het motto ‘Ontmoet je buren’ komen we elke woensdagvoormiddag samen in het café van LDC De Wissel. \nHeb jij ook nood aan een babbel\, ontmoeting\, sociaal contact\, …? Dan ben je meer dan welkom! \nOnze deur staat open voor jou! Kom gerust eens langs en voor zij die willen staat er een tasje koffie of thee klaar voor €1\,00. \nWanneer? Elke woensdag! Dit telkens vanaf 10u00
URL:https://zorggroep-orion.be/activiteit/ontmoet-je-buurde-wissel-2-2/2026-08-19/
LOCATION:Dienstencentrum De Wissel\, Dokter Nand Peetersstraat 33\, Turnhout\, Antwerpen\, 2300\, Belgium
CATEGORIES:Dienstverlening
ATTACH;FMTTYPE=image/png:https://zorggroep-orion.be/wp-content/uploads/2023/03/Ontmoet-je-buur-2023.png
END:VEVENT
BEGIN:VEVENT
DTSTART;TZID=Europe/Brussels:20260826T100000
DTEND;TZID=Europe/Brussels:20260826T113000
DTSTAMP:20260424T212517
CREATED:20250219T103910Z
LAST-MODIFIED:20250828T073449Z
UID:10619564-1787738400-1787743800@zorggroep-orion.be
SUMMARY:ONTMOET JE BUUR @ DE WISSEL
DESCRIPTION:Onder het motto ‘Ontmoet je buren’ komen we elke woensdagvoormiddag samen in het café van LDC De Wissel. \nHeb jij ook nood aan een babbel\, ontmoeting\, sociaal contact\, …? Dan ben je meer dan welkom! \nOnze deur staat open voor jou! Kom gerust eens langs en voor zij die willen staat er een tasje koffie of thee klaar voor €1\,00. \nWanneer? Elke woensdag! Dit telkens vanaf 10u00
URL:https://zorggroep-orion.be/activiteit/ontmoet-je-buurde-wissel-2-2/2026-08-26/
LOCATION:Dienstencentrum De Wissel\, Dokter Nand Peetersstraat 33\, Turnhout\, Antwerpen\, 2300\, Belgium
CATEGORIES:Dienstverlening
ATTACH;FMTTYPE=image/png:https://zorggroep-orion.be/wp-content/uploads/2023/03/Ontmoet-je-buur-2023.png
END:VEVENT
BEGIN:VEVENT
DTSTART;TZID=Europe/Brussels:20260902T100000
DTEND;TZID=Europe/Brussels:20260902T113000
DTSTAMP:20260424T212517
CREATED:20250219T103910Z
LAST-MODIFIED:20250828T073449Z
UID:10619565-1788343200-1788348600@zorggroep-orion.be
SUMMARY:ONTMOET JE BUUR @ DE WISSEL
DESCRIPTION:Onder het motto ‘Ontmoet je buren’ komen we elke woensdagvoormiddag samen in het café van LDC De Wissel. \nHeb jij ook nood aan een babbel\, ontmoeting\, sociaal contact\, …? Dan ben je meer dan welkom! \nOnze deur staat open voor jou! Kom gerust eens langs en voor zij die willen staat er een tasje koffie of thee klaar voor €1\,00. \nWanneer? Elke woensdag! Dit telkens vanaf 10u00
URL:https://zorggroep-orion.be/activiteit/ontmoet-je-buurde-wissel-2-2/2026-09-02/
LOCATION:Dienstencentrum De Wissel\, Dokter Nand Peetersstraat 33\, Turnhout\, Antwerpen\, 2300\, Belgium
CATEGORIES:Dienstverlening
ATTACH;FMTTYPE=image/png:https://zorggroep-orion.be/wp-content/uploads/2023/03/Ontmoet-je-buur-2023.png
END:VEVENT
END:VCALENDAR