BEGIN:VCALENDAR
VERSION:2.0
PRODID:-//Zorggroep Orion - ECPv6.15.17.1//NONSGML v1.0//EN
CALSCALE:GREGORIAN
METHOD:PUBLISH
X-WR-CALNAME:Zorggroep Orion
X-ORIGINAL-URL:https://zorggroep-orion.be
X-WR-CALDESC:Evenementen voor Zorggroep Orion
REFRESH-INTERVAL;VALUE=DURATION:PT1H
X-Robots-Tag:noindex
X-PUBLISHED-TTL:PT1H
BEGIN:VTIMEZONE
TZID:Europe/Brussels
BEGIN:DAYLIGHT
TZOFFSETFROM:+0100
TZOFFSETTO:+0200
TZNAME:CEST
DTSTART:20250330T010000
END:DAYLIGHT
BEGIN:STANDARD
TZOFFSETFROM:+0200
TZOFFSETTO:+0100
TZNAME:CET
DTSTART:20251026T010000
END:STANDARD
BEGIN:DAYLIGHT
TZOFFSETFROM:+0100
TZOFFSETTO:+0200
TZNAME:CEST
DTSTART:20260329T010000
END:DAYLIGHT
BEGIN:STANDARD
TZOFFSETFROM:+0200
TZOFFSETTO:+0100
TZNAME:CET
DTSTART:20261025T010000
END:STANDARD
BEGIN:DAYLIGHT
TZOFFSETFROM:+0100
TZOFFSETTO:+0200
TZNAME:CEST
DTSTART:20270328T010000
END:DAYLIGHT
BEGIN:STANDARD
TZOFFSETFROM:+0200
TZOFFSETTO:+0100
TZNAME:CET
DTSTART:20271031T010000
END:STANDARD
END:VTIMEZONE
BEGIN:VEVENT
DTSTART;TZID=Europe/Brussels:20260427T130000
DTEND;TZID=Europe/Brussels:20260427T163000
DTSTAMP:20260424T131806
CREATED:20241217T155719Z
LAST-MODIFIED:20251219T061247Z
UID:10620482-1777294800-1777307400@zorggroep-orion.be
SUMMARY:HANDWERK @ Albert
DESCRIPTION:Wekelijks op maandag namiddag. Hou je van handwerk? Haken\, breien\, borduren …. ? \nBreng je eigen materialen mee\, al doende leren we van elkaar. \nSamen maken we’r een gezellige creatieve namiddag van. Hartelijk welkom\, De koffie staat klaar.
URL:https://zorggroep-orion.be/activiteit/hobby-albert-2/2026-04-27/
LOCATION:Dienstencentrum Albert Van Dyck\, Albert Van Dyckstraat 10\, Turnhout\, Antwerpen\, 2300\, Belgium
CATEGORIES:Workshop
ATTACH;FMTTYPE=image/png:https://zorggroep-orion.be/wp-content/uploads/2024/09/hobby.png
END:VEVENT
BEGIN:VEVENT
DTSTART;TZID=Europe/Brussels:20260504T130000
DTEND;TZID=Europe/Brussels:20260504T163000
DTSTAMP:20260424T131806
CREATED:20241217T155719Z
LAST-MODIFIED:20251219T061247Z
UID:10620483-1777899600-1777912200@zorggroep-orion.be
SUMMARY:HANDWERK @ Albert
DESCRIPTION:Wekelijks op maandag namiddag. Hou je van handwerk? Haken\, breien\, borduren …. ? \nBreng je eigen materialen mee\, al doende leren we van elkaar. \nSamen maken we’r een gezellige creatieve namiddag van. Hartelijk welkom\, De koffie staat klaar.
URL:https://zorggroep-orion.be/activiteit/hobby-albert-2/2026-05-04/
LOCATION:Dienstencentrum Albert Van Dyck\, Albert Van Dyckstraat 10\, Turnhout\, Antwerpen\, 2300\, Belgium
CATEGORIES:Workshop
ATTACH;FMTTYPE=image/png:https://zorggroep-orion.be/wp-content/uploads/2024/09/hobby.png
END:VEVENT
BEGIN:VEVENT
DTSTART;TZID=Europe/Brussels:20260511T130000
DTEND;TZID=Europe/Brussels:20260511T163000
DTSTAMP:20260424T131806
CREATED:20241217T155719Z
LAST-MODIFIED:20251219T061247Z
UID:10620484-1778504400-1778517000@zorggroep-orion.be
SUMMARY:HANDWERK @ Albert
DESCRIPTION:Wekelijks op maandag namiddag. Hou je van handwerk? Haken\, breien\, borduren …. ? \nBreng je eigen materialen mee\, al doende leren we van elkaar. \nSamen maken we’r een gezellige creatieve namiddag van. Hartelijk welkom\, De koffie staat klaar.
URL:https://zorggroep-orion.be/activiteit/hobby-albert-2/2026-05-11/
LOCATION:Dienstencentrum Albert Van Dyck\, Albert Van Dyckstraat 10\, Turnhout\, Antwerpen\, 2300\, Belgium
CATEGORIES:Workshop
ATTACH;FMTTYPE=image/png:https://zorggroep-orion.be/wp-content/uploads/2024/09/hobby.png
END:VEVENT
BEGIN:VEVENT
DTSTART;TZID=Europe/Brussels:20260518T130000
DTEND;TZID=Europe/Brussels:20260518T163000
DTSTAMP:20260424T131806
CREATED:20241217T155719Z
LAST-MODIFIED:20251219T061247Z
UID:10620485-1779109200-1779121800@zorggroep-orion.be
SUMMARY:HANDWERK @ Albert
DESCRIPTION:Wekelijks op maandag namiddag. Hou je van handwerk? Haken\, breien\, borduren …. ? \nBreng je eigen materialen mee\, al doende leren we van elkaar. \nSamen maken we’r een gezellige creatieve namiddag van. Hartelijk welkom\, De koffie staat klaar.
URL:https://zorggroep-orion.be/activiteit/hobby-albert-2/2026-05-18/
LOCATION:Dienstencentrum Albert Van Dyck\, Albert Van Dyckstraat 10\, Turnhout\, Antwerpen\, 2300\, Belgium
CATEGORIES:Workshop
ATTACH;FMTTYPE=image/png:https://zorggroep-orion.be/wp-content/uploads/2024/09/hobby.png
END:VEVENT
BEGIN:VEVENT
DTSTART;TZID=Europe/Brussels:20260525T130000
DTEND;TZID=Europe/Brussels:20260525T163000
DTSTAMP:20260424T131806
CREATED:20241217T155719Z
LAST-MODIFIED:20251219T061247Z
UID:10620486-1779714000-1779726600@zorggroep-orion.be
SUMMARY:HANDWERK @ Albert
DESCRIPTION:Wekelijks op maandag namiddag. Hou je van handwerk? Haken\, breien\, borduren …. ? \nBreng je eigen materialen mee\, al doende leren we van elkaar. \nSamen maken we’r een gezellige creatieve namiddag van. Hartelijk welkom\, De koffie staat klaar.
URL:https://zorggroep-orion.be/activiteit/hobby-albert-2/2026-05-25/
LOCATION:Dienstencentrum Albert Van Dyck\, Albert Van Dyckstraat 10\, Turnhout\, Antwerpen\, 2300\, Belgium
CATEGORIES:Workshop
ATTACH;FMTTYPE=image/png:https://zorggroep-orion.be/wp-content/uploads/2024/09/hobby.png
END:VEVENT
BEGIN:VEVENT
DTSTART;TZID=Europe/Brussels:20260601T130000
DTEND;TZID=Europe/Brussels:20260601T163000
DTSTAMP:20260424T131806
CREATED:20241217T155719Z
LAST-MODIFIED:20251219T061247Z
UID:10620487-1780318800-1780331400@zorggroep-orion.be
SUMMARY:HANDWERK @ Albert
DESCRIPTION:Wekelijks op maandag namiddag. Hou je van handwerk? Haken\, breien\, borduren …. ? \nBreng je eigen materialen mee\, al doende leren we van elkaar. \nSamen maken we’r een gezellige creatieve namiddag van. Hartelijk welkom\, De koffie staat klaar.
URL:https://zorggroep-orion.be/activiteit/hobby-albert-2/2026-06-01/
LOCATION:Dienstencentrum Albert Van Dyck\, Albert Van Dyckstraat 10\, Turnhout\, Antwerpen\, 2300\, Belgium
CATEGORIES:Workshop
ATTACH;FMTTYPE=image/png:https://zorggroep-orion.be/wp-content/uploads/2024/09/hobby.png
END:VEVENT
BEGIN:VEVENT
DTSTART;TZID=Europe/Brussels:20260608T130000
DTEND;TZID=Europe/Brussels:20260608T163000
DTSTAMP:20260424T131806
CREATED:20241217T155719Z
LAST-MODIFIED:20251219T061247Z
UID:10620488-1780923600-1780936200@zorggroep-orion.be
SUMMARY:HANDWERK @ Albert
DESCRIPTION:Wekelijks op maandag namiddag. Hou je van handwerk? Haken\, breien\, borduren …. ? \nBreng je eigen materialen mee\, al doende leren we van elkaar. \nSamen maken we’r een gezellige creatieve namiddag van. Hartelijk welkom\, De koffie staat klaar.
URL:https://zorggroep-orion.be/activiteit/hobby-albert-2/2026-06-08/
LOCATION:Dienstencentrum Albert Van Dyck\, Albert Van Dyckstraat 10\, Turnhout\, Antwerpen\, 2300\, Belgium
CATEGORIES:Workshop
ATTACH;FMTTYPE=image/png:https://zorggroep-orion.be/wp-content/uploads/2024/09/hobby.png
END:VEVENT
BEGIN:VEVENT
DTSTART;TZID=Europe/Brussels:20260615T130000
DTEND;TZID=Europe/Brussels:20260615T163000
DTSTAMP:20260424T131806
CREATED:20241217T155719Z
LAST-MODIFIED:20251219T061247Z
UID:10620489-1781528400-1781541000@zorggroep-orion.be
SUMMARY:HANDWERK @ Albert
DESCRIPTION:Wekelijks op maandag namiddag. Hou je van handwerk? Haken\, breien\, borduren …. ? \nBreng je eigen materialen mee\, al doende leren we van elkaar. \nSamen maken we’r een gezellige creatieve namiddag van. Hartelijk welkom\, De koffie staat klaar.
URL:https://zorggroep-orion.be/activiteit/hobby-albert-2/2026-06-15/
LOCATION:Dienstencentrum Albert Van Dyck\, Albert Van Dyckstraat 10\, Turnhout\, Antwerpen\, 2300\, Belgium
CATEGORIES:Workshop
ATTACH;FMTTYPE=image/png:https://zorggroep-orion.be/wp-content/uploads/2024/09/hobby.png
END:VEVENT
BEGIN:VEVENT
DTSTART;TZID=Europe/Brussels:20260622T130000
DTEND;TZID=Europe/Brussels:20260622T163000
DTSTAMP:20260424T131806
CREATED:20241217T155719Z
LAST-MODIFIED:20251219T061247Z
UID:10620490-1782133200-1782145800@zorggroep-orion.be
SUMMARY:HANDWERK @ Albert
DESCRIPTION:Wekelijks op maandag namiddag. Hou je van handwerk? Haken\, breien\, borduren …. ? \nBreng je eigen materialen mee\, al doende leren we van elkaar. \nSamen maken we’r een gezellige creatieve namiddag van. Hartelijk welkom\, De koffie staat klaar.
URL:https://zorggroep-orion.be/activiteit/hobby-albert-2/2026-06-22/
LOCATION:Dienstencentrum Albert Van Dyck\, Albert Van Dyckstraat 10\, Turnhout\, Antwerpen\, 2300\, Belgium
CATEGORIES:Workshop
ATTACH;FMTTYPE=image/png:https://zorggroep-orion.be/wp-content/uploads/2024/09/hobby.png
END:VEVENT
BEGIN:VEVENT
DTSTART;TZID=Europe/Brussels:20260629T130000
DTEND;TZID=Europe/Brussels:20260629T163000
DTSTAMP:20260424T131806
CREATED:20241217T155719Z
LAST-MODIFIED:20251219T061247Z
UID:10620491-1782738000-1782750600@zorggroep-orion.be
SUMMARY:HANDWERK @ Albert
DESCRIPTION:Wekelijks op maandag namiddag. Hou je van handwerk? Haken\, breien\, borduren …. ? \nBreng je eigen materialen mee\, al doende leren we van elkaar. \nSamen maken we’r een gezellige creatieve namiddag van. Hartelijk welkom\, De koffie staat klaar.
URL:https://zorggroep-orion.be/activiteit/hobby-albert-2/2026-06-29/
LOCATION:Dienstencentrum Albert Van Dyck\, Albert Van Dyckstraat 10\, Turnhout\, Antwerpen\, 2300\, Belgium
CATEGORIES:Workshop
ATTACH;FMTTYPE=image/png:https://zorggroep-orion.be/wp-content/uploads/2024/09/hobby.png
END:VEVENT
BEGIN:VEVENT
DTSTART;TZID=Europe/Brussels:20260706T130000
DTEND;TZID=Europe/Brussels:20260706T163000
DTSTAMP:20260424T131806
CREATED:20241217T155719Z
LAST-MODIFIED:20251219T061247Z
UID:10620492-1783342800-1783355400@zorggroep-orion.be
SUMMARY:HANDWERK @ Albert
DESCRIPTION:Wekelijks op maandag namiddag. Hou je van handwerk? Haken\, breien\, borduren …. ? \nBreng je eigen materialen mee\, al doende leren we van elkaar. \nSamen maken we’r een gezellige creatieve namiddag van. Hartelijk welkom\, De koffie staat klaar.
URL:https://zorggroep-orion.be/activiteit/hobby-albert-2/2026-07-06/
LOCATION:Dienstencentrum Albert Van Dyck\, Albert Van Dyckstraat 10\, Turnhout\, Antwerpen\, 2300\, Belgium
CATEGORIES:Workshop
ATTACH;FMTTYPE=image/png:https://zorggroep-orion.be/wp-content/uploads/2024/09/hobby.png
END:VEVENT
BEGIN:VEVENT
DTSTART;TZID=Europe/Brussels:20260713T130000
DTEND;TZID=Europe/Brussels:20260713T163000
DTSTAMP:20260424T131806
CREATED:20241217T155719Z
LAST-MODIFIED:20251219T061247Z
UID:10620493-1783947600-1783960200@zorggroep-orion.be
SUMMARY:HANDWERK @ Albert
DESCRIPTION:Wekelijks op maandag namiddag. Hou je van handwerk? Haken\, breien\, borduren …. ? \nBreng je eigen materialen mee\, al doende leren we van elkaar. \nSamen maken we’r een gezellige creatieve namiddag van. Hartelijk welkom\, De koffie staat klaar.
URL:https://zorggroep-orion.be/activiteit/hobby-albert-2/2026-07-13/
LOCATION:Dienstencentrum Albert Van Dyck\, Albert Van Dyckstraat 10\, Turnhout\, Antwerpen\, 2300\, Belgium
CATEGORIES:Workshop
ATTACH;FMTTYPE=image/png:https://zorggroep-orion.be/wp-content/uploads/2024/09/hobby.png
END:VEVENT
BEGIN:VEVENT
DTSTART;TZID=Europe/Brussels:20260720T130000
DTEND;TZID=Europe/Brussels:20260720T163000
DTSTAMP:20260424T131806
CREATED:20241217T155719Z
LAST-MODIFIED:20251219T061247Z
UID:10620494-1784552400-1784565000@zorggroep-orion.be
SUMMARY:HANDWERK @ Albert
DESCRIPTION:Wekelijks op maandag namiddag. Hou je van handwerk? Haken\, breien\, borduren …. ? \nBreng je eigen materialen mee\, al doende leren we van elkaar. \nSamen maken we’r een gezellige creatieve namiddag van. Hartelijk welkom\, De koffie staat klaar.
URL:https://zorggroep-orion.be/activiteit/hobby-albert-2/2026-07-20/
LOCATION:Dienstencentrum Albert Van Dyck\, Albert Van Dyckstraat 10\, Turnhout\, Antwerpen\, 2300\, Belgium
CATEGORIES:Workshop
ATTACH;FMTTYPE=image/png:https://zorggroep-orion.be/wp-content/uploads/2024/09/hobby.png
END:VEVENT
BEGIN:VEVENT
DTSTART;TZID=Europe/Brussels:20260727T130000
DTEND;TZID=Europe/Brussels:20260727T163000
DTSTAMP:20260424T131806
CREATED:20241217T155719Z
LAST-MODIFIED:20251219T061247Z
UID:10620495-1785157200-1785169800@zorggroep-orion.be
SUMMARY:HANDWERK @ Albert
DESCRIPTION:Wekelijks op maandag namiddag. Hou je van handwerk? Haken\, breien\, borduren …. ? \nBreng je eigen materialen mee\, al doende leren we van elkaar. \nSamen maken we’r een gezellige creatieve namiddag van. Hartelijk welkom\, De koffie staat klaar.
URL:https://zorggroep-orion.be/activiteit/hobby-albert-2/2026-07-27/
LOCATION:Dienstencentrum Albert Van Dyck\, Albert Van Dyckstraat 10\, Turnhout\, Antwerpen\, 2300\, Belgium
CATEGORIES:Workshop
ATTACH;FMTTYPE=image/png:https://zorggroep-orion.be/wp-content/uploads/2024/09/hobby.png
END:VEVENT
BEGIN:VEVENT
DTSTART;TZID=Europe/Brussels:20260803T130000
DTEND;TZID=Europe/Brussels:20260803T163000
DTSTAMP:20260424T131806
CREATED:20241217T155719Z
LAST-MODIFIED:20251219T061247Z
UID:10620496-1785762000-1785774600@zorggroep-orion.be
SUMMARY:HANDWERK @ Albert
DESCRIPTION:Wekelijks op maandag namiddag. Hou je van handwerk? Haken\, breien\, borduren …. ? \nBreng je eigen materialen mee\, al doende leren we van elkaar. \nSamen maken we’r een gezellige creatieve namiddag van. Hartelijk welkom\, De koffie staat klaar.
URL:https://zorggroep-orion.be/activiteit/hobby-albert-2/2026-08-03/
LOCATION:Dienstencentrum Albert Van Dyck\, Albert Van Dyckstraat 10\, Turnhout\, Antwerpen\, 2300\, Belgium
CATEGORIES:Workshop
ATTACH;FMTTYPE=image/png:https://zorggroep-orion.be/wp-content/uploads/2024/09/hobby.png
END:VEVENT
BEGIN:VEVENT
DTSTART;TZID=Europe/Brussels:20260810T130000
DTEND;TZID=Europe/Brussels:20260810T163000
DTSTAMP:20260424T131806
CREATED:20241217T155719Z
LAST-MODIFIED:20251219T061247Z
UID:10620497-1786366800-1786379400@zorggroep-orion.be
SUMMARY:HANDWERK @ Albert
DESCRIPTION:Wekelijks op maandag namiddag. Hou je van handwerk? Haken\, breien\, borduren …. ? \nBreng je eigen materialen mee\, al doende leren we van elkaar. \nSamen maken we’r een gezellige creatieve namiddag van. Hartelijk welkom\, De koffie staat klaar.
URL:https://zorggroep-orion.be/activiteit/hobby-albert-2/2026-08-10/
LOCATION:Dienstencentrum Albert Van Dyck\, Albert Van Dyckstraat 10\, Turnhout\, Antwerpen\, 2300\, Belgium
CATEGORIES:Workshop
ATTACH;FMTTYPE=image/png:https://zorggroep-orion.be/wp-content/uploads/2024/09/hobby.png
END:VEVENT
BEGIN:VEVENT
DTSTART;TZID=Europe/Brussels:20260817T130000
DTEND;TZID=Europe/Brussels:20260817T163000
DTSTAMP:20260424T131806
CREATED:20241217T155719Z
LAST-MODIFIED:20251219T061247Z
UID:10620498-1786971600-1786984200@zorggroep-orion.be
SUMMARY:HANDWERK @ Albert
DESCRIPTION:Wekelijks op maandag namiddag. Hou je van handwerk? Haken\, breien\, borduren …. ? \nBreng je eigen materialen mee\, al doende leren we van elkaar. \nSamen maken we’r een gezellige creatieve namiddag van. Hartelijk welkom\, De koffie staat klaar.
URL:https://zorggroep-orion.be/activiteit/hobby-albert-2/2026-08-17/
LOCATION:Dienstencentrum Albert Van Dyck\, Albert Van Dyckstraat 10\, Turnhout\, Antwerpen\, 2300\, Belgium
CATEGORIES:Workshop
ATTACH;FMTTYPE=image/png:https://zorggroep-orion.be/wp-content/uploads/2024/09/hobby.png
END:VEVENT
BEGIN:VEVENT
DTSTART;TZID=Europe/Brussels:20260824T130000
DTEND;TZID=Europe/Brussels:20260824T163000
DTSTAMP:20260424T131806
CREATED:20241217T155719Z
LAST-MODIFIED:20251219T061247Z
UID:10620499-1787576400-1787589000@zorggroep-orion.be
SUMMARY:HANDWERK @ Albert
DESCRIPTION:Wekelijks op maandag namiddag. Hou je van handwerk? Haken\, breien\, borduren …. ? \nBreng je eigen materialen mee\, al doende leren we van elkaar. \nSamen maken we’r een gezellige creatieve namiddag van. Hartelijk welkom\, De koffie staat klaar.
URL:https://zorggroep-orion.be/activiteit/hobby-albert-2/2026-08-24/
LOCATION:Dienstencentrum Albert Van Dyck\, Albert Van Dyckstraat 10\, Turnhout\, Antwerpen\, 2300\, Belgium
CATEGORIES:Workshop
ATTACH;FMTTYPE=image/png:https://zorggroep-orion.be/wp-content/uploads/2024/09/hobby.png
END:VEVENT
BEGIN:VEVENT
DTSTART;TZID=Europe/Brussels:20260831T130000
DTEND;TZID=Europe/Brussels:20260831T163000
DTSTAMP:20260424T131806
CREATED:20241217T155719Z
LAST-MODIFIED:20251219T061247Z
UID:10620500-1788181200-1788193800@zorggroep-orion.be
SUMMARY:HANDWERK @ Albert
DESCRIPTION:Wekelijks op maandag namiddag. Hou je van handwerk? Haken\, breien\, borduren …. ? \nBreng je eigen materialen mee\, al doende leren we van elkaar. \nSamen maken we’r een gezellige creatieve namiddag van. Hartelijk welkom\, De koffie staat klaar.
URL:https://zorggroep-orion.be/activiteit/hobby-albert-2/2026-08-31/
LOCATION:Dienstencentrum Albert Van Dyck\, Albert Van Dyckstraat 10\, Turnhout\, Antwerpen\, 2300\, Belgium
CATEGORIES:Workshop
ATTACH;FMTTYPE=image/png:https://zorggroep-orion.be/wp-content/uploads/2024/09/hobby.png
END:VEVENT
BEGIN:VEVENT
DTSTART;TZID=Europe/Brussels:20260907T130000
DTEND;TZID=Europe/Brussels:20260907T163000
DTSTAMP:20260424T131806
CREATED:20241217T155719Z
LAST-MODIFIED:20251219T061247Z
UID:10620501-1788786000-1788798600@zorggroep-orion.be
SUMMARY:HANDWERK @ Albert
DESCRIPTION:Wekelijks op maandag namiddag. Hou je van handwerk? Haken\, breien\, borduren …. ? \nBreng je eigen materialen mee\, al doende leren we van elkaar. \nSamen maken we’r een gezellige creatieve namiddag van. Hartelijk welkom\, De koffie staat klaar.
URL:https://zorggroep-orion.be/activiteit/hobby-albert-2/2026-09-07/
LOCATION:Dienstencentrum Albert Van Dyck\, Albert Van Dyckstraat 10\, Turnhout\, Antwerpen\, 2300\, Belgium
CATEGORIES:Workshop
ATTACH;FMTTYPE=image/png:https://zorggroep-orion.be/wp-content/uploads/2024/09/hobby.png
END:VEVENT
BEGIN:VEVENT
DTSTART;TZID=Europe/Brussels:20260914T130000
DTEND;TZID=Europe/Brussels:20260914T163000
DTSTAMP:20260424T131806
CREATED:20241217T155719Z
LAST-MODIFIED:20251219T061247Z
UID:10620502-1789390800-1789403400@zorggroep-orion.be
SUMMARY:HANDWERK @ Albert
DESCRIPTION:Wekelijks op maandag namiddag. Hou je van handwerk? Haken\, breien\, borduren …. ? \nBreng je eigen materialen mee\, al doende leren we van elkaar. \nSamen maken we’r een gezellige creatieve namiddag van. Hartelijk welkom\, De koffie staat klaar.
URL:https://zorggroep-orion.be/activiteit/hobby-albert-2/2026-09-14/
LOCATION:Dienstencentrum Albert Van Dyck\, Albert Van Dyckstraat 10\, Turnhout\, Antwerpen\, 2300\, Belgium
CATEGORIES:Workshop
ATTACH;FMTTYPE=image/png:https://zorggroep-orion.be/wp-content/uploads/2024/09/hobby.png
END:VEVENT
BEGIN:VEVENT
DTSTART;TZID=Europe/Brussels:20260921T130000
DTEND;TZID=Europe/Brussels:20260921T163000
DTSTAMP:20260424T131806
CREATED:20241217T155719Z
LAST-MODIFIED:20251219T061247Z
UID:10620503-1789995600-1790008200@zorggroep-orion.be
SUMMARY:HANDWERK @ Albert
DESCRIPTION:Wekelijks op maandag namiddag. Hou je van handwerk? Haken\, breien\, borduren …. ? \nBreng je eigen materialen mee\, al doende leren we van elkaar. \nSamen maken we’r een gezellige creatieve namiddag van. Hartelijk welkom\, De koffie staat klaar.
URL:https://zorggroep-orion.be/activiteit/hobby-albert-2/2026-09-21/
LOCATION:Dienstencentrum Albert Van Dyck\, Albert Van Dyckstraat 10\, Turnhout\, Antwerpen\, 2300\, Belgium
CATEGORIES:Workshop
ATTACH;FMTTYPE=image/png:https://zorggroep-orion.be/wp-content/uploads/2024/09/hobby.png
END:VEVENT
BEGIN:VEVENT
DTSTART;TZID=Europe/Brussels:20260928T130000
DTEND;TZID=Europe/Brussels:20260928T163000
DTSTAMP:20260424T131806
CREATED:20241217T155719Z
LAST-MODIFIED:20251219T061247Z
UID:10620504-1790600400-1790613000@zorggroep-orion.be
SUMMARY:HANDWERK @ Albert
DESCRIPTION:Wekelijks op maandag namiddag. Hou je van handwerk? Haken\, breien\, borduren …. ? \nBreng je eigen materialen mee\, al doende leren we van elkaar. \nSamen maken we’r een gezellige creatieve namiddag van. Hartelijk welkom\, De koffie staat klaar.
URL:https://zorggroep-orion.be/activiteit/hobby-albert-2/2026-09-28/
LOCATION:Dienstencentrum Albert Van Dyck\, Albert Van Dyckstraat 10\, Turnhout\, Antwerpen\, 2300\, Belgium
CATEGORIES:Workshop
ATTACH;FMTTYPE=image/png:https://zorggroep-orion.be/wp-content/uploads/2024/09/hobby.png
END:VEVENT
BEGIN:VEVENT
DTSTART;TZID=Europe/Brussels:20261005T130000
DTEND;TZID=Europe/Brussels:20261005T163000
DTSTAMP:20260424T131806
CREATED:20241217T155719Z
LAST-MODIFIED:20251219T061247Z
UID:10620505-1791205200-1791217800@zorggroep-orion.be
SUMMARY:HANDWERK @ Albert
DESCRIPTION:Wekelijks op maandag namiddag. Hou je van handwerk? Haken\, breien\, borduren …. ? \nBreng je eigen materialen mee\, al doende leren we van elkaar. \nSamen maken we’r een gezellige creatieve namiddag van. Hartelijk welkom\, De koffie staat klaar.
URL:https://zorggroep-orion.be/activiteit/hobby-albert-2/2026-10-05/
LOCATION:Dienstencentrum Albert Van Dyck\, Albert Van Dyckstraat 10\, Turnhout\, Antwerpen\, 2300\, Belgium
CATEGORIES:Workshop
ATTACH;FMTTYPE=image/png:https://zorggroep-orion.be/wp-content/uploads/2024/09/hobby.png
END:VEVENT
BEGIN:VEVENT
DTSTART;TZID=Europe/Brussels:20261012T130000
DTEND;TZID=Europe/Brussels:20261012T163000
DTSTAMP:20260424T131806
CREATED:20241217T155719Z
LAST-MODIFIED:20251219T061247Z
UID:10620506-1791810000-1791822600@zorggroep-orion.be
SUMMARY:HANDWERK @ Albert
DESCRIPTION:Wekelijks op maandag namiddag. Hou je van handwerk? Haken\, breien\, borduren …. ? \nBreng je eigen materialen mee\, al doende leren we van elkaar. \nSamen maken we’r een gezellige creatieve namiddag van. Hartelijk welkom\, De koffie staat klaar.
URL:https://zorggroep-orion.be/activiteit/hobby-albert-2/2026-10-12/
LOCATION:Dienstencentrum Albert Van Dyck\, Albert Van Dyckstraat 10\, Turnhout\, Antwerpen\, 2300\, Belgium
CATEGORIES:Workshop
ATTACH;FMTTYPE=image/png:https://zorggroep-orion.be/wp-content/uploads/2024/09/hobby.png
END:VEVENT
BEGIN:VEVENT
DTSTART;TZID=Europe/Brussels:20261019T130000
DTEND;TZID=Europe/Brussels:20261019T163000
DTSTAMP:20260424T131806
CREATED:20241217T155719Z
LAST-MODIFIED:20251219T061247Z
UID:10620507-1792414800-1792427400@zorggroep-orion.be
SUMMARY:HANDWERK @ Albert
DESCRIPTION:Wekelijks op maandag namiddag. Hou je van handwerk? Haken\, breien\, borduren …. ? \nBreng je eigen materialen mee\, al doende leren we van elkaar. \nSamen maken we’r een gezellige creatieve namiddag van. Hartelijk welkom\, De koffie staat klaar.
URL:https://zorggroep-orion.be/activiteit/hobby-albert-2/2026-10-19/
LOCATION:Dienstencentrum Albert Van Dyck\, Albert Van Dyckstraat 10\, Turnhout\, Antwerpen\, 2300\, Belgium
CATEGORIES:Workshop
ATTACH;FMTTYPE=image/png:https://zorggroep-orion.be/wp-content/uploads/2024/09/hobby.png
END:VEVENT
BEGIN:VEVENT
DTSTART;TZID=Europe/Brussels:20261026T130000
DTEND;TZID=Europe/Brussels:20261026T163000
DTSTAMP:20260424T131806
CREATED:20241217T155719Z
LAST-MODIFIED:20251219T061247Z
UID:10620508-1793019600-1793032200@zorggroep-orion.be
SUMMARY:HANDWERK @ Albert
DESCRIPTION:Wekelijks op maandag namiddag. Hou je van handwerk? Haken\, breien\, borduren …. ? \nBreng je eigen materialen mee\, al doende leren we van elkaar. \nSamen maken we’r een gezellige creatieve namiddag van. Hartelijk welkom\, De koffie staat klaar.
URL:https://zorggroep-orion.be/activiteit/hobby-albert-2/2026-10-26/
LOCATION:Dienstencentrum Albert Van Dyck\, Albert Van Dyckstraat 10\, Turnhout\, Antwerpen\, 2300\, Belgium
CATEGORIES:Workshop
ATTACH;FMTTYPE=image/png:https://zorggroep-orion.be/wp-content/uploads/2024/09/hobby.png
END:VEVENT
BEGIN:VEVENT
DTSTART;TZID=Europe/Brussels:20261102T130000
DTEND;TZID=Europe/Brussels:20261102T163000
DTSTAMP:20260424T131806
CREATED:20241217T155719Z
LAST-MODIFIED:20251219T061247Z
UID:10620509-1793624400-1793637000@zorggroep-orion.be
SUMMARY:HANDWERK @ Albert
DESCRIPTION:Wekelijks op maandag namiddag. Hou je van handwerk? Haken\, breien\, borduren …. ? \nBreng je eigen materialen mee\, al doende leren we van elkaar. \nSamen maken we’r een gezellige creatieve namiddag van. Hartelijk welkom\, De koffie staat klaar.
URL:https://zorggroep-orion.be/activiteit/hobby-albert-2/2026-11-02/
LOCATION:Dienstencentrum Albert Van Dyck\, Albert Van Dyckstraat 10\, Turnhout\, Antwerpen\, 2300\, Belgium
CATEGORIES:Workshop
ATTACH;FMTTYPE=image/png:https://zorggroep-orion.be/wp-content/uploads/2024/09/hobby.png
END:VEVENT
BEGIN:VEVENT
DTSTART;TZID=Europe/Brussels:20261109T130000
DTEND;TZID=Europe/Brussels:20261109T163000
DTSTAMP:20260424T131806
CREATED:20241217T155719Z
LAST-MODIFIED:20251219T061247Z
UID:10620510-1794229200-1794241800@zorggroep-orion.be
SUMMARY:HANDWERK @ Albert
DESCRIPTION:Wekelijks op maandag namiddag. Hou je van handwerk? Haken\, breien\, borduren …. ? \nBreng je eigen materialen mee\, al doende leren we van elkaar. \nSamen maken we’r een gezellige creatieve namiddag van. Hartelijk welkom\, De koffie staat klaar.
URL:https://zorggroep-orion.be/activiteit/hobby-albert-2/2026-11-09/
LOCATION:Dienstencentrum Albert Van Dyck\, Albert Van Dyckstraat 10\, Turnhout\, Antwerpen\, 2300\, Belgium
CATEGORIES:Workshop
ATTACH;FMTTYPE=image/png:https://zorggroep-orion.be/wp-content/uploads/2024/09/hobby.png
END:VEVENT
BEGIN:VEVENT
DTSTART;TZID=Europe/Brussels:20261116T130000
DTEND;TZID=Europe/Brussels:20261116T163000
DTSTAMP:20260424T131806
CREATED:20241217T155719Z
LAST-MODIFIED:20251219T061247Z
UID:10620511-1794834000-1794846600@zorggroep-orion.be
SUMMARY:HANDWERK @ Albert
DESCRIPTION:Wekelijks op maandag namiddag. Hou je van handwerk? Haken\, breien\, borduren …. ? \nBreng je eigen materialen mee\, al doende leren we van elkaar. \nSamen maken we’r een gezellige creatieve namiddag van. Hartelijk welkom\, De koffie staat klaar.
URL:https://zorggroep-orion.be/activiteit/hobby-albert-2/2026-11-16/
LOCATION:Dienstencentrum Albert Van Dyck\, Albert Van Dyckstraat 10\, Turnhout\, Antwerpen\, 2300\, Belgium
CATEGORIES:Workshop
ATTACH;FMTTYPE=image/png:https://zorggroep-orion.be/wp-content/uploads/2024/09/hobby.png
END:VEVENT
END:VCALENDAR