BEGIN:VCALENDAR
VERSION:2.0
PRODID:-//Zorggroep Orion - ECPv6.15.17.1//NONSGML v1.0//EN
CALSCALE:GREGORIAN
METHOD:PUBLISH
X-WR-CALNAME:Zorggroep Orion
X-ORIGINAL-URL:https://zorggroep-orion.be
X-WR-CALDESC:Evenementen voor Zorggroep Orion
REFRESH-INTERVAL;VALUE=DURATION:PT1H
X-Robots-Tag:noindex
X-PUBLISHED-TTL:PT1H
BEGIN:VTIMEZONE
TZID:Europe/Brussels
BEGIN:DAYLIGHT
TZOFFSETFROM:+0100
TZOFFSETTO:+0200
TZNAME:CEST
DTSTART:20250330T010000
END:DAYLIGHT
BEGIN:STANDARD
TZOFFSETFROM:+0200
TZOFFSETTO:+0100
TZNAME:CET
DTSTART:20251026T010000
END:STANDARD
BEGIN:DAYLIGHT
TZOFFSETFROM:+0100
TZOFFSETTO:+0200
TZNAME:CEST
DTSTART:20260329T010000
END:DAYLIGHT
BEGIN:STANDARD
TZOFFSETFROM:+0200
TZOFFSETTO:+0100
TZNAME:CET
DTSTART:20261025T010000
END:STANDARD
BEGIN:DAYLIGHT
TZOFFSETFROM:+0100
TZOFFSETTO:+0200
TZNAME:CEST
DTSTART:20270328T010000
END:DAYLIGHT
BEGIN:STANDARD
TZOFFSETFROM:+0200
TZOFFSETTO:+0100
TZNAME:CET
DTSTART:20271031T010000
END:STANDARD
END:VTIMEZONE
BEGIN:VEVENT
DTSTART;TZID=Europe/Brussels:20260427T140000
DTEND;TZID=Europe/Brussels:20260427T150000
DTSTAMP:20260424T145127
CREATED:20260112T135730Z
LAST-MODIFIED:20260112T140205Z
UID:10622804-1777298400-1777302000@zorggroep-orion.be
SUMMARY:Linedance voor gevorderden
DESCRIPTION:Hou je van linedance en ken je de basis al?Dan is Linedance voor gevorderden helemaal iets voor jou! We werken aan vlottere passen en leuke choreografieën in een gezellige sfeer. Na de les is er tijd om samen na te praten met een kop koffie. \nElke maandag om 14u  €2 per les (koffie inbegrepen)
URL:https://zorggroep-orion.be/activiteit/linedance-voor-gevorderden/2026-04-27/
LOCATION:Dienstencentrum De Schoor\, Schorvoortstraat 53\, Turnhout\, 2300
CATEGORIES:Bewegen
ATTACH;FMTTYPE=image/png:https://zorggroep-orion.be/wp-content/uploads/2026/01/linedance.png
END:VEVENT
BEGIN:VEVENT
DTSTART;TZID=Europe/Brussels:20260504T140000
DTEND;TZID=Europe/Brussels:20260504T150000
DTSTAMP:20260424T145127
CREATED:20260112T135730Z
LAST-MODIFIED:20260112T140205Z
UID:10622805-1777903200-1777906800@zorggroep-orion.be
SUMMARY:Linedance voor gevorderden
DESCRIPTION:Hou je van linedance en ken je de basis al?Dan is Linedance voor gevorderden helemaal iets voor jou! We werken aan vlottere passen en leuke choreografieën in een gezellige sfeer. Na de les is er tijd om samen na te praten met een kop koffie. \nElke maandag om 14u  €2 per les (koffie inbegrepen)
URL:https://zorggroep-orion.be/activiteit/linedance-voor-gevorderden/2026-05-04/
LOCATION:Dienstencentrum De Schoor\, Schorvoortstraat 53\, Turnhout\, 2300
CATEGORIES:Bewegen
ATTACH;FMTTYPE=image/png:https://zorggroep-orion.be/wp-content/uploads/2026/01/linedance.png
END:VEVENT
BEGIN:VEVENT
DTSTART;TZID=Europe/Brussels:20260508T133000
DTEND;TZID=Europe/Brussels:20260508T143000
DTSTAMP:20260424T145127
CREATED:20260112T140535Z
LAST-MODIFIED:20260403T132336Z
UID:10622911-1778247000-1778250600@zorggroep-orion.be
SUMMARY:Linedance voor gevorderden
DESCRIPTION:Hou je van linedance en ken je de basis al?Dan is Linedance voor gevorderden helemaal iets voor jou! We werken aan vlottere passen en leuke choreografieën in een gezellige sfeer. Na de les is er tijd om samen na te praten met een kop koffie. \nElke vrijdag om 13u30  €2 per les (koffie inbegrepen)
URL:https://zorggroep-orion.be/activiteit/linedance-voor-gevorderden-2/2026-05-08/
LOCATION:Dienstencentrum De Schoor\, Schorvoortstraat 53\, Turnhout\, 2300
CATEGORIES:Bewegen
ATTACH;FMTTYPE=image/png:https://zorggroep-orion.be/wp-content/uploads/2026/01/linedance.png
END:VEVENT
BEGIN:VEVENT
DTSTART;TZID=Europe/Brussels:20260511T140000
DTEND;TZID=Europe/Brussels:20260511T150000
DTSTAMP:20260424T145127
CREATED:20260112T135730Z
LAST-MODIFIED:20260112T140205Z
UID:10622806-1778508000-1778511600@zorggroep-orion.be
SUMMARY:Linedance voor gevorderden
DESCRIPTION:Hou je van linedance en ken je de basis al?Dan is Linedance voor gevorderden helemaal iets voor jou! We werken aan vlottere passen en leuke choreografieën in een gezellige sfeer. Na de les is er tijd om samen na te praten met een kop koffie. \nElke maandag om 14u  €2 per les (koffie inbegrepen)
URL:https://zorggroep-orion.be/activiteit/linedance-voor-gevorderden/2026-05-11/
LOCATION:Dienstencentrum De Schoor\, Schorvoortstraat 53\, Turnhout\, 2300
CATEGORIES:Bewegen
ATTACH;FMTTYPE=image/png:https://zorggroep-orion.be/wp-content/uploads/2026/01/linedance.png
END:VEVENT
BEGIN:VEVENT
DTSTART;TZID=Europe/Brussels:20260515T133000
DTEND;TZID=Europe/Brussels:20260515T143000
DTSTAMP:20260424T145127
CREATED:20260112T140535Z
LAST-MODIFIED:20260403T132336Z
UID:10622912-1778851800-1778855400@zorggroep-orion.be
SUMMARY:Linedance voor gevorderden
DESCRIPTION:Hou je van linedance en ken je de basis al?Dan is Linedance voor gevorderden helemaal iets voor jou! We werken aan vlottere passen en leuke choreografieën in een gezellige sfeer. Na de les is er tijd om samen na te praten met een kop koffie. \nElke vrijdag om 13u30  €2 per les (koffie inbegrepen)
URL:https://zorggroep-orion.be/activiteit/linedance-voor-gevorderden-2/2026-05-15/
LOCATION:Dienstencentrum De Schoor\, Schorvoortstraat 53\, Turnhout\, 2300
CATEGORIES:Bewegen
ATTACH;FMTTYPE=image/png:https://zorggroep-orion.be/wp-content/uploads/2026/01/linedance.png
END:VEVENT
BEGIN:VEVENT
DTSTART;TZID=Europe/Brussels:20260518T140000
DTEND;TZID=Europe/Brussels:20260518T150000
DTSTAMP:20260424T145127
CREATED:20260112T135730Z
LAST-MODIFIED:20260112T140205Z
UID:10622807-1779112800-1779116400@zorggroep-orion.be
SUMMARY:Linedance voor gevorderden
DESCRIPTION:Hou je van linedance en ken je de basis al?Dan is Linedance voor gevorderden helemaal iets voor jou! We werken aan vlottere passen en leuke choreografieën in een gezellige sfeer. Na de les is er tijd om samen na te praten met een kop koffie. \nElke maandag om 14u  €2 per les (koffie inbegrepen)
URL:https://zorggroep-orion.be/activiteit/linedance-voor-gevorderden/2026-05-18/
LOCATION:Dienstencentrum De Schoor\, Schorvoortstraat 53\, Turnhout\, 2300
CATEGORIES:Bewegen
ATTACH;FMTTYPE=image/png:https://zorggroep-orion.be/wp-content/uploads/2026/01/linedance.png
END:VEVENT
BEGIN:VEVENT
DTSTART;TZID=Europe/Brussels:20260522T133000
DTEND;TZID=Europe/Brussels:20260522T143000
DTSTAMP:20260424T145127
CREATED:20260112T140535Z
LAST-MODIFIED:20260403T132336Z
UID:10622913-1779456600-1779460200@zorggroep-orion.be
SUMMARY:Linedance voor gevorderden
DESCRIPTION:Hou je van linedance en ken je de basis al?Dan is Linedance voor gevorderden helemaal iets voor jou! We werken aan vlottere passen en leuke choreografieën in een gezellige sfeer. Na de les is er tijd om samen na te praten met een kop koffie. \nElke vrijdag om 13u30  €2 per les (koffie inbegrepen)
URL:https://zorggroep-orion.be/activiteit/linedance-voor-gevorderden-2/2026-05-22/
LOCATION:Dienstencentrum De Schoor\, Schorvoortstraat 53\, Turnhout\, 2300
CATEGORIES:Bewegen
ATTACH;FMTTYPE=image/png:https://zorggroep-orion.be/wp-content/uploads/2026/01/linedance.png
END:VEVENT
BEGIN:VEVENT
DTSTART;TZID=Europe/Brussels:20260525T140000
DTEND;TZID=Europe/Brussels:20260525T150000
DTSTAMP:20260424T145127
CREATED:20260112T135730Z
LAST-MODIFIED:20260112T140205Z
UID:10622808-1779717600-1779721200@zorggroep-orion.be
SUMMARY:Linedance voor gevorderden
DESCRIPTION:Hou je van linedance en ken je de basis al?Dan is Linedance voor gevorderden helemaal iets voor jou! We werken aan vlottere passen en leuke choreografieën in een gezellige sfeer. Na de les is er tijd om samen na te praten met een kop koffie. \nElke maandag om 14u  €2 per les (koffie inbegrepen)
URL:https://zorggroep-orion.be/activiteit/linedance-voor-gevorderden/2026-05-25/
LOCATION:Dienstencentrum De Schoor\, Schorvoortstraat 53\, Turnhout\, 2300
CATEGORIES:Bewegen
ATTACH;FMTTYPE=image/png:https://zorggroep-orion.be/wp-content/uploads/2026/01/linedance.png
END:VEVENT
BEGIN:VEVENT
DTSTART;TZID=Europe/Brussels:20260529T133000
DTEND;TZID=Europe/Brussels:20260529T143000
DTSTAMP:20260424T145127
CREATED:20260112T140535Z
LAST-MODIFIED:20260403T132336Z
UID:10622914-1780061400-1780065000@zorggroep-orion.be
SUMMARY:Linedance voor gevorderden
DESCRIPTION:Hou je van linedance en ken je de basis al?Dan is Linedance voor gevorderden helemaal iets voor jou! We werken aan vlottere passen en leuke choreografieën in een gezellige sfeer. Na de les is er tijd om samen na te praten met een kop koffie. \nElke vrijdag om 13u30  €2 per les (koffie inbegrepen)
URL:https://zorggroep-orion.be/activiteit/linedance-voor-gevorderden-2/2026-05-29/
LOCATION:Dienstencentrum De Schoor\, Schorvoortstraat 53\, Turnhout\, 2300
CATEGORIES:Bewegen
ATTACH;FMTTYPE=image/png:https://zorggroep-orion.be/wp-content/uploads/2026/01/linedance.png
END:VEVENT
BEGIN:VEVENT
DTSTART;TZID=Europe/Brussels:20260601T140000
DTEND;TZID=Europe/Brussels:20260601T150000
DTSTAMP:20260424T145127
CREATED:20260112T135730Z
LAST-MODIFIED:20260112T140205Z
UID:10622809-1780322400-1780326000@zorggroep-orion.be
SUMMARY:Linedance voor gevorderden
DESCRIPTION:Hou je van linedance en ken je de basis al?Dan is Linedance voor gevorderden helemaal iets voor jou! We werken aan vlottere passen en leuke choreografieën in een gezellige sfeer. Na de les is er tijd om samen na te praten met een kop koffie. \nElke maandag om 14u  €2 per les (koffie inbegrepen)
URL:https://zorggroep-orion.be/activiteit/linedance-voor-gevorderden/2026-06-01/
LOCATION:Dienstencentrum De Schoor\, Schorvoortstraat 53\, Turnhout\, 2300
CATEGORIES:Bewegen
ATTACH;FMTTYPE=image/png:https://zorggroep-orion.be/wp-content/uploads/2026/01/linedance.png
END:VEVENT
BEGIN:VEVENT
DTSTART;TZID=Europe/Brussels:20260605T133000
DTEND;TZID=Europe/Brussels:20260605T143000
DTSTAMP:20260424T145127
CREATED:20260112T140535Z
LAST-MODIFIED:20260403T132336Z
UID:10622915-1780666200-1780669800@zorggroep-orion.be
SUMMARY:Linedance voor gevorderden
DESCRIPTION:Hou je van linedance en ken je de basis al?Dan is Linedance voor gevorderden helemaal iets voor jou! We werken aan vlottere passen en leuke choreografieën in een gezellige sfeer. Na de les is er tijd om samen na te praten met een kop koffie. \nElke vrijdag om 13u30  €2 per les (koffie inbegrepen)
URL:https://zorggroep-orion.be/activiteit/linedance-voor-gevorderden-2/2026-06-05/
LOCATION:Dienstencentrum De Schoor\, Schorvoortstraat 53\, Turnhout\, 2300
CATEGORIES:Bewegen
ATTACH;FMTTYPE=image/png:https://zorggroep-orion.be/wp-content/uploads/2026/01/linedance.png
END:VEVENT
BEGIN:VEVENT
DTSTART;TZID=Europe/Brussels:20260608T140000
DTEND;TZID=Europe/Brussels:20260608T150000
DTSTAMP:20260424T145127
CREATED:20260112T135730Z
LAST-MODIFIED:20260112T140205Z
UID:10622810-1780927200-1780930800@zorggroep-orion.be
SUMMARY:Linedance voor gevorderden
DESCRIPTION:Hou je van linedance en ken je de basis al?Dan is Linedance voor gevorderden helemaal iets voor jou! We werken aan vlottere passen en leuke choreografieën in een gezellige sfeer. Na de les is er tijd om samen na te praten met een kop koffie. \nElke maandag om 14u  €2 per les (koffie inbegrepen)
URL:https://zorggroep-orion.be/activiteit/linedance-voor-gevorderden/2026-06-08/
LOCATION:Dienstencentrum De Schoor\, Schorvoortstraat 53\, Turnhout\, 2300
CATEGORIES:Bewegen
ATTACH;FMTTYPE=image/png:https://zorggroep-orion.be/wp-content/uploads/2026/01/linedance.png
END:VEVENT
BEGIN:VEVENT
DTSTART;TZID=Europe/Brussels:20260612T133000
DTEND;TZID=Europe/Brussels:20260612T143000
DTSTAMP:20260424T145127
CREATED:20260112T140535Z
LAST-MODIFIED:20260403T132336Z
UID:10622916-1781271000-1781274600@zorggroep-orion.be
SUMMARY:Linedance voor gevorderden
DESCRIPTION:Hou je van linedance en ken je de basis al?Dan is Linedance voor gevorderden helemaal iets voor jou! We werken aan vlottere passen en leuke choreografieën in een gezellige sfeer. Na de les is er tijd om samen na te praten met een kop koffie. \nElke vrijdag om 13u30  €2 per les (koffie inbegrepen)
URL:https://zorggroep-orion.be/activiteit/linedance-voor-gevorderden-2/2026-06-12/
LOCATION:Dienstencentrum De Schoor\, Schorvoortstraat 53\, Turnhout\, 2300
CATEGORIES:Bewegen
ATTACH;FMTTYPE=image/png:https://zorggroep-orion.be/wp-content/uploads/2026/01/linedance.png
END:VEVENT
BEGIN:VEVENT
DTSTART;TZID=Europe/Brussels:20260615T140000
DTEND;TZID=Europe/Brussels:20260615T150000
DTSTAMP:20260424T145127
CREATED:20260112T135730Z
LAST-MODIFIED:20260112T140205Z
UID:10622811-1781532000-1781535600@zorggroep-orion.be
SUMMARY:Linedance voor gevorderden
DESCRIPTION:Hou je van linedance en ken je de basis al?Dan is Linedance voor gevorderden helemaal iets voor jou! We werken aan vlottere passen en leuke choreografieën in een gezellige sfeer. Na de les is er tijd om samen na te praten met een kop koffie. \nElke maandag om 14u  €2 per les (koffie inbegrepen)
URL:https://zorggroep-orion.be/activiteit/linedance-voor-gevorderden/2026-06-15/
LOCATION:Dienstencentrum De Schoor\, Schorvoortstraat 53\, Turnhout\, 2300
CATEGORIES:Bewegen
ATTACH;FMTTYPE=image/png:https://zorggroep-orion.be/wp-content/uploads/2026/01/linedance.png
END:VEVENT
BEGIN:VEVENT
DTSTART;TZID=Europe/Brussels:20260619T133000
DTEND;TZID=Europe/Brussels:20260619T143000
DTSTAMP:20260424T145127
CREATED:20260112T140535Z
LAST-MODIFIED:20260403T132336Z
UID:10622917-1781875800-1781879400@zorggroep-orion.be
SUMMARY:Linedance voor gevorderden
DESCRIPTION:Hou je van linedance en ken je de basis al?Dan is Linedance voor gevorderden helemaal iets voor jou! We werken aan vlottere passen en leuke choreografieën in een gezellige sfeer. Na de les is er tijd om samen na te praten met een kop koffie. \nElke vrijdag om 13u30  €2 per les (koffie inbegrepen)
URL:https://zorggroep-orion.be/activiteit/linedance-voor-gevorderden-2/2026-06-19/
LOCATION:Dienstencentrum De Schoor\, Schorvoortstraat 53\, Turnhout\, 2300
CATEGORIES:Bewegen
ATTACH;FMTTYPE=image/png:https://zorggroep-orion.be/wp-content/uploads/2026/01/linedance.png
END:VEVENT
BEGIN:VEVENT
DTSTART;TZID=Europe/Brussels:20260622T140000
DTEND;TZID=Europe/Brussels:20260622T150000
DTSTAMP:20260424T145127
CREATED:20260112T135730Z
LAST-MODIFIED:20260112T140205Z
UID:10622812-1782136800-1782140400@zorggroep-orion.be
SUMMARY:Linedance voor gevorderden
DESCRIPTION:Hou je van linedance en ken je de basis al?Dan is Linedance voor gevorderden helemaal iets voor jou! We werken aan vlottere passen en leuke choreografieën in een gezellige sfeer. Na de les is er tijd om samen na te praten met een kop koffie. \nElke maandag om 14u  €2 per les (koffie inbegrepen)
URL:https://zorggroep-orion.be/activiteit/linedance-voor-gevorderden/2026-06-22/
LOCATION:Dienstencentrum De Schoor\, Schorvoortstraat 53\, Turnhout\, 2300
CATEGORIES:Bewegen
ATTACH;FMTTYPE=image/png:https://zorggroep-orion.be/wp-content/uploads/2026/01/linedance.png
END:VEVENT
BEGIN:VEVENT
DTSTART;TZID=Europe/Brussels:20260626T133000
DTEND;TZID=Europe/Brussels:20260626T143000
DTSTAMP:20260424T145127
CREATED:20260112T140535Z
LAST-MODIFIED:20260403T132336Z
UID:10622918-1782480600-1782484200@zorggroep-orion.be
SUMMARY:Linedance voor gevorderden
DESCRIPTION:Hou je van linedance en ken je de basis al?Dan is Linedance voor gevorderden helemaal iets voor jou! We werken aan vlottere passen en leuke choreografieën in een gezellige sfeer. Na de les is er tijd om samen na te praten met een kop koffie. \nElke vrijdag om 13u30  €2 per les (koffie inbegrepen)
URL:https://zorggroep-orion.be/activiteit/linedance-voor-gevorderden-2/2026-06-26/
LOCATION:Dienstencentrum De Schoor\, Schorvoortstraat 53\, Turnhout\, 2300
CATEGORIES:Bewegen
ATTACH;FMTTYPE=image/png:https://zorggroep-orion.be/wp-content/uploads/2026/01/linedance.png
END:VEVENT
BEGIN:VEVENT
DTSTART;TZID=Europe/Brussels:20260629T140000
DTEND;TZID=Europe/Brussels:20260629T150000
DTSTAMP:20260424T145127
CREATED:20260112T135730Z
LAST-MODIFIED:20260112T140205Z
UID:10622813-1782741600-1782745200@zorggroep-orion.be
SUMMARY:Linedance voor gevorderden
DESCRIPTION:Hou je van linedance en ken je de basis al?Dan is Linedance voor gevorderden helemaal iets voor jou! We werken aan vlottere passen en leuke choreografieën in een gezellige sfeer. Na de les is er tijd om samen na te praten met een kop koffie. \nElke maandag om 14u  €2 per les (koffie inbegrepen)
URL:https://zorggroep-orion.be/activiteit/linedance-voor-gevorderden/2026-06-29/
LOCATION:Dienstencentrum De Schoor\, Schorvoortstraat 53\, Turnhout\, 2300
CATEGORIES:Bewegen
ATTACH;FMTTYPE=image/png:https://zorggroep-orion.be/wp-content/uploads/2026/01/linedance.png
END:VEVENT
BEGIN:VEVENT
DTSTART;TZID=Europe/Brussels:20260703T133000
DTEND;TZID=Europe/Brussels:20260703T143000
DTSTAMP:20260424T145127
CREATED:20260112T140535Z
LAST-MODIFIED:20260403T132336Z
UID:10622919-1783085400-1783089000@zorggroep-orion.be
SUMMARY:Linedance voor gevorderden
DESCRIPTION:Hou je van linedance en ken je de basis al?Dan is Linedance voor gevorderden helemaal iets voor jou! We werken aan vlottere passen en leuke choreografieën in een gezellige sfeer. Na de les is er tijd om samen na te praten met een kop koffie. \nElke vrijdag om 13u30  €2 per les (koffie inbegrepen)
URL:https://zorggroep-orion.be/activiteit/linedance-voor-gevorderden-2/2026-07-03/
LOCATION:Dienstencentrum De Schoor\, Schorvoortstraat 53\, Turnhout\, 2300
CATEGORIES:Bewegen
ATTACH;FMTTYPE=image/png:https://zorggroep-orion.be/wp-content/uploads/2026/01/linedance.png
END:VEVENT
BEGIN:VEVENT
DTSTART;TZID=Europe/Brussels:20260706T140000
DTEND;TZID=Europe/Brussels:20260706T150000
DTSTAMP:20260424T145127
CREATED:20260112T135730Z
LAST-MODIFIED:20260112T140205Z
UID:10622814-1783346400-1783350000@zorggroep-orion.be
SUMMARY:Linedance voor gevorderden
DESCRIPTION:Hou je van linedance en ken je de basis al?Dan is Linedance voor gevorderden helemaal iets voor jou! We werken aan vlottere passen en leuke choreografieën in een gezellige sfeer. Na de les is er tijd om samen na te praten met een kop koffie. \nElke maandag om 14u  €2 per les (koffie inbegrepen)
URL:https://zorggroep-orion.be/activiteit/linedance-voor-gevorderden/2026-07-06/
LOCATION:Dienstencentrum De Schoor\, Schorvoortstraat 53\, Turnhout\, 2300
CATEGORIES:Bewegen
ATTACH;FMTTYPE=image/png:https://zorggroep-orion.be/wp-content/uploads/2026/01/linedance.png
END:VEVENT
BEGIN:VEVENT
DTSTART;TZID=Europe/Brussels:20260710T133000
DTEND;TZID=Europe/Brussels:20260710T143000
DTSTAMP:20260424T145127
CREATED:20260112T140535Z
LAST-MODIFIED:20260403T132336Z
UID:10622920-1783690200-1783693800@zorggroep-orion.be
SUMMARY:Linedance voor gevorderden
DESCRIPTION:Hou je van linedance en ken je de basis al?Dan is Linedance voor gevorderden helemaal iets voor jou! We werken aan vlottere passen en leuke choreografieën in een gezellige sfeer. Na de les is er tijd om samen na te praten met een kop koffie. \nElke vrijdag om 13u30  €2 per les (koffie inbegrepen)
URL:https://zorggroep-orion.be/activiteit/linedance-voor-gevorderden-2/2026-07-10/
LOCATION:Dienstencentrum De Schoor\, Schorvoortstraat 53\, Turnhout\, 2300
CATEGORIES:Bewegen
ATTACH;FMTTYPE=image/png:https://zorggroep-orion.be/wp-content/uploads/2026/01/linedance.png
END:VEVENT
BEGIN:VEVENT
DTSTART;TZID=Europe/Brussels:20260713T140000
DTEND;TZID=Europe/Brussels:20260713T150000
DTSTAMP:20260424T145127
CREATED:20260112T135730Z
LAST-MODIFIED:20260112T140205Z
UID:10622815-1783951200-1783954800@zorggroep-orion.be
SUMMARY:Linedance voor gevorderden
DESCRIPTION:Hou je van linedance en ken je de basis al?Dan is Linedance voor gevorderden helemaal iets voor jou! We werken aan vlottere passen en leuke choreografieën in een gezellige sfeer. Na de les is er tijd om samen na te praten met een kop koffie. \nElke maandag om 14u  €2 per les (koffie inbegrepen)
URL:https://zorggroep-orion.be/activiteit/linedance-voor-gevorderden/2026-07-13/
LOCATION:Dienstencentrum De Schoor\, Schorvoortstraat 53\, Turnhout\, 2300
CATEGORIES:Bewegen
ATTACH;FMTTYPE=image/png:https://zorggroep-orion.be/wp-content/uploads/2026/01/linedance.png
END:VEVENT
BEGIN:VEVENT
DTSTART;TZID=Europe/Brussels:20260717T133000
DTEND;TZID=Europe/Brussels:20260717T143000
DTSTAMP:20260424T145127
CREATED:20260112T140535Z
LAST-MODIFIED:20260403T132336Z
UID:10622921-1784295000-1784298600@zorggroep-orion.be
SUMMARY:Linedance voor gevorderden
DESCRIPTION:Hou je van linedance en ken je de basis al?Dan is Linedance voor gevorderden helemaal iets voor jou! We werken aan vlottere passen en leuke choreografieën in een gezellige sfeer. Na de les is er tijd om samen na te praten met een kop koffie. \nElke vrijdag om 13u30  €2 per les (koffie inbegrepen)
URL:https://zorggroep-orion.be/activiteit/linedance-voor-gevorderden-2/2026-07-17/
LOCATION:Dienstencentrum De Schoor\, Schorvoortstraat 53\, Turnhout\, 2300
CATEGORIES:Bewegen
ATTACH;FMTTYPE=image/png:https://zorggroep-orion.be/wp-content/uploads/2026/01/linedance.png
END:VEVENT
BEGIN:VEVENT
DTSTART;TZID=Europe/Brussels:20260720T140000
DTEND;TZID=Europe/Brussels:20260720T150000
DTSTAMP:20260424T145127
CREATED:20260112T135730Z
LAST-MODIFIED:20260112T140205Z
UID:10622816-1784556000-1784559600@zorggroep-orion.be
SUMMARY:Linedance voor gevorderden
DESCRIPTION:Hou je van linedance en ken je de basis al?Dan is Linedance voor gevorderden helemaal iets voor jou! We werken aan vlottere passen en leuke choreografieën in een gezellige sfeer. Na de les is er tijd om samen na te praten met een kop koffie. \nElke maandag om 14u  €2 per les (koffie inbegrepen)
URL:https://zorggroep-orion.be/activiteit/linedance-voor-gevorderden/2026-07-20/
LOCATION:Dienstencentrum De Schoor\, Schorvoortstraat 53\, Turnhout\, 2300
CATEGORIES:Bewegen
ATTACH;FMTTYPE=image/png:https://zorggroep-orion.be/wp-content/uploads/2026/01/linedance.png
END:VEVENT
BEGIN:VEVENT
DTSTART;TZID=Europe/Brussels:20260724T133000
DTEND;TZID=Europe/Brussels:20260724T143000
DTSTAMP:20260424T145127
CREATED:20260112T140535Z
LAST-MODIFIED:20260403T132336Z
UID:10622922-1784899800-1784903400@zorggroep-orion.be
SUMMARY:Linedance voor gevorderden
DESCRIPTION:Hou je van linedance en ken je de basis al?Dan is Linedance voor gevorderden helemaal iets voor jou! We werken aan vlottere passen en leuke choreografieën in een gezellige sfeer. Na de les is er tijd om samen na te praten met een kop koffie. \nElke vrijdag om 13u30  €2 per les (koffie inbegrepen)
URL:https://zorggroep-orion.be/activiteit/linedance-voor-gevorderden-2/2026-07-24/
LOCATION:Dienstencentrum De Schoor\, Schorvoortstraat 53\, Turnhout\, 2300
CATEGORIES:Bewegen
ATTACH;FMTTYPE=image/png:https://zorggroep-orion.be/wp-content/uploads/2026/01/linedance.png
END:VEVENT
BEGIN:VEVENT
DTSTART;TZID=Europe/Brussels:20260727T140000
DTEND;TZID=Europe/Brussels:20260727T150000
DTSTAMP:20260424T145127
CREATED:20260112T135730Z
LAST-MODIFIED:20260112T140205Z
UID:10622817-1785160800-1785164400@zorggroep-orion.be
SUMMARY:Linedance voor gevorderden
DESCRIPTION:Hou je van linedance en ken je de basis al?Dan is Linedance voor gevorderden helemaal iets voor jou! We werken aan vlottere passen en leuke choreografieën in een gezellige sfeer. Na de les is er tijd om samen na te praten met een kop koffie. \nElke maandag om 14u  €2 per les (koffie inbegrepen)
URL:https://zorggroep-orion.be/activiteit/linedance-voor-gevorderden/2026-07-27/
LOCATION:Dienstencentrum De Schoor\, Schorvoortstraat 53\, Turnhout\, 2300
CATEGORIES:Bewegen
ATTACH;FMTTYPE=image/png:https://zorggroep-orion.be/wp-content/uploads/2026/01/linedance.png
END:VEVENT
BEGIN:VEVENT
DTSTART;TZID=Europe/Brussels:20260731T133000
DTEND;TZID=Europe/Brussels:20260731T143000
DTSTAMP:20260424T145128
CREATED:20260112T140535Z
LAST-MODIFIED:20260403T132336Z
UID:10622923-1785504600-1785508200@zorggroep-orion.be
SUMMARY:Linedance voor gevorderden
DESCRIPTION:Hou je van linedance en ken je de basis al?Dan is Linedance voor gevorderden helemaal iets voor jou! We werken aan vlottere passen en leuke choreografieën in een gezellige sfeer. Na de les is er tijd om samen na te praten met een kop koffie. \nElke vrijdag om 13u30  €2 per les (koffie inbegrepen)
URL:https://zorggroep-orion.be/activiteit/linedance-voor-gevorderden-2/2026-07-31/
LOCATION:Dienstencentrum De Schoor\, Schorvoortstraat 53\, Turnhout\, 2300
CATEGORIES:Bewegen
ATTACH;FMTTYPE=image/png:https://zorggroep-orion.be/wp-content/uploads/2026/01/linedance.png
END:VEVENT
BEGIN:VEVENT
DTSTART;TZID=Europe/Brussels:20260803T140000
DTEND;TZID=Europe/Brussels:20260803T150000
DTSTAMP:20260424T145128
CREATED:20260112T135730Z
LAST-MODIFIED:20260112T140205Z
UID:10622818-1785765600-1785769200@zorggroep-orion.be
SUMMARY:Linedance voor gevorderden
DESCRIPTION:Hou je van linedance en ken je de basis al?Dan is Linedance voor gevorderden helemaal iets voor jou! We werken aan vlottere passen en leuke choreografieën in een gezellige sfeer. Na de les is er tijd om samen na te praten met een kop koffie. \nElke maandag om 14u  €2 per les (koffie inbegrepen)
URL:https://zorggroep-orion.be/activiteit/linedance-voor-gevorderden/2026-08-03/
LOCATION:Dienstencentrum De Schoor\, Schorvoortstraat 53\, Turnhout\, 2300
CATEGORIES:Bewegen
ATTACH;FMTTYPE=image/png:https://zorggroep-orion.be/wp-content/uploads/2026/01/linedance.png
END:VEVENT
BEGIN:VEVENT
DTSTART;TZID=Europe/Brussels:20260807T133000
DTEND;TZID=Europe/Brussels:20260807T143000
DTSTAMP:20260424T145128
CREATED:20260112T140535Z
LAST-MODIFIED:20260403T132336Z
UID:10622924-1786109400-1786113000@zorggroep-orion.be
SUMMARY:Linedance voor gevorderden
DESCRIPTION:Hou je van linedance en ken je de basis al?Dan is Linedance voor gevorderden helemaal iets voor jou! We werken aan vlottere passen en leuke choreografieën in een gezellige sfeer. Na de les is er tijd om samen na te praten met een kop koffie. \nElke vrijdag om 13u30  €2 per les (koffie inbegrepen)
URL:https://zorggroep-orion.be/activiteit/linedance-voor-gevorderden-2/2026-08-07/
LOCATION:Dienstencentrum De Schoor\, Schorvoortstraat 53\, Turnhout\, 2300
CATEGORIES:Bewegen
ATTACH;FMTTYPE=image/png:https://zorggroep-orion.be/wp-content/uploads/2026/01/linedance.png
END:VEVENT
BEGIN:VEVENT
DTSTART;TZID=Europe/Brussels:20260810T140000
DTEND;TZID=Europe/Brussels:20260810T150000
DTSTAMP:20260424T145128
CREATED:20260112T135730Z
LAST-MODIFIED:20260112T140205Z
UID:10622819-1786370400-1786374000@zorggroep-orion.be
SUMMARY:Linedance voor gevorderden
DESCRIPTION:Hou je van linedance en ken je de basis al?Dan is Linedance voor gevorderden helemaal iets voor jou! We werken aan vlottere passen en leuke choreografieën in een gezellige sfeer. Na de les is er tijd om samen na te praten met een kop koffie. \nElke maandag om 14u  €2 per les (koffie inbegrepen)
URL:https://zorggroep-orion.be/activiteit/linedance-voor-gevorderden/2026-08-10/
LOCATION:Dienstencentrum De Schoor\, Schorvoortstraat 53\, Turnhout\, 2300
CATEGORIES:Bewegen
ATTACH;FMTTYPE=image/png:https://zorggroep-orion.be/wp-content/uploads/2026/01/linedance.png
END:VEVENT
END:VCALENDAR