BEGIN:VCALENDAR
VERSION:2.0
PRODID:-//Zorggroep Orion - ECPv6.15.17.1//NONSGML v1.0//EN
CALSCALE:GREGORIAN
METHOD:PUBLISH
X-WR-CALNAME:Zorggroep Orion
X-ORIGINAL-URL:https://zorggroep-orion.be
X-WR-CALDESC:Evenementen voor Zorggroep Orion
REFRESH-INTERVAL;VALUE=DURATION:PT1H
X-Robots-Tag:noindex
X-PUBLISHED-TTL:PT1H
BEGIN:VTIMEZONE
TZID:Europe/Brussels
BEGIN:DAYLIGHT
TZOFFSETFROM:+0100
TZOFFSETTO:+0200
TZNAME:CEST
DTSTART:20250330T010000
END:DAYLIGHT
BEGIN:STANDARD
TZOFFSETFROM:+0200
TZOFFSETTO:+0100
TZNAME:CET
DTSTART:20251026T010000
END:STANDARD
BEGIN:DAYLIGHT
TZOFFSETFROM:+0100
TZOFFSETTO:+0200
TZNAME:CEST
DTSTART:20260329T010000
END:DAYLIGHT
BEGIN:STANDARD
TZOFFSETFROM:+0200
TZOFFSETTO:+0100
TZNAME:CET
DTSTART:20261025T010000
END:STANDARD
BEGIN:DAYLIGHT
TZOFFSETFROM:+0100
TZOFFSETTO:+0200
TZNAME:CEST
DTSTART:20270328T010000
END:DAYLIGHT
BEGIN:STANDARD
TZOFFSETFROM:+0200
TZOFFSETTO:+0100
TZNAME:CET
DTSTART:20271031T010000
END:STANDARD
END:VTIMEZONE
BEGIN:VEVENT
DTSTART;TZID=Europe/Brussels:20260428T133000
DTEND;TZID=Europe/Brussels:20260428T163000
DTSTAMP:20260424T200110
CREATED:20260112T144309Z
LAST-MODIFIED:20260112T150443Z
UID:10623070-1777383000-1777393800@zorggroep-orion.be
SUMMARY:De Schoorse schilders
DESCRIPTION:Zin om creatief bezig te zijn in goed gezelschap? Bij De Schoorse Schilders kan je vrij schilderen en tekenen\, of je nu beginner bent of al ervaring hebt. Samen creëren we in een ontspannen sfeer en wisselen we ideeën uit. Natuurlijk sluiten we af met een gezellige koffiepauze.Elke dinsdag om 13u30 \n€2 (koffie inbegrepen)Iedereen is welkom om zijn creativiteit te laten spreken!
URL:https://zorggroep-orion.be/activiteit/de-schoorse-schilders/2026-04-28/
LOCATION:Dienstencentrum De Schoor\, Schorvoortstraat 53\, Turnhout\, 2300
CATEGORIES:Recreatie
ATTACH;FMTTYPE=image/jpeg:https://zorggroep-orion.be/wp-content/uploads/2023/06/act202309-Schilderen.jpg
END:VEVENT
BEGIN:VEVENT
DTSTART;TZID=Europe/Brussels:20260505T133000
DTEND;TZID=Europe/Brussels:20260505T163000
DTSTAMP:20260424T200110
CREATED:20260112T144309Z
LAST-MODIFIED:20260112T150443Z
UID:10623071-1777987800-1777998600@zorggroep-orion.be
SUMMARY:De Schoorse schilders
DESCRIPTION:Zin om creatief bezig te zijn in goed gezelschap? Bij De Schoorse Schilders kan je vrij schilderen en tekenen\, of je nu beginner bent of al ervaring hebt. Samen creëren we in een ontspannen sfeer en wisselen we ideeën uit. Natuurlijk sluiten we af met een gezellige koffiepauze.Elke dinsdag om 13u30 \n€2 (koffie inbegrepen)Iedereen is welkom om zijn creativiteit te laten spreken!
URL:https://zorggroep-orion.be/activiteit/de-schoorse-schilders/2026-05-05/
LOCATION:Dienstencentrum De Schoor\, Schorvoortstraat 53\, Turnhout\, 2300
CATEGORIES:Recreatie
ATTACH;FMTTYPE=image/jpeg:https://zorggroep-orion.be/wp-content/uploads/2023/06/act202309-Schilderen.jpg
END:VEVENT
BEGIN:VEVENT
DTSTART;TZID=Europe/Brussels:20260512T133000
DTEND;TZID=Europe/Brussels:20260512T163000
DTSTAMP:20260424T200110
CREATED:20260112T144309Z
LAST-MODIFIED:20260112T150443Z
UID:10623072-1778592600-1778603400@zorggroep-orion.be
SUMMARY:De Schoorse schilders
DESCRIPTION:Zin om creatief bezig te zijn in goed gezelschap? Bij De Schoorse Schilders kan je vrij schilderen en tekenen\, of je nu beginner bent of al ervaring hebt. Samen creëren we in een ontspannen sfeer en wisselen we ideeën uit. Natuurlijk sluiten we af met een gezellige koffiepauze.Elke dinsdag om 13u30 \n€2 (koffie inbegrepen)Iedereen is welkom om zijn creativiteit te laten spreken!
URL:https://zorggroep-orion.be/activiteit/de-schoorse-schilders/2026-05-12/
LOCATION:Dienstencentrum De Schoor\, Schorvoortstraat 53\, Turnhout\, 2300
CATEGORIES:Recreatie
ATTACH;FMTTYPE=image/jpeg:https://zorggroep-orion.be/wp-content/uploads/2023/06/act202309-Schilderen.jpg
END:VEVENT
BEGIN:VEVENT
DTSTART;TZID=Europe/Brussels:20260519T133000
DTEND;TZID=Europe/Brussels:20260519T163000
DTSTAMP:20260424T200110
CREATED:20260112T144309Z
LAST-MODIFIED:20260112T150443Z
UID:10623073-1779197400-1779208200@zorggroep-orion.be
SUMMARY:De Schoorse schilders
DESCRIPTION:Zin om creatief bezig te zijn in goed gezelschap? Bij De Schoorse Schilders kan je vrij schilderen en tekenen\, of je nu beginner bent of al ervaring hebt. Samen creëren we in een ontspannen sfeer en wisselen we ideeën uit. Natuurlijk sluiten we af met een gezellige koffiepauze.Elke dinsdag om 13u30 \n€2 (koffie inbegrepen)Iedereen is welkom om zijn creativiteit te laten spreken!
URL:https://zorggroep-orion.be/activiteit/de-schoorse-schilders/2026-05-19/
LOCATION:Dienstencentrum De Schoor\, Schorvoortstraat 53\, Turnhout\, 2300
CATEGORIES:Recreatie
ATTACH;FMTTYPE=image/jpeg:https://zorggroep-orion.be/wp-content/uploads/2023/06/act202309-Schilderen.jpg
END:VEVENT
BEGIN:VEVENT
DTSTART;TZID=Europe/Brussels:20260526T133000
DTEND;TZID=Europe/Brussels:20260526T163000
DTSTAMP:20260424T200110
CREATED:20260112T144309Z
LAST-MODIFIED:20260112T150443Z
UID:10623074-1779802200-1779813000@zorggroep-orion.be
SUMMARY:De Schoorse schilders
DESCRIPTION:Zin om creatief bezig te zijn in goed gezelschap? Bij De Schoorse Schilders kan je vrij schilderen en tekenen\, of je nu beginner bent of al ervaring hebt. Samen creëren we in een ontspannen sfeer en wisselen we ideeën uit. Natuurlijk sluiten we af met een gezellige koffiepauze.Elke dinsdag om 13u30 \n€2 (koffie inbegrepen)Iedereen is welkom om zijn creativiteit te laten spreken!
URL:https://zorggroep-orion.be/activiteit/de-schoorse-schilders/2026-05-26/
LOCATION:Dienstencentrum De Schoor\, Schorvoortstraat 53\, Turnhout\, 2300
CATEGORIES:Recreatie
ATTACH;FMTTYPE=image/jpeg:https://zorggroep-orion.be/wp-content/uploads/2023/06/act202309-Schilderen.jpg
END:VEVENT
BEGIN:VEVENT
DTSTART;TZID=Europe/Brussels:20260602T133000
DTEND;TZID=Europe/Brussels:20260602T163000
DTSTAMP:20260424T200110
CREATED:20260112T144309Z
LAST-MODIFIED:20260112T150443Z
UID:10623075-1780407000-1780417800@zorggroep-orion.be
SUMMARY:De Schoorse schilders
DESCRIPTION:Zin om creatief bezig te zijn in goed gezelschap? Bij De Schoorse Schilders kan je vrij schilderen en tekenen\, of je nu beginner bent of al ervaring hebt. Samen creëren we in een ontspannen sfeer en wisselen we ideeën uit. Natuurlijk sluiten we af met een gezellige koffiepauze.Elke dinsdag om 13u30 \n€2 (koffie inbegrepen)Iedereen is welkom om zijn creativiteit te laten spreken!
URL:https://zorggroep-orion.be/activiteit/de-schoorse-schilders/2026-06-02/
LOCATION:Dienstencentrum De Schoor\, Schorvoortstraat 53\, Turnhout\, 2300
CATEGORIES:Recreatie
ATTACH;FMTTYPE=image/jpeg:https://zorggroep-orion.be/wp-content/uploads/2023/06/act202309-Schilderen.jpg
END:VEVENT
BEGIN:VEVENT
DTSTART;TZID=Europe/Brussels:20260609T133000
DTEND;TZID=Europe/Brussels:20260609T163000
DTSTAMP:20260424T200110
CREATED:20260112T144309Z
LAST-MODIFIED:20260112T150443Z
UID:10623076-1781011800-1781022600@zorggroep-orion.be
SUMMARY:De Schoorse schilders
DESCRIPTION:Zin om creatief bezig te zijn in goed gezelschap? Bij De Schoorse Schilders kan je vrij schilderen en tekenen\, of je nu beginner bent of al ervaring hebt. Samen creëren we in een ontspannen sfeer en wisselen we ideeën uit. Natuurlijk sluiten we af met een gezellige koffiepauze.Elke dinsdag om 13u30 \n€2 (koffie inbegrepen)Iedereen is welkom om zijn creativiteit te laten spreken!
URL:https://zorggroep-orion.be/activiteit/de-schoorse-schilders/2026-06-09/
LOCATION:Dienstencentrum De Schoor\, Schorvoortstraat 53\, Turnhout\, 2300
CATEGORIES:Recreatie
ATTACH;FMTTYPE=image/jpeg:https://zorggroep-orion.be/wp-content/uploads/2023/06/act202309-Schilderen.jpg
END:VEVENT
BEGIN:VEVENT
DTSTART;TZID=Europe/Brussels:20260616T133000
DTEND;TZID=Europe/Brussels:20260616T163000
DTSTAMP:20260424T200110
CREATED:20260112T144309Z
LAST-MODIFIED:20260112T150443Z
UID:10623077-1781616600-1781627400@zorggroep-orion.be
SUMMARY:De Schoorse schilders
DESCRIPTION:Zin om creatief bezig te zijn in goed gezelschap? Bij De Schoorse Schilders kan je vrij schilderen en tekenen\, of je nu beginner bent of al ervaring hebt. Samen creëren we in een ontspannen sfeer en wisselen we ideeën uit. Natuurlijk sluiten we af met een gezellige koffiepauze.Elke dinsdag om 13u30 \n€2 (koffie inbegrepen)Iedereen is welkom om zijn creativiteit te laten spreken!
URL:https://zorggroep-orion.be/activiteit/de-schoorse-schilders/2026-06-16/
LOCATION:Dienstencentrum De Schoor\, Schorvoortstraat 53\, Turnhout\, 2300
CATEGORIES:Recreatie
ATTACH;FMTTYPE=image/jpeg:https://zorggroep-orion.be/wp-content/uploads/2023/06/act202309-Schilderen.jpg
END:VEVENT
BEGIN:VEVENT
DTSTART;TZID=Europe/Brussels:20260623T133000
DTEND;TZID=Europe/Brussels:20260623T163000
DTSTAMP:20260424T200110
CREATED:20260112T144309Z
LAST-MODIFIED:20260112T150443Z
UID:10623078-1782221400-1782232200@zorggroep-orion.be
SUMMARY:De Schoorse schilders
DESCRIPTION:Zin om creatief bezig te zijn in goed gezelschap? Bij De Schoorse Schilders kan je vrij schilderen en tekenen\, of je nu beginner bent of al ervaring hebt. Samen creëren we in een ontspannen sfeer en wisselen we ideeën uit. Natuurlijk sluiten we af met een gezellige koffiepauze.Elke dinsdag om 13u30 \n€2 (koffie inbegrepen)Iedereen is welkom om zijn creativiteit te laten spreken!
URL:https://zorggroep-orion.be/activiteit/de-schoorse-schilders/2026-06-23/
LOCATION:Dienstencentrum De Schoor\, Schorvoortstraat 53\, Turnhout\, 2300
CATEGORIES:Recreatie
ATTACH;FMTTYPE=image/jpeg:https://zorggroep-orion.be/wp-content/uploads/2023/06/act202309-Schilderen.jpg
END:VEVENT
BEGIN:VEVENT
DTSTART;TZID=Europe/Brussels:20260630T133000
DTEND;TZID=Europe/Brussels:20260630T163000
DTSTAMP:20260424T200110
CREATED:20260112T144309Z
LAST-MODIFIED:20260112T150443Z
UID:10623079-1782826200-1782837000@zorggroep-orion.be
SUMMARY:De Schoorse schilders
DESCRIPTION:Zin om creatief bezig te zijn in goed gezelschap? Bij De Schoorse Schilders kan je vrij schilderen en tekenen\, of je nu beginner bent of al ervaring hebt. Samen creëren we in een ontspannen sfeer en wisselen we ideeën uit. Natuurlijk sluiten we af met een gezellige koffiepauze.Elke dinsdag om 13u30 \n€2 (koffie inbegrepen)Iedereen is welkom om zijn creativiteit te laten spreken!
URL:https://zorggroep-orion.be/activiteit/de-schoorse-schilders/2026-06-30/
LOCATION:Dienstencentrum De Schoor\, Schorvoortstraat 53\, Turnhout\, 2300
CATEGORIES:Recreatie
ATTACH;FMTTYPE=image/jpeg:https://zorggroep-orion.be/wp-content/uploads/2023/06/act202309-Schilderen.jpg
END:VEVENT
BEGIN:VEVENT
DTSTART;TZID=Europe/Brussels:20260707T133000
DTEND;TZID=Europe/Brussels:20260707T163000
DTSTAMP:20260424T200110
CREATED:20260112T144309Z
LAST-MODIFIED:20260112T150443Z
UID:10623080-1783431000-1783441800@zorggroep-orion.be
SUMMARY:De Schoorse schilders
DESCRIPTION:Zin om creatief bezig te zijn in goed gezelschap? Bij De Schoorse Schilders kan je vrij schilderen en tekenen\, of je nu beginner bent of al ervaring hebt. Samen creëren we in een ontspannen sfeer en wisselen we ideeën uit. Natuurlijk sluiten we af met een gezellige koffiepauze.Elke dinsdag om 13u30 \n€2 (koffie inbegrepen)Iedereen is welkom om zijn creativiteit te laten spreken!
URL:https://zorggroep-orion.be/activiteit/de-schoorse-schilders/2026-07-07/
LOCATION:Dienstencentrum De Schoor\, Schorvoortstraat 53\, Turnhout\, 2300
CATEGORIES:Recreatie
ATTACH;FMTTYPE=image/jpeg:https://zorggroep-orion.be/wp-content/uploads/2023/06/act202309-Schilderen.jpg
END:VEVENT
BEGIN:VEVENT
DTSTART;TZID=Europe/Brussels:20260714T133000
DTEND;TZID=Europe/Brussels:20260714T163000
DTSTAMP:20260424T200110
CREATED:20260112T144309Z
LAST-MODIFIED:20260112T150443Z
UID:10623081-1784035800-1784046600@zorggroep-orion.be
SUMMARY:De Schoorse schilders
DESCRIPTION:Zin om creatief bezig te zijn in goed gezelschap? Bij De Schoorse Schilders kan je vrij schilderen en tekenen\, of je nu beginner bent of al ervaring hebt. Samen creëren we in een ontspannen sfeer en wisselen we ideeën uit. Natuurlijk sluiten we af met een gezellige koffiepauze.Elke dinsdag om 13u30 \n€2 (koffie inbegrepen)Iedereen is welkom om zijn creativiteit te laten spreken!
URL:https://zorggroep-orion.be/activiteit/de-schoorse-schilders/2026-07-14/
LOCATION:Dienstencentrum De Schoor\, Schorvoortstraat 53\, Turnhout\, 2300
CATEGORIES:Recreatie
ATTACH;FMTTYPE=image/jpeg:https://zorggroep-orion.be/wp-content/uploads/2023/06/act202309-Schilderen.jpg
END:VEVENT
BEGIN:VEVENT
DTSTART;TZID=Europe/Brussels:20260721T133000
DTEND;TZID=Europe/Brussels:20260721T163000
DTSTAMP:20260424T200110
CREATED:20260112T144309Z
LAST-MODIFIED:20260112T150443Z
UID:10623082-1784640600-1784651400@zorggroep-orion.be
SUMMARY:De Schoorse schilders
DESCRIPTION:Zin om creatief bezig te zijn in goed gezelschap? Bij De Schoorse Schilders kan je vrij schilderen en tekenen\, of je nu beginner bent of al ervaring hebt. Samen creëren we in een ontspannen sfeer en wisselen we ideeën uit. Natuurlijk sluiten we af met een gezellige koffiepauze.Elke dinsdag om 13u30 \n€2 (koffie inbegrepen)Iedereen is welkom om zijn creativiteit te laten spreken!
URL:https://zorggroep-orion.be/activiteit/de-schoorse-schilders/2026-07-21/
LOCATION:Dienstencentrum De Schoor\, Schorvoortstraat 53\, Turnhout\, 2300
CATEGORIES:Recreatie
ATTACH;FMTTYPE=image/jpeg:https://zorggroep-orion.be/wp-content/uploads/2023/06/act202309-Schilderen.jpg
END:VEVENT
BEGIN:VEVENT
DTSTART;TZID=Europe/Brussels:20260728T133000
DTEND;TZID=Europe/Brussels:20260728T163000
DTSTAMP:20260424T200110
CREATED:20260112T144309Z
LAST-MODIFIED:20260112T150443Z
UID:10623083-1785245400-1785256200@zorggroep-orion.be
SUMMARY:De Schoorse schilders
DESCRIPTION:Zin om creatief bezig te zijn in goed gezelschap? Bij De Schoorse Schilders kan je vrij schilderen en tekenen\, of je nu beginner bent of al ervaring hebt. Samen creëren we in een ontspannen sfeer en wisselen we ideeën uit. Natuurlijk sluiten we af met een gezellige koffiepauze.Elke dinsdag om 13u30 \n€2 (koffie inbegrepen)Iedereen is welkom om zijn creativiteit te laten spreken!
URL:https://zorggroep-orion.be/activiteit/de-schoorse-schilders/2026-07-28/
LOCATION:Dienstencentrum De Schoor\, Schorvoortstraat 53\, Turnhout\, 2300
CATEGORIES:Recreatie
ATTACH;FMTTYPE=image/jpeg:https://zorggroep-orion.be/wp-content/uploads/2023/06/act202309-Schilderen.jpg
END:VEVENT
BEGIN:VEVENT
DTSTART;TZID=Europe/Brussels:20260804T133000
DTEND;TZID=Europe/Brussels:20260804T163000
DTSTAMP:20260424T200110
CREATED:20260112T144309Z
LAST-MODIFIED:20260112T150443Z
UID:10623084-1785850200-1785861000@zorggroep-orion.be
SUMMARY:De Schoorse schilders
DESCRIPTION:Zin om creatief bezig te zijn in goed gezelschap? Bij De Schoorse Schilders kan je vrij schilderen en tekenen\, of je nu beginner bent of al ervaring hebt. Samen creëren we in een ontspannen sfeer en wisselen we ideeën uit. Natuurlijk sluiten we af met een gezellige koffiepauze.Elke dinsdag om 13u30 \n€2 (koffie inbegrepen)Iedereen is welkom om zijn creativiteit te laten spreken!
URL:https://zorggroep-orion.be/activiteit/de-schoorse-schilders/2026-08-04/
LOCATION:Dienstencentrum De Schoor\, Schorvoortstraat 53\, Turnhout\, 2300
CATEGORIES:Recreatie
ATTACH;FMTTYPE=image/jpeg:https://zorggroep-orion.be/wp-content/uploads/2023/06/act202309-Schilderen.jpg
END:VEVENT
BEGIN:VEVENT
DTSTART;TZID=Europe/Brussels:20260811T133000
DTEND;TZID=Europe/Brussels:20260811T163000
DTSTAMP:20260424T200110
CREATED:20260112T144309Z
LAST-MODIFIED:20260112T150443Z
UID:10623085-1786455000-1786465800@zorggroep-orion.be
SUMMARY:De Schoorse schilders
DESCRIPTION:Zin om creatief bezig te zijn in goed gezelschap? Bij De Schoorse Schilders kan je vrij schilderen en tekenen\, of je nu beginner bent of al ervaring hebt. Samen creëren we in een ontspannen sfeer en wisselen we ideeën uit. Natuurlijk sluiten we af met een gezellige koffiepauze.Elke dinsdag om 13u30 \n€2 (koffie inbegrepen)Iedereen is welkom om zijn creativiteit te laten spreken!
URL:https://zorggroep-orion.be/activiteit/de-schoorse-schilders/2026-08-11/
LOCATION:Dienstencentrum De Schoor\, Schorvoortstraat 53\, Turnhout\, 2300
CATEGORIES:Recreatie
ATTACH;FMTTYPE=image/jpeg:https://zorggroep-orion.be/wp-content/uploads/2023/06/act202309-Schilderen.jpg
END:VEVENT
BEGIN:VEVENT
DTSTART;TZID=Europe/Brussels:20260818T133000
DTEND;TZID=Europe/Brussels:20260818T163000
DTSTAMP:20260424T200110
CREATED:20260112T144309Z
LAST-MODIFIED:20260112T150443Z
UID:10623086-1787059800-1787070600@zorggroep-orion.be
SUMMARY:De Schoorse schilders
DESCRIPTION:Zin om creatief bezig te zijn in goed gezelschap? Bij De Schoorse Schilders kan je vrij schilderen en tekenen\, of je nu beginner bent of al ervaring hebt. Samen creëren we in een ontspannen sfeer en wisselen we ideeën uit. Natuurlijk sluiten we af met een gezellige koffiepauze.Elke dinsdag om 13u30 \n€2 (koffie inbegrepen)Iedereen is welkom om zijn creativiteit te laten spreken!
URL:https://zorggroep-orion.be/activiteit/de-schoorse-schilders/2026-08-18/
LOCATION:Dienstencentrum De Schoor\, Schorvoortstraat 53\, Turnhout\, 2300
CATEGORIES:Recreatie
ATTACH;FMTTYPE=image/jpeg:https://zorggroep-orion.be/wp-content/uploads/2023/06/act202309-Schilderen.jpg
END:VEVENT
BEGIN:VEVENT
DTSTART;TZID=Europe/Brussels:20260825T133000
DTEND;TZID=Europe/Brussels:20260825T163000
DTSTAMP:20260424T200110
CREATED:20260112T144309Z
LAST-MODIFIED:20260112T150443Z
UID:10623087-1787664600-1787675400@zorggroep-orion.be
SUMMARY:De Schoorse schilders
DESCRIPTION:Zin om creatief bezig te zijn in goed gezelschap? Bij De Schoorse Schilders kan je vrij schilderen en tekenen\, of je nu beginner bent of al ervaring hebt. Samen creëren we in een ontspannen sfeer en wisselen we ideeën uit. Natuurlijk sluiten we af met een gezellige koffiepauze.Elke dinsdag om 13u30 \n€2 (koffie inbegrepen)Iedereen is welkom om zijn creativiteit te laten spreken!
URL:https://zorggroep-orion.be/activiteit/de-schoorse-schilders/2026-08-25/
LOCATION:Dienstencentrum De Schoor\, Schorvoortstraat 53\, Turnhout\, 2300
CATEGORIES:Recreatie
ATTACH;FMTTYPE=image/jpeg:https://zorggroep-orion.be/wp-content/uploads/2023/06/act202309-Schilderen.jpg
END:VEVENT
BEGIN:VEVENT
DTSTART;TZID=Europe/Brussels:20260901T133000
DTEND;TZID=Europe/Brussels:20260901T163000
DTSTAMP:20260424T200110
CREATED:20260112T144309Z
LAST-MODIFIED:20260112T150443Z
UID:10623088-1788269400-1788280200@zorggroep-orion.be
SUMMARY:De Schoorse schilders
DESCRIPTION:Zin om creatief bezig te zijn in goed gezelschap? Bij De Schoorse Schilders kan je vrij schilderen en tekenen\, of je nu beginner bent of al ervaring hebt. Samen creëren we in een ontspannen sfeer en wisselen we ideeën uit. Natuurlijk sluiten we af met een gezellige koffiepauze.Elke dinsdag om 13u30 \n€2 (koffie inbegrepen)Iedereen is welkom om zijn creativiteit te laten spreken!
URL:https://zorggroep-orion.be/activiteit/de-schoorse-schilders/2026-09-01/
LOCATION:Dienstencentrum De Schoor\, Schorvoortstraat 53\, Turnhout\, 2300
CATEGORIES:Recreatie
ATTACH;FMTTYPE=image/jpeg:https://zorggroep-orion.be/wp-content/uploads/2023/06/act202309-Schilderen.jpg
END:VEVENT
BEGIN:VEVENT
DTSTART;TZID=Europe/Brussels:20260908T133000
DTEND;TZID=Europe/Brussels:20260908T163000
DTSTAMP:20260424T200110
CREATED:20260112T144309Z
LAST-MODIFIED:20260112T150443Z
UID:10623089-1788874200-1788885000@zorggroep-orion.be
SUMMARY:De Schoorse schilders
DESCRIPTION:Zin om creatief bezig te zijn in goed gezelschap? Bij De Schoorse Schilders kan je vrij schilderen en tekenen\, of je nu beginner bent of al ervaring hebt. Samen creëren we in een ontspannen sfeer en wisselen we ideeën uit. Natuurlijk sluiten we af met een gezellige koffiepauze.Elke dinsdag om 13u30 \n€2 (koffie inbegrepen)Iedereen is welkom om zijn creativiteit te laten spreken!
URL:https://zorggroep-orion.be/activiteit/de-schoorse-schilders/2026-09-08/
LOCATION:Dienstencentrum De Schoor\, Schorvoortstraat 53\, Turnhout\, 2300
CATEGORIES:Recreatie
ATTACH;FMTTYPE=image/jpeg:https://zorggroep-orion.be/wp-content/uploads/2023/06/act202309-Schilderen.jpg
END:VEVENT
BEGIN:VEVENT
DTSTART;TZID=Europe/Brussels:20260915T133000
DTEND;TZID=Europe/Brussels:20260915T163000
DTSTAMP:20260424T200110
CREATED:20260112T144309Z
LAST-MODIFIED:20260112T150443Z
UID:10623090-1789479000-1789489800@zorggroep-orion.be
SUMMARY:De Schoorse schilders
DESCRIPTION:Zin om creatief bezig te zijn in goed gezelschap? Bij De Schoorse Schilders kan je vrij schilderen en tekenen\, of je nu beginner bent of al ervaring hebt. Samen creëren we in een ontspannen sfeer en wisselen we ideeën uit. Natuurlijk sluiten we af met een gezellige koffiepauze.Elke dinsdag om 13u30 \n€2 (koffie inbegrepen)Iedereen is welkom om zijn creativiteit te laten spreken!
URL:https://zorggroep-orion.be/activiteit/de-schoorse-schilders/2026-09-15/
LOCATION:Dienstencentrum De Schoor\, Schorvoortstraat 53\, Turnhout\, 2300
CATEGORIES:Recreatie
ATTACH;FMTTYPE=image/jpeg:https://zorggroep-orion.be/wp-content/uploads/2023/06/act202309-Schilderen.jpg
END:VEVENT
BEGIN:VEVENT
DTSTART;TZID=Europe/Brussels:20260922T133000
DTEND;TZID=Europe/Brussels:20260922T163000
DTSTAMP:20260424T200110
CREATED:20260112T144309Z
LAST-MODIFIED:20260112T150443Z
UID:10623091-1790083800-1790094600@zorggroep-orion.be
SUMMARY:De Schoorse schilders
DESCRIPTION:Zin om creatief bezig te zijn in goed gezelschap? Bij De Schoorse Schilders kan je vrij schilderen en tekenen\, of je nu beginner bent of al ervaring hebt. Samen creëren we in een ontspannen sfeer en wisselen we ideeën uit. Natuurlijk sluiten we af met een gezellige koffiepauze.Elke dinsdag om 13u30 \n€2 (koffie inbegrepen)Iedereen is welkom om zijn creativiteit te laten spreken!
URL:https://zorggroep-orion.be/activiteit/de-schoorse-schilders/2026-09-22/
LOCATION:Dienstencentrum De Schoor\, Schorvoortstraat 53\, Turnhout\, 2300
CATEGORIES:Recreatie
ATTACH;FMTTYPE=image/jpeg:https://zorggroep-orion.be/wp-content/uploads/2023/06/act202309-Schilderen.jpg
END:VEVENT
BEGIN:VEVENT
DTSTART;TZID=Europe/Brussels:20260929T133000
DTEND;TZID=Europe/Brussels:20260929T163000
DTSTAMP:20260424T200110
CREATED:20260112T144309Z
LAST-MODIFIED:20260112T150443Z
UID:10623092-1790688600-1790699400@zorggroep-orion.be
SUMMARY:De Schoorse schilders
DESCRIPTION:Zin om creatief bezig te zijn in goed gezelschap? Bij De Schoorse Schilders kan je vrij schilderen en tekenen\, of je nu beginner bent of al ervaring hebt. Samen creëren we in een ontspannen sfeer en wisselen we ideeën uit. Natuurlijk sluiten we af met een gezellige koffiepauze.Elke dinsdag om 13u30 \n€2 (koffie inbegrepen)Iedereen is welkom om zijn creativiteit te laten spreken!
URL:https://zorggroep-orion.be/activiteit/de-schoorse-schilders/2026-09-29/
LOCATION:Dienstencentrum De Schoor\, Schorvoortstraat 53\, Turnhout\, 2300
CATEGORIES:Recreatie
ATTACH;FMTTYPE=image/jpeg:https://zorggroep-orion.be/wp-content/uploads/2023/06/act202309-Schilderen.jpg
END:VEVENT
BEGIN:VEVENT
DTSTART;TZID=Europe/Brussels:20261006T133000
DTEND;TZID=Europe/Brussels:20261006T163000
DTSTAMP:20260424T200110
CREATED:20260112T144309Z
LAST-MODIFIED:20260112T150443Z
UID:10623093-1791293400-1791304200@zorggroep-orion.be
SUMMARY:De Schoorse schilders
DESCRIPTION:Zin om creatief bezig te zijn in goed gezelschap? Bij De Schoorse Schilders kan je vrij schilderen en tekenen\, of je nu beginner bent of al ervaring hebt. Samen creëren we in een ontspannen sfeer en wisselen we ideeën uit. Natuurlijk sluiten we af met een gezellige koffiepauze.Elke dinsdag om 13u30 \n€2 (koffie inbegrepen)Iedereen is welkom om zijn creativiteit te laten spreken!
URL:https://zorggroep-orion.be/activiteit/de-schoorse-schilders/2026-10-06/
LOCATION:Dienstencentrum De Schoor\, Schorvoortstraat 53\, Turnhout\, 2300
CATEGORIES:Recreatie
ATTACH;FMTTYPE=image/jpeg:https://zorggroep-orion.be/wp-content/uploads/2023/06/act202309-Schilderen.jpg
END:VEVENT
BEGIN:VEVENT
DTSTART;TZID=Europe/Brussels:20261013T133000
DTEND;TZID=Europe/Brussels:20261013T163000
DTSTAMP:20260424T200110
CREATED:20260112T144309Z
LAST-MODIFIED:20260112T150443Z
UID:10623094-1791898200-1791909000@zorggroep-orion.be
SUMMARY:De Schoorse schilders
DESCRIPTION:Zin om creatief bezig te zijn in goed gezelschap? Bij De Schoorse Schilders kan je vrij schilderen en tekenen\, of je nu beginner bent of al ervaring hebt. Samen creëren we in een ontspannen sfeer en wisselen we ideeën uit. Natuurlijk sluiten we af met een gezellige koffiepauze.Elke dinsdag om 13u30 \n€2 (koffie inbegrepen)Iedereen is welkom om zijn creativiteit te laten spreken!
URL:https://zorggroep-orion.be/activiteit/de-schoorse-schilders/2026-10-13/
LOCATION:Dienstencentrum De Schoor\, Schorvoortstraat 53\, Turnhout\, 2300
CATEGORIES:Recreatie
ATTACH;FMTTYPE=image/jpeg:https://zorggroep-orion.be/wp-content/uploads/2023/06/act202309-Schilderen.jpg
END:VEVENT
BEGIN:VEVENT
DTSTART;TZID=Europe/Brussels:20261020T133000
DTEND;TZID=Europe/Brussels:20261020T163000
DTSTAMP:20260424T200110
CREATED:20260112T144309Z
LAST-MODIFIED:20260112T150443Z
UID:10623095-1792503000-1792513800@zorggroep-orion.be
SUMMARY:De Schoorse schilders
DESCRIPTION:Zin om creatief bezig te zijn in goed gezelschap? Bij De Schoorse Schilders kan je vrij schilderen en tekenen\, of je nu beginner bent of al ervaring hebt. Samen creëren we in een ontspannen sfeer en wisselen we ideeën uit. Natuurlijk sluiten we af met een gezellige koffiepauze.Elke dinsdag om 13u30 \n€2 (koffie inbegrepen)Iedereen is welkom om zijn creativiteit te laten spreken!
URL:https://zorggroep-orion.be/activiteit/de-schoorse-schilders/2026-10-20/
LOCATION:Dienstencentrum De Schoor\, Schorvoortstraat 53\, Turnhout\, 2300
CATEGORIES:Recreatie
ATTACH;FMTTYPE=image/jpeg:https://zorggroep-orion.be/wp-content/uploads/2023/06/act202309-Schilderen.jpg
END:VEVENT
BEGIN:VEVENT
DTSTART;TZID=Europe/Brussels:20261027T133000
DTEND;TZID=Europe/Brussels:20261027T163000
DTSTAMP:20260424T200110
CREATED:20260112T144309Z
LAST-MODIFIED:20260112T150443Z
UID:10623096-1793107800-1793118600@zorggroep-orion.be
SUMMARY:De Schoorse schilders
DESCRIPTION:Zin om creatief bezig te zijn in goed gezelschap? Bij De Schoorse Schilders kan je vrij schilderen en tekenen\, of je nu beginner bent of al ervaring hebt. Samen creëren we in een ontspannen sfeer en wisselen we ideeën uit. Natuurlijk sluiten we af met een gezellige koffiepauze.Elke dinsdag om 13u30 \n€2 (koffie inbegrepen)Iedereen is welkom om zijn creativiteit te laten spreken!
URL:https://zorggroep-orion.be/activiteit/de-schoorse-schilders/2026-10-27/
LOCATION:Dienstencentrum De Schoor\, Schorvoortstraat 53\, Turnhout\, 2300
CATEGORIES:Recreatie
ATTACH;FMTTYPE=image/jpeg:https://zorggroep-orion.be/wp-content/uploads/2023/06/act202309-Schilderen.jpg
END:VEVENT
BEGIN:VEVENT
DTSTART;TZID=Europe/Brussels:20261103T133000
DTEND;TZID=Europe/Brussels:20261103T163000
DTSTAMP:20260424T200110
CREATED:20260112T144309Z
LAST-MODIFIED:20260112T150443Z
UID:10623097-1793712600-1793723400@zorggroep-orion.be
SUMMARY:De Schoorse schilders
DESCRIPTION:Zin om creatief bezig te zijn in goed gezelschap? Bij De Schoorse Schilders kan je vrij schilderen en tekenen\, of je nu beginner bent of al ervaring hebt. Samen creëren we in een ontspannen sfeer en wisselen we ideeën uit. Natuurlijk sluiten we af met een gezellige koffiepauze.Elke dinsdag om 13u30 \n€2 (koffie inbegrepen)Iedereen is welkom om zijn creativiteit te laten spreken!
URL:https://zorggroep-orion.be/activiteit/de-schoorse-schilders/2026-11-03/
LOCATION:Dienstencentrum De Schoor\, Schorvoortstraat 53\, Turnhout\, 2300
CATEGORIES:Recreatie
ATTACH;FMTTYPE=image/jpeg:https://zorggroep-orion.be/wp-content/uploads/2023/06/act202309-Schilderen.jpg
END:VEVENT
BEGIN:VEVENT
DTSTART;TZID=Europe/Brussels:20261110T133000
DTEND;TZID=Europe/Brussels:20261110T163000
DTSTAMP:20260424T200110
CREATED:20260112T144309Z
LAST-MODIFIED:20260112T150443Z
UID:10623098-1794317400-1794328200@zorggroep-orion.be
SUMMARY:De Schoorse schilders
DESCRIPTION:Zin om creatief bezig te zijn in goed gezelschap? Bij De Schoorse Schilders kan je vrij schilderen en tekenen\, of je nu beginner bent of al ervaring hebt. Samen creëren we in een ontspannen sfeer en wisselen we ideeën uit. Natuurlijk sluiten we af met een gezellige koffiepauze.Elke dinsdag om 13u30 \n€2 (koffie inbegrepen)Iedereen is welkom om zijn creativiteit te laten spreken!
URL:https://zorggroep-orion.be/activiteit/de-schoorse-schilders/2026-11-10/
LOCATION:Dienstencentrum De Schoor\, Schorvoortstraat 53\, Turnhout\, 2300
CATEGORIES:Recreatie
ATTACH;FMTTYPE=image/jpeg:https://zorggroep-orion.be/wp-content/uploads/2023/06/act202309-Schilderen.jpg
END:VEVENT
BEGIN:VEVENT
DTSTART;TZID=Europe/Brussels:20261117T133000
DTEND;TZID=Europe/Brussels:20261117T163000
DTSTAMP:20260424T200110
CREATED:20260112T144309Z
LAST-MODIFIED:20260112T150443Z
UID:10623099-1794922200-1794933000@zorggroep-orion.be
SUMMARY:De Schoorse schilders
DESCRIPTION:Zin om creatief bezig te zijn in goed gezelschap? Bij De Schoorse Schilders kan je vrij schilderen en tekenen\, of je nu beginner bent of al ervaring hebt. Samen creëren we in een ontspannen sfeer en wisselen we ideeën uit. Natuurlijk sluiten we af met een gezellige koffiepauze.Elke dinsdag om 13u30 \n€2 (koffie inbegrepen)Iedereen is welkom om zijn creativiteit te laten spreken!
URL:https://zorggroep-orion.be/activiteit/de-schoorse-schilders/2026-11-17/
LOCATION:Dienstencentrum De Schoor\, Schorvoortstraat 53\, Turnhout\, 2300
CATEGORIES:Recreatie
ATTACH;FMTTYPE=image/jpeg:https://zorggroep-orion.be/wp-content/uploads/2023/06/act202309-Schilderen.jpg
END:VEVENT
END:VCALENDAR