BEGIN:VCALENDAR
VERSION:2.0
PRODID:-//Zorggroep Orion - ECPv6.15.17.1//NONSGML v1.0//EN
CALSCALE:GREGORIAN
METHOD:PUBLISH
X-WR-CALNAME:Zorggroep Orion
X-ORIGINAL-URL:https://zorggroep-orion.be
X-WR-CALDESC:Evenementen voor Zorggroep Orion
REFRESH-INTERVAL;VALUE=DURATION:PT1H
X-Robots-Tag:noindex
X-PUBLISHED-TTL:PT1H
BEGIN:VTIMEZONE
TZID:Europe/Brussels
BEGIN:DAYLIGHT
TZOFFSETFROM:+0100
TZOFFSETTO:+0200
TZNAME:CEST
DTSTART:20250330T010000
END:DAYLIGHT
BEGIN:STANDARD
TZOFFSETFROM:+0200
TZOFFSETTO:+0100
TZNAME:CET
DTSTART:20251026T010000
END:STANDARD
BEGIN:DAYLIGHT
TZOFFSETFROM:+0100
TZOFFSETTO:+0200
TZNAME:CEST
DTSTART:20260329T010000
END:DAYLIGHT
BEGIN:STANDARD
TZOFFSETFROM:+0200
TZOFFSETTO:+0100
TZNAME:CET
DTSTART:20261025T010000
END:STANDARD
BEGIN:DAYLIGHT
TZOFFSETFROM:+0100
TZOFFSETTO:+0200
TZNAME:CEST
DTSTART:20270328T010000
END:DAYLIGHT
BEGIN:STANDARD
TZOFFSETFROM:+0200
TZOFFSETTO:+0100
TZNAME:CET
DTSTART:20271031T010000
END:STANDARD
BEGIN:DAYLIGHT
TZOFFSETFROM:+0100
TZOFFSETTO:+0200
TZNAME:CEST
DTSTART:20280326T010000
END:DAYLIGHT
BEGIN:STANDARD
TZOFFSETFROM:+0200
TZOFFSETTO:+0100
TZNAME:CET
DTSTART:20281029T010000
END:STANDARD
END:VTIMEZONE
BEGIN:VEVENT
DTSTART;TZID=Europe/Brussels:20260520T140000
DTEND;TZID=Europe/Brussels:20260520T163000
DTSTAMP:20260424T174250
CREATED:20260113T142508Z
LAST-MODIFIED:20260415T140138Z
UID:10623235-1779285600-1779294600@zorggroep-orion.be
SUMMARY:Bingo in DE SCHOOR
DESCRIPTION:Elke derde woensdag van de maand organiseren we een bingo in ons dienstencentrum. \n€4.5/6 rondes. \nIEDEREEN WELKOM! \nTijdens de pauze kun je genieten van een Brusselse wafel aan €2.
URL:https://zorggroep-orion.be/activiteit/bingo-in-de-schoor/2026-05-20/
LOCATION:Dienstencentrum De Schoor\, Schorvoortstraat 53\, Turnhout\, 2300
CATEGORIES:Recreatie
ATTACH;FMTTYPE=image/png:https://zorggroep-orion.be/wp-content/uploads/2022/01/bingo.png
END:VEVENT
BEGIN:VEVENT
DTSTART;TZID=Europe/Brussels:20260617T140000
DTEND;TZID=Europe/Brussels:20260617T163000
DTSTAMP:20260424T174250
CREATED:20260113T142508Z
LAST-MODIFIED:20260415T140138Z
UID:10623236-1781704800-1781713800@zorggroep-orion.be
SUMMARY:Bingo in DE SCHOOR
DESCRIPTION:Elke derde woensdag van de maand organiseren we een bingo in ons dienstencentrum. \n€4.5/6 rondes. \nIEDEREEN WELKOM! \nTijdens de pauze kun je genieten van een Brusselse wafel aan €2.
URL:https://zorggroep-orion.be/activiteit/bingo-in-de-schoor/2026-06-17/
LOCATION:Dienstencentrum De Schoor\, Schorvoortstraat 53\, Turnhout\, 2300
CATEGORIES:Recreatie
ATTACH;FMTTYPE=image/png:https://zorggroep-orion.be/wp-content/uploads/2022/01/bingo.png
END:VEVENT
BEGIN:VEVENT
DTSTART;TZID=Europe/Brussels:20260715T140000
DTEND;TZID=Europe/Brussels:20260715T163000
DTSTAMP:20260424T174250
CREATED:20260113T142508Z
LAST-MODIFIED:20260415T140138Z
UID:10623237-1784124000-1784133000@zorggroep-orion.be
SUMMARY:Bingo in DE SCHOOR
DESCRIPTION:Elke derde woensdag van de maand organiseren we een bingo in ons dienstencentrum. \n€4.5/6 rondes. \nIEDEREEN WELKOM! \nTijdens de pauze kun je genieten van een Brusselse wafel aan €2.
URL:https://zorggroep-orion.be/activiteit/bingo-in-de-schoor/2026-07-15/
LOCATION:Dienstencentrum De Schoor\, Schorvoortstraat 53\, Turnhout\, 2300
CATEGORIES:Recreatie
ATTACH;FMTTYPE=image/png:https://zorggroep-orion.be/wp-content/uploads/2022/01/bingo.png
END:VEVENT
BEGIN:VEVENT
DTSTART;TZID=Europe/Brussels:20260819T140000
DTEND;TZID=Europe/Brussels:20260819T163000
DTSTAMP:20260424T174250
CREATED:20260113T142508Z
LAST-MODIFIED:20260415T140138Z
UID:10623238-1787148000-1787157000@zorggroep-orion.be
SUMMARY:Bingo in DE SCHOOR
DESCRIPTION:Elke derde woensdag van de maand organiseren we een bingo in ons dienstencentrum. \n€4.5/6 rondes. \nIEDEREEN WELKOM! \nTijdens de pauze kun je genieten van een Brusselse wafel aan €2.
URL:https://zorggroep-orion.be/activiteit/bingo-in-de-schoor/2026-08-19/
LOCATION:Dienstencentrum De Schoor\, Schorvoortstraat 53\, Turnhout\, 2300
CATEGORIES:Recreatie
ATTACH;FMTTYPE=image/png:https://zorggroep-orion.be/wp-content/uploads/2022/01/bingo.png
END:VEVENT
BEGIN:VEVENT
DTSTART;TZID=Europe/Brussels:20260916T140000
DTEND;TZID=Europe/Brussels:20260916T163000
DTSTAMP:20260424T174250
CREATED:20260113T142508Z
LAST-MODIFIED:20260415T140138Z
UID:10623239-1789567200-1789576200@zorggroep-orion.be
SUMMARY:Bingo in DE SCHOOR
DESCRIPTION:Elke derde woensdag van de maand organiseren we een bingo in ons dienstencentrum. \n€4.5/6 rondes. \nIEDEREEN WELKOM! \nTijdens de pauze kun je genieten van een Brusselse wafel aan €2.
URL:https://zorggroep-orion.be/activiteit/bingo-in-de-schoor/2026-09-16/
LOCATION:Dienstencentrum De Schoor\, Schorvoortstraat 53\, Turnhout\, 2300
CATEGORIES:Recreatie
ATTACH;FMTTYPE=image/png:https://zorggroep-orion.be/wp-content/uploads/2022/01/bingo.png
END:VEVENT
BEGIN:VEVENT
DTSTART;TZID=Europe/Brussels:20261021T140000
DTEND;TZID=Europe/Brussels:20261021T163000
DTSTAMP:20260424T174250
CREATED:20260113T142508Z
LAST-MODIFIED:20260415T140138Z
UID:10623240-1792591200-1792600200@zorggroep-orion.be
SUMMARY:Bingo in DE SCHOOR
DESCRIPTION:Elke derde woensdag van de maand organiseren we een bingo in ons dienstencentrum. \n€4.5/6 rondes. \nIEDEREEN WELKOM! \nTijdens de pauze kun je genieten van een Brusselse wafel aan €2.
URL:https://zorggroep-orion.be/activiteit/bingo-in-de-schoor/2026-10-21/
LOCATION:Dienstencentrum De Schoor\, Schorvoortstraat 53\, Turnhout\, 2300
CATEGORIES:Recreatie
ATTACH;FMTTYPE=image/png:https://zorggroep-orion.be/wp-content/uploads/2022/01/bingo.png
END:VEVENT
BEGIN:VEVENT
DTSTART;TZID=Europe/Brussels:20261118T140000
DTEND;TZID=Europe/Brussels:20261118T163000
DTSTAMP:20260424T174250
CREATED:20260113T142508Z
LAST-MODIFIED:20260415T140138Z
UID:10623241-1795010400-1795019400@zorggroep-orion.be
SUMMARY:Bingo in DE SCHOOR
DESCRIPTION:Elke derde woensdag van de maand organiseren we een bingo in ons dienstencentrum. \n€4.5/6 rondes. \nIEDEREEN WELKOM! \nTijdens de pauze kun je genieten van een Brusselse wafel aan €2.
URL:https://zorggroep-orion.be/activiteit/bingo-in-de-schoor/2026-11-18/
LOCATION:Dienstencentrum De Schoor\, Schorvoortstraat 53\, Turnhout\, 2300
CATEGORIES:Recreatie
ATTACH;FMTTYPE=image/png:https://zorggroep-orion.be/wp-content/uploads/2022/01/bingo.png
END:VEVENT
BEGIN:VEVENT
DTSTART;TZID=Europe/Brussels:20261216T140000
DTEND;TZID=Europe/Brussels:20261216T163000
DTSTAMP:20260424T174250
CREATED:20260113T142508Z
LAST-MODIFIED:20260415T140138Z
UID:10623242-1797429600-1797438600@zorggroep-orion.be
SUMMARY:Bingo in DE SCHOOR
DESCRIPTION:Elke derde woensdag van de maand organiseren we een bingo in ons dienstencentrum. \n€4.5/6 rondes. \nIEDEREEN WELKOM! \nTijdens de pauze kun je genieten van een Brusselse wafel aan €2.
URL:https://zorggroep-orion.be/activiteit/bingo-in-de-schoor/2026-12-16/
LOCATION:Dienstencentrum De Schoor\, Schorvoortstraat 53\, Turnhout\, 2300
CATEGORIES:Recreatie
ATTACH;FMTTYPE=image/png:https://zorggroep-orion.be/wp-content/uploads/2022/01/bingo.png
END:VEVENT
BEGIN:VEVENT
DTSTART;TZID=Europe/Brussels:20270120T140000
DTEND;TZID=Europe/Brussels:20270120T163000
DTSTAMP:20260424T174250
CREATED:20260113T142508Z
LAST-MODIFIED:20260415T140138Z
UID:10623243-1800453600-1800462600@zorggroep-orion.be
SUMMARY:Bingo in DE SCHOOR
DESCRIPTION:Elke derde woensdag van de maand organiseren we een bingo in ons dienstencentrum. \n€4.5/6 rondes. \nIEDEREEN WELKOM! \nTijdens de pauze kun je genieten van een Brusselse wafel aan €2.
URL:https://zorggroep-orion.be/activiteit/bingo-in-de-schoor/2027-01-20/
LOCATION:Dienstencentrum De Schoor\, Schorvoortstraat 53\, Turnhout\, 2300
CATEGORIES:Recreatie
ATTACH;FMTTYPE=image/png:https://zorggroep-orion.be/wp-content/uploads/2022/01/bingo.png
END:VEVENT
END:VCALENDAR