BEGIN:VCALENDAR
VERSION:2.0
PRODID:-//Zorggroep Orion - ECPv6.15.17.1//NONSGML v1.0//EN
CALSCALE:GREGORIAN
METHOD:PUBLISH
X-WR-CALNAME:Zorggroep Orion
X-ORIGINAL-URL:https://zorggroep-orion.be
X-WR-CALDESC:Evenementen voor Zorggroep Orion
REFRESH-INTERVAL;VALUE=DURATION:PT1H
X-Robots-Tag:noindex
X-PUBLISHED-TTL:PT1H
BEGIN:VTIMEZONE
TZID:Europe/Brussels
BEGIN:DAYLIGHT
TZOFFSETFROM:+0100
TZOFFSETTO:+0200
TZNAME:CEST
DTSTART:20250330T010000
END:DAYLIGHT
BEGIN:STANDARD
TZOFFSETFROM:+0200
TZOFFSETTO:+0100
TZNAME:CET
DTSTART:20251026T010000
END:STANDARD
BEGIN:DAYLIGHT
TZOFFSETFROM:+0100
TZOFFSETTO:+0200
TZNAME:CEST
DTSTART:20260329T010000
END:DAYLIGHT
BEGIN:STANDARD
TZOFFSETFROM:+0200
TZOFFSETTO:+0100
TZNAME:CET
DTSTART:20261025T010000
END:STANDARD
BEGIN:DAYLIGHT
TZOFFSETFROM:+0100
TZOFFSETTO:+0200
TZNAME:CEST
DTSTART:20270328T010000
END:DAYLIGHT
BEGIN:STANDARD
TZOFFSETFROM:+0200
TZOFFSETTO:+0100
TZNAME:CET
DTSTART:20271031T010000
END:STANDARD
END:VTIMEZONE
BEGIN:VEVENT
DTSTART;TZID=Europe/Brussels:20260424T120000
DTEND;TZID=Europe/Brussels:20260424T170000
DTSTAMP:20260424T135957
CREATED:20260311T140345Z
LAST-MODIFIED:20260311T140345Z
UID:10626539-1777032000-1777050000@zorggroep-orion.be
SUMMARY:Caféwerking Nautica
DESCRIPTION:Elke vrijdag (uitgezonderd vakanties) komen de leerlingen van Nautica ons café open houden.\nZin in iets lekkers? Kom genieten van een kom verse soep met brood of een lekker croque bereid door de leerlingen van Nautica. \nIedereen is welkom\, inschrijven is niet nodig!
URL:https://zorggroep-orion.be/activiteit/cafewerking-nautica-5/2026-04-24/
LOCATION:Dienstencentrum De Schoor\, Schorvoortstraat 53\, Turnhout\, 2300
CATEGORIES:Eten & Drinken
ATTACH;FMTTYPE=image/png:https://zorggroep-orion.be/wp-content/uploads/2025/12/NAUTICA.png
END:VEVENT
BEGIN:VEVENT
DTSTART;TZID=Europe/Brussels:20260522T120000
DTEND;TZID=Europe/Brussels:20260522T170000
DTSTAMP:20260424T135957
CREATED:20260407T120418Z
LAST-MODIFIED:20260415T135834Z
UID:10627065-1779451200-1779469200@zorggroep-orion.be
SUMMARY:Caféwerking Nautica
DESCRIPTION:Elke vrijdag (uitgezonderd vakanties) komen de leerlingen van Nautica ons café open houden.\nZin in iets lekkers? Kom genieten van een kom verse soep met brood of een lekker croque bereid door de leerlingen van Nautica. \nIedereen is welkom\, inschrijven is niet nodig!
URL:https://zorggroep-orion.be/activiteit/cafewerking-nautica-4/2026-05-22/
LOCATION:Dienstencentrum De Schoor\, Schorvoortstraat 53\, Turnhout\, 2300
CATEGORIES:Eten & Drinken
ATTACH;FMTTYPE=image/png:https://zorggroep-orion.be/wp-content/uploads/2025/12/NAUTICA.png
END:VEVENT
BEGIN:VEVENT
DTSTART;TZID=Europe/Brussels:20260529T120000
DTEND;TZID=Europe/Brussels:20260529T170000
DTSTAMP:20260424T135957
CREATED:20260407T120418Z
LAST-MODIFIED:20260415T135834Z
UID:10627066-1780056000-1780074000@zorggroep-orion.be
SUMMARY:Caféwerking Nautica
DESCRIPTION:Elke vrijdag (uitgezonderd vakanties) komen de leerlingen van Nautica ons café open houden.\nZin in iets lekkers? Kom genieten van een kom verse soep met brood of een lekker croque bereid door de leerlingen van Nautica. \nIedereen is welkom\, inschrijven is niet nodig!
URL:https://zorggroep-orion.be/activiteit/cafewerking-nautica-4/2026-05-29/
LOCATION:Dienstencentrum De Schoor\, Schorvoortstraat 53\, Turnhout\, 2300
CATEGORIES:Eten & Drinken
ATTACH;FMTTYPE=image/png:https://zorggroep-orion.be/wp-content/uploads/2025/12/NAUTICA.png
END:VEVENT
BEGIN:VEVENT
DTSTART;TZID=Europe/Brussels:20260605T120000
DTEND;TZID=Europe/Brussels:20260605T170000
DTSTAMP:20260424T135957
CREATED:20260407T120418Z
LAST-MODIFIED:20260415T135834Z
UID:10627078-1780660800-1780678800@zorggroep-orion.be
SUMMARY:Caféwerking Nautica
DESCRIPTION:Elke vrijdag (uitgezonderd vakanties) komen de leerlingen van Nautica ons café open houden.\nZin in iets lekkers? Kom genieten van een kom verse soep met brood of een lekker croque bereid door de leerlingen van Nautica. \nIedereen is welkom\, inschrijven is niet nodig!
URL:https://zorggroep-orion.be/activiteit/cafewerking-nautica-4/2026-06-05/
LOCATION:Dienstencentrum De Schoor\, Schorvoortstraat 53\, Turnhout\, 2300
CATEGORIES:Eten & Drinken
ATTACH;FMTTYPE=image/png:https://zorggroep-orion.be/wp-content/uploads/2025/12/NAUTICA.png
END:VEVENT
BEGIN:VEVENT
DTSTART;TZID=Europe/Brussels:20260612T120000
DTEND;TZID=Europe/Brussels:20260612T170000
DTSTAMP:20260424T135957
CREATED:20260407T120418Z
LAST-MODIFIED:20260415T135834Z
UID:10627079-1781265600-1781283600@zorggroep-orion.be
SUMMARY:Caféwerking Nautica
DESCRIPTION:Elke vrijdag (uitgezonderd vakanties) komen de leerlingen van Nautica ons café open houden.\nZin in iets lekkers? Kom genieten van een kom verse soep met brood of een lekker croque bereid door de leerlingen van Nautica. \nIedereen is welkom\, inschrijven is niet nodig!
URL:https://zorggroep-orion.be/activiteit/cafewerking-nautica-4/2026-06-12/
LOCATION:Dienstencentrum De Schoor\, Schorvoortstraat 53\, Turnhout\, 2300
CATEGORIES:Eten & Drinken
ATTACH;FMTTYPE=image/png:https://zorggroep-orion.be/wp-content/uploads/2025/12/NAUTICA.png
END:VEVENT
BEGIN:VEVENT
DTSTART;TZID=Europe/Brussels:20260619T120000
DTEND;TZID=Europe/Brussels:20260619T170000
DTSTAMP:20260424T135957
CREATED:20260407T120418Z
LAST-MODIFIED:20260415T135834Z
UID:10627080-1781870400-1781888400@zorggroep-orion.be
SUMMARY:Caféwerking Nautica
DESCRIPTION:Elke vrijdag (uitgezonderd vakanties) komen de leerlingen van Nautica ons café open houden.\nZin in iets lekkers? Kom genieten van een kom verse soep met brood of een lekker croque bereid door de leerlingen van Nautica. \nIedereen is welkom\, inschrijven is niet nodig!
URL:https://zorggroep-orion.be/activiteit/cafewerking-nautica-4/2026-06-19/
LOCATION:Dienstencentrum De Schoor\, Schorvoortstraat 53\, Turnhout\, 2300
CATEGORIES:Eten & Drinken
ATTACH;FMTTYPE=image/png:https://zorggroep-orion.be/wp-content/uploads/2025/12/NAUTICA.png
END:VEVENT
BEGIN:VEVENT
DTSTART;TZID=Europe/Brussels:20260626T120000
DTEND;TZID=Europe/Brussels:20260626T170000
DTSTAMP:20260424T135957
CREATED:20260407T120418Z
LAST-MODIFIED:20260415T135834Z
UID:10627081-1782475200-1782493200@zorggroep-orion.be
SUMMARY:Caféwerking Nautica
DESCRIPTION:Elke vrijdag (uitgezonderd vakanties) komen de leerlingen van Nautica ons café open houden.\nZin in iets lekkers? Kom genieten van een kom verse soep met brood of een lekker croque bereid door de leerlingen van Nautica. \nIedereen is welkom\, inschrijven is niet nodig!
URL:https://zorggroep-orion.be/activiteit/cafewerking-nautica-4/2026-06-26/
LOCATION:Dienstencentrum De Schoor\, Schorvoortstraat 53\, Turnhout\, 2300
CATEGORIES:Eten & Drinken
ATTACH;FMTTYPE=image/png:https://zorggroep-orion.be/wp-content/uploads/2025/12/NAUTICA.png
END:VEVENT
BEGIN:VEVENT
DTSTART;TZID=Europe/Brussels:20260703T120000
DTEND;TZID=Europe/Brussels:20260703T170000
DTSTAMP:20260424T135957
CREATED:20260407T120418Z
LAST-MODIFIED:20260415T135834Z
UID:10627082-1783080000-1783098000@zorggroep-orion.be
SUMMARY:Caféwerking Nautica
DESCRIPTION:Elke vrijdag (uitgezonderd vakanties) komen de leerlingen van Nautica ons café open houden.\nZin in iets lekkers? Kom genieten van een kom verse soep met brood of een lekker croque bereid door de leerlingen van Nautica. \nIedereen is welkom\, inschrijven is niet nodig!
URL:https://zorggroep-orion.be/activiteit/cafewerking-nautica-4/2026-07-03/
LOCATION:Dienstencentrum De Schoor\, Schorvoortstraat 53\, Turnhout\, 2300
CATEGORIES:Eten & Drinken
ATTACH;FMTTYPE=image/png:https://zorggroep-orion.be/wp-content/uploads/2025/12/NAUTICA.png
END:VEVENT
BEGIN:VEVENT
DTSTART;TZID=Europe/Brussels:20260710T120000
DTEND;TZID=Europe/Brussels:20260710T170000
DTSTAMP:20260424T135958
CREATED:20260407T120418Z
LAST-MODIFIED:20260415T135834Z
UID:10627083-1783684800-1783702800@zorggroep-orion.be
SUMMARY:Caféwerking Nautica
DESCRIPTION:Elke vrijdag (uitgezonderd vakanties) komen de leerlingen van Nautica ons café open houden.\nZin in iets lekkers? Kom genieten van een kom verse soep met brood of een lekker croque bereid door de leerlingen van Nautica. \nIedereen is welkom\, inschrijven is niet nodig!
URL:https://zorggroep-orion.be/activiteit/cafewerking-nautica-4/2026-07-10/
LOCATION:Dienstencentrum De Schoor\, Schorvoortstraat 53\, Turnhout\, 2300
CATEGORIES:Eten & Drinken
ATTACH;FMTTYPE=image/png:https://zorggroep-orion.be/wp-content/uploads/2025/12/NAUTICA.png
END:VEVENT
BEGIN:VEVENT
DTSTART;TZID=Europe/Brussels:20260717T120000
DTEND;TZID=Europe/Brussels:20260717T170000
DTSTAMP:20260424T135958
CREATED:20260407T120418Z
LAST-MODIFIED:20260415T135834Z
UID:10627084-1784289600-1784307600@zorggroep-orion.be
SUMMARY:Caféwerking Nautica
DESCRIPTION:Elke vrijdag (uitgezonderd vakanties) komen de leerlingen van Nautica ons café open houden.\nZin in iets lekkers? Kom genieten van een kom verse soep met brood of een lekker croque bereid door de leerlingen van Nautica. \nIedereen is welkom\, inschrijven is niet nodig!
URL:https://zorggroep-orion.be/activiteit/cafewerking-nautica-4/2026-07-17/
LOCATION:Dienstencentrum De Schoor\, Schorvoortstraat 53\, Turnhout\, 2300
CATEGORIES:Eten & Drinken
ATTACH;FMTTYPE=image/png:https://zorggroep-orion.be/wp-content/uploads/2025/12/NAUTICA.png
END:VEVENT
BEGIN:VEVENT
DTSTART;TZID=Europe/Brussels:20260724T120000
DTEND;TZID=Europe/Brussels:20260724T170000
DTSTAMP:20260424T135958
CREATED:20260407T120418Z
LAST-MODIFIED:20260415T135834Z
UID:10627085-1784894400-1784912400@zorggroep-orion.be
SUMMARY:Caféwerking Nautica
DESCRIPTION:Elke vrijdag (uitgezonderd vakanties) komen de leerlingen van Nautica ons café open houden.\nZin in iets lekkers? Kom genieten van een kom verse soep met brood of een lekker croque bereid door de leerlingen van Nautica. \nIedereen is welkom\, inschrijven is niet nodig!
URL:https://zorggroep-orion.be/activiteit/cafewerking-nautica-4/2026-07-24/
LOCATION:Dienstencentrum De Schoor\, Schorvoortstraat 53\, Turnhout\, 2300
CATEGORIES:Eten & Drinken
ATTACH;FMTTYPE=image/png:https://zorggroep-orion.be/wp-content/uploads/2025/12/NAUTICA.png
END:VEVENT
BEGIN:VEVENT
DTSTART;TZID=Europe/Brussels:20260731T120000
DTEND;TZID=Europe/Brussels:20260731T170000
DTSTAMP:20260424T135958
CREATED:20260407T120418Z
LAST-MODIFIED:20260415T135834Z
UID:10627086-1785499200-1785517200@zorggroep-orion.be
SUMMARY:Caféwerking Nautica
DESCRIPTION:Elke vrijdag (uitgezonderd vakanties) komen de leerlingen van Nautica ons café open houden.\nZin in iets lekkers? Kom genieten van een kom verse soep met brood of een lekker croque bereid door de leerlingen van Nautica. \nIedereen is welkom\, inschrijven is niet nodig!
URL:https://zorggroep-orion.be/activiteit/cafewerking-nautica-4/2026-07-31/
LOCATION:Dienstencentrum De Schoor\, Schorvoortstraat 53\, Turnhout\, 2300
CATEGORIES:Eten & Drinken
ATTACH;FMTTYPE=image/png:https://zorggroep-orion.be/wp-content/uploads/2025/12/NAUTICA.png
END:VEVENT
BEGIN:VEVENT
DTSTART;TZID=Europe/Brussels:20260807T120000
DTEND;TZID=Europe/Brussels:20260807T170000
DTSTAMP:20260424T135958
CREATED:20260407T120418Z
LAST-MODIFIED:20260415T135834Z
UID:10627087-1786104000-1786122000@zorggroep-orion.be
SUMMARY:Caféwerking Nautica
DESCRIPTION:Elke vrijdag (uitgezonderd vakanties) komen de leerlingen van Nautica ons café open houden.\nZin in iets lekkers? Kom genieten van een kom verse soep met brood of een lekker croque bereid door de leerlingen van Nautica. \nIedereen is welkom\, inschrijven is niet nodig!
URL:https://zorggroep-orion.be/activiteit/cafewerking-nautica-4/2026-08-07/
LOCATION:Dienstencentrum De Schoor\, Schorvoortstraat 53\, Turnhout\, 2300
CATEGORIES:Eten & Drinken
ATTACH;FMTTYPE=image/png:https://zorggroep-orion.be/wp-content/uploads/2025/12/NAUTICA.png
END:VEVENT
BEGIN:VEVENT
DTSTART;TZID=Europe/Brussels:20260814T120000
DTEND;TZID=Europe/Brussels:20260814T170000
DTSTAMP:20260424T135958
CREATED:20260407T120418Z
LAST-MODIFIED:20260415T135834Z
UID:10627088-1786708800-1786726800@zorggroep-orion.be
SUMMARY:Caféwerking Nautica
DESCRIPTION:Elke vrijdag (uitgezonderd vakanties) komen de leerlingen van Nautica ons café open houden.\nZin in iets lekkers? Kom genieten van een kom verse soep met brood of een lekker croque bereid door de leerlingen van Nautica. \nIedereen is welkom\, inschrijven is niet nodig!
URL:https://zorggroep-orion.be/activiteit/cafewerking-nautica-4/2026-08-14/
LOCATION:Dienstencentrum De Schoor\, Schorvoortstraat 53\, Turnhout\, 2300
CATEGORIES:Eten & Drinken
ATTACH;FMTTYPE=image/png:https://zorggroep-orion.be/wp-content/uploads/2025/12/NAUTICA.png
END:VEVENT
BEGIN:VEVENT
DTSTART;TZID=Europe/Brussels:20260821T120000
DTEND;TZID=Europe/Brussels:20260821T170000
DTSTAMP:20260424T135958
CREATED:20260407T120418Z
LAST-MODIFIED:20260415T135834Z
UID:10627089-1787313600-1787331600@zorggroep-orion.be
SUMMARY:Caféwerking Nautica
DESCRIPTION:Elke vrijdag (uitgezonderd vakanties) komen de leerlingen van Nautica ons café open houden.\nZin in iets lekkers? Kom genieten van een kom verse soep met brood of een lekker croque bereid door de leerlingen van Nautica. \nIedereen is welkom\, inschrijven is niet nodig!
URL:https://zorggroep-orion.be/activiteit/cafewerking-nautica-4/2026-08-21/
LOCATION:Dienstencentrum De Schoor\, Schorvoortstraat 53\, Turnhout\, 2300
CATEGORIES:Eten & Drinken
ATTACH;FMTTYPE=image/png:https://zorggroep-orion.be/wp-content/uploads/2025/12/NAUTICA.png
END:VEVENT
BEGIN:VEVENT
DTSTART;TZID=Europe/Brussels:20260828T120000
DTEND;TZID=Europe/Brussels:20260828T170000
DTSTAMP:20260424T135958
CREATED:20260407T120418Z
LAST-MODIFIED:20260415T135834Z
UID:10627090-1787918400-1787936400@zorggroep-orion.be
SUMMARY:Caféwerking Nautica
DESCRIPTION:Elke vrijdag (uitgezonderd vakanties) komen de leerlingen van Nautica ons café open houden.\nZin in iets lekkers? Kom genieten van een kom verse soep met brood of een lekker croque bereid door de leerlingen van Nautica. \nIedereen is welkom\, inschrijven is niet nodig!
URL:https://zorggroep-orion.be/activiteit/cafewerking-nautica-4/2026-08-28/
LOCATION:Dienstencentrum De Schoor\, Schorvoortstraat 53\, Turnhout\, 2300
CATEGORIES:Eten & Drinken
ATTACH;FMTTYPE=image/png:https://zorggroep-orion.be/wp-content/uploads/2025/12/NAUTICA.png
END:VEVENT
BEGIN:VEVENT
DTSTART;TZID=Europe/Brussels:20260904T120000
DTEND;TZID=Europe/Brussels:20260904T170000
DTSTAMP:20260424T135958
CREATED:20260407T120418Z
LAST-MODIFIED:20260415T135834Z
UID:10627091-1788523200-1788541200@zorggroep-orion.be
SUMMARY:Caféwerking Nautica
DESCRIPTION:Elke vrijdag (uitgezonderd vakanties) komen de leerlingen van Nautica ons café open houden.\nZin in iets lekkers? Kom genieten van een kom verse soep met brood of een lekker croque bereid door de leerlingen van Nautica. \nIedereen is welkom\, inschrijven is niet nodig!
URL:https://zorggroep-orion.be/activiteit/cafewerking-nautica-4/2026-09-04/
LOCATION:Dienstencentrum De Schoor\, Schorvoortstraat 53\, Turnhout\, 2300
CATEGORIES:Eten & Drinken
ATTACH;FMTTYPE=image/png:https://zorggroep-orion.be/wp-content/uploads/2025/12/NAUTICA.png
END:VEVENT
BEGIN:VEVENT
DTSTART;TZID=Europe/Brussels:20260911T120000
DTEND;TZID=Europe/Brussels:20260911T170000
DTSTAMP:20260424T135958
CREATED:20260407T120418Z
LAST-MODIFIED:20260415T135834Z
UID:10627092-1789128000-1789146000@zorggroep-orion.be
SUMMARY:Caféwerking Nautica
DESCRIPTION:Elke vrijdag (uitgezonderd vakanties) komen de leerlingen van Nautica ons café open houden.\nZin in iets lekkers? Kom genieten van een kom verse soep met brood of een lekker croque bereid door de leerlingen van Nautica. \nIedereen is welkom\, inschrijven is niet nodig!
URL:https://zorggroep-orion.be/activiteit/cafewerking-nautica-4/2026-09-11/
LOCATION:Dienstencentrum De Schoor\, Schorvoortstraat 53\, Turnhout\, 2300
CATEGORIES:Eten & Drinken
ATTACH;FMTTYPE=image/png:https://zorggroep-orion.be/wp-content/uploads/2025/12/NAUTICA.png
END:VEVENT
BEGIN:VEVENT
DTSTART;TZID=Europe/Brussels:20260918T120000
DTEND;TZID=Europe/Brussels:20260918T170000
DTSTAMP:20260424T135958
CREATED:20260407T120418Z
LAST-MODIFIED:20260415T135834Z
UID:10627093-1789732800-1789750800@zorggroep-orion.be
SUMMARY:Caféwerking Nautica
DESCRIPTION:Elke vrijdag (uitgezonderd vakanties) komen de leerlingen van Nautica ons café open houden.\nZin in iets lekkers? Kom genieten van een kom verse soep met brood of een lekker croque bereid door de leerlingen van Nautica. \nIedereen is welkom\, inschrijven is niet nodig!
URL:https://zorggroep-orion.be/activiteit/cafewerking-nautica-4/2026-09-18/
LOCATION:Dienstencentrum De Schoor\, Schorvoortstraat 53\, Turnhout\, 2300
CATEGORIES:Eten & Drinken
ATTACH;FMTTYPE=image/png:https://zorggroep-orion.be/wp-content/uploads/2025/12/NAUTICA.png
END:VEVENT
BEGIN:VEVENT
DTSTART;TZID=Europe/Brussels:20260925T120000
DTEND;TZID=Europe/Brussels:20260925T170000
DTSTAMP:20260424T135958
CREATED:20260407T120418Z
LAST-MODIFIED:20260415T135834Z
UID:10627094-1790337600-1790355600@zorggroep-orion.be
SUMMARY:Caféwerking Nautica
DESCRIPTION:Elke vrijdag (uitgezonderd vakanties) komen de leerlingen van Nautica ons café open houden.\nZin in iets lekkers? Kom genieten van een kom verse soep met brood of een lekker croque bereid door de leerlingen van Nautica. \nIedereen is welkom\, inschrijven is niet nodig!
URL:https://zorggroep-orion.be/activiteit/cafewerking-nautica-4/2026-09-25/
LOCATION:Dienstencentrum De Schoor\, Schorvoortstraat 53\, Turnhout\, 2300
CATEGORIES:Eten & Drinken
ATTACH;FMTTYPE=image/png:https://zorggroep-orion.be/wp-content/uploads/2025/12/NAUTICA.png
END:VEVENT
BEGIN:VEVENT
DTSTART;TZID=Europe/Brussels:20261002T120000
DTEND;TZID=Europe/Brussels:20261002T170000
DTSTAMP:20260424T135958
CREATED:20260407T120418Z
LAST-MODIFIED:20260415T135834Z
UID:10627095-1790942400-1790960400@zorggroep-orion.be
SUMMARY:Caféwerking Nautica
DESCRIPTION:Elke vrijdag (uitgezonderd vakanties) komen de leerlingen van Nautica ons café open houden.\nZin in iets lekkers? Kom genieten van een kom verse soep met brood of een lekker croque bereid door de leerlingen van Nautica. \nIedereen is welkom\, inschrijven is niet nodig!
URL:https://zorggroep-orion.be/activiteit/cafewerking-nautica-4/2026-10-02/
LOCATION:Dienstencentrum De Schoor\, Schorvoortstraat 53\, Turnhout\, 2300
CATEGORIES:Eten & Drinken
ATTACH;FMTTYPE=image/png:https://zorggroep-orion.be/wp-content/uploads/2025/12/NAUTICA.png
END:VEVENT
BEGIN:VEVENT
DTSTART;TZID=Europe/Brussels:20261009T120000
DTEND;TZID=Europe/Brussels:20261009T170000
DTSTAMP:20260424T135958
CREATED:20260407T120418Z
LAST-MODIFIED:20260415T135834Z
UID:10627096-1791547200-1791565200@zorggroep-orion.be
SUMMARY:Caféwerking Nautica
DESCRIPTION:Elke vrijdag (uitgezonderd vakanties) komen de leerlingen van Nautica ons café open houden.\nZin in iets lekkers? Kom genieten van een kom verse soep met brood of een lekker croque bereid door de leerlingen van Nautica. \nIedereen is welkom\, inschrijven is niet nodig!
URL:https://zorggroep-orion.be/activiteit/cafewerking-nautica-4/2026-10-09/
LOCATION:Dienstencentrum De Schoor\, Schorvoortstraat 53\, Turnhout\, 2300
CATEGORIES:Eten & Drinken
ATTACH;FMTTYPE=image/png:https://zorggroep-orion.be/wp-content/uploads/2025/12/NAUTICA.png
END:VEVENT
BEGIN:VEVENT
DTSTART;TZID=Europe/Brussels:20261016T120000
DTEND;TZID=Europe/Brussels:20261016T170000
DTSTAMP:20260424T135958
CREATED:20260407T120418Z
LAST-MODIFIED:20260415T135834Z
UID:10627097-1792152000-1792170000@zorggroep-orion.be
SUMMARY:Caféwerking Nautica
DESCRIPTION:Elke vrijdag (uitgezonderd vakanties) komen de leerlingen van Nautica ons café open houden.\nZin in iets lekkers? Kom genieten van een kom verse soep met brood of een lekker croque bereid door de leerlingen van Nautica. \nIedereen is welkom\, inschrijven is niet nodig!
URL:https://zorggroep-orion.be/activiteit/cafewerking-nautica-4/2026-10-16/
LOCATION:Dienstencentrum De Schoor\, Schorvoortstraat 53\, Turnhout\, 2300
CATEGORIES:Eten & Drinken
ATTACH;FMTTYPE=image/png:https://zorggroep-orion.be/wp-content/uploads/2025/12/NAUTICA.png
END:VEVENT
BEGIN:VEVENT
DTSTART;TZID=Europe/Brussels:20261023T120000
DTEND;TZID=Europe/Brussels:20261023T170000
DTSTAMP:20260424T135958
CREATED:20260407T120418Z
LAST-MODIFIED:20260415T135834Z
UID:10627098-1792756800-1792774800@zorggroep-orion.be
SUMMARY:Caféwerking Nautica
DESCRIPTION:Elke vrijdag (uitgezonderd vakanties) komen de leerlingen van Nautica ons café open houden.\nZin in iets lekkers? Kom genieten van een kom verse soep met brood of een lekker croque bereid door de leerlingen van Nautica. \nIedereen is welkom\, inschrijven is niet nodig!
URL:https://zorggroep-orion.be/activiteit/cafewerking-nautica-4/2026-10-23/
LOCATION:Dienstencentrum De Schoor\, Schorvoortstraat 53\, Turnhout\, 2300
CATEGORIES:Eten & Drinken
ATTACH;FMTTYPE=image/png:https://zorggroep-orion.be/wp-content/uploads/2025/12/NAUTICA.png
END:VEVENT
BEGIN:VEVENT
DTSTART;TZID=Europe/Brussels:20261030T120000
DTEND;TZID=Europe/Brussels:20261030T170000
DTSTAMP:20260424T135958
CREATED:20260407T120418Z
LAST-MODIFIED:20260415T135834Z
UID:10627099-1793361600-1793379600@zorggroep-orion.be
SUMMARY:Caféwerking Nautica
DESCRIPTION:Elke vrijdag (uitgezonderd vakanties) komen de leerlingen van Nautica ons café open houden.\nZin in iets lekkers? Kom genieten van een kom verse soep met brood of een lekker croque bereid door de leerlingen van Nautica. \nIedereen is welkom\, inschrijven is niet nodig!
URL:https://zorggroep-orion.be/activiteit/cafewerking-nautica-4/2026-10-30/
LOCATION:Dienstencentrum De Schoor\, Schorvoortstraat 53\, Turnhout\, 2300
CATEGORIES:Eten & Drinken
ATTACH;FMTTYPE=image/png:https://zorggroep-orion.be/wp-content/uploads/2025/12/NAUTICA.png
END:VEVENT
BEGIN:VEVENT
DTSTART;TZID=Europe/Brussels:20261106T120000
DTEND;TZID=Europe/Brussels:20261106T170000
DTSTAMP:20260424T135958
CREATED:20260407T120418Z
LAST-MODIFIED:20260415T135834Z
UID:10627100-1793966400-1793984400@zorggroep-orion.be
SUMMARY:Caféwerking Nautica
DESCRIPTION:Elke vrijdag (uitgezonderd vakanties) komen de leerlingen van Nautica ons café open houden.\nZin in iets lekkers? Kom genieten van een kom verse soep met brood of een lekker croque bereid door de leerlingen van Nautica. \nIedereen is welkom\, inschrijven is niet nodig!
URL:https://zorggroep-orion.be/activiteit/cafewerking-nautica-4/2026-11-06/
LOCATION:Dienstencentrum De Schoor\, Schorvoortstraat 53\, Turnhout\, 2300
CATEGORIES:Eten & Drinken
ATTACH;FMTTYPE=image/png:https://zorggroep-orion.be/wp-content/uploads/2025/12/NAUTICA.png
END:VEVENT
BEGIN:VEVENT
DTSTART;TZID=Europe/Brussels:20261113T120000
DTEND;TZID=Europe/Brussels:20261113T170000
DTSTAMP:20260424T135958
CREATED:20260407T120418Z
LAST-MODIFIED:20260415T135834Z
UID:10627101-1794571200-1794589200@zorggroep-orion.be
SUMMARY:Caféwerking Nautica
DESCRIPTION:Elke vrijdag (uitgezonderd vakanties) komen de leerlingen van Nautica ons café open houden.\nZin in iets lekkers? Kom genieten van een kom verse soep met brood of een lekker croque bereid door de leerlingen van Nautica. \nIedereen is welkom\, inschrijven is niet nodig!
URL:https://zorggroep-orion.be/activiteit/cafewerking-nautica-4/2026-11-13/
LOCATION:Dienstencentrum De Schoor\, Schorvoortstraat 53\, Turnhout\, 2300
CATEGORIES:Eten & Drinken
ATTACH;FMTTYPE=image/png:https://zorggroep-orion.be/wp-content/uploads/2025/12/NAUTICA.png
END:VEVENT
BEGIN:VEVENT
DTSTART;TZID=Europe/Brussels:20261120T120000
DTEND;TZID=Europe/Brussels:20261120T170000
DTSTAMP:20260424T135958
CREATED:20260407T120418Z
LAST-MODIFIED:20260415T135834Z
UID:10627102-1795176000-1795194000@zorggroep-orion.be
SUMMARY:Caféwerking Nautica
DESCRIPTION:Elke vrijdag (uitgezonderd vakanties) komen de leerlingen van Nautica ons café open houden.\nZin in iets lekkers? Kom genieten van een kom verse soep met brood of een lekker croque bereid door de leerlingen van Nautica. \nIedereen is welkom\, inschrijven is niet nodig!
URL:https://zorggroep-orion.be/activiteit/cafewerking-nautica-4/2026-11-20/
LOCATION:Dienstencentrum De Schoor\, Schorvoortstraat 53\, Turnhout\, 2300
CATEGORIES:Eten & Drinken
ATTACH;FMTTYPE=image/png:https://zorggroep-orion.be/wp-content/uploads/2025/12/NAUTICA.png
END:VEVENT
BEGIN:VEVENT
DTSTART;TZID=Europe/Brussels:20261127T120000
DTEND;TZID=Europe/Brussels:20261127T170000
DTSTAMP:20260424T135958
CREATED:20260407T120418Z
LAST-MODIFIED:20260415T135834Z
UID:10627103-1795780800-1795798800@zorggroep-orion.be
SUMMARY:Caféwerking Nautica
DESCRIPTION:Elke vrijdag (uitgezonderd vakanties) komen de leerlingen van Nautica ons café open houden.\nZin in iets lekkers? Kom genieten van een kom verse soep met brood of een lekker croque bereid door de leerlingen van Nautica. \nIedereen is welkom\, inschrijven is niet nodig!
URL:https://zorggroep-orion.be/activiteit/cafewerking-nautica-4/2026-11-27/
LOCATION:Dienstencentrum De Schoor\, Schorvoortstraat 53\, Turnhout\, 2300
CATEGORIES:Eten & Drinken
ATTACH;FMTTYPE=image/png:https://zorggroep-orion.be/wp-content/uploads/2025/12/NAUTICA.png
END:VEVENT
BEGIN:VEVENT
DTSTART;TZID=Europe/Brussels:20261204T120000
DTEND;TZID=Europe/Brussels:20261204T170000
DTSTAMP:20260424T135958
CREATED:20260407T120418Z
LAST-MODIFIED:20260415T135834Z
UID:10627104-1796385600-1796403600@zorggroep-orion.be
SUMMARY:Caféwerking Nautica
DESCRIPTION:Elke vrijdag (uitgezonderd vakanties) komen de leerlingen van Nautica ons café open houden.\nZin in iets lekkers? Kom genieten van een kom verse soep met brood of een lekker croque bereid door de leerlingen van Nautica. \nIedereen is welkom\, inschrijven is niet nodig!
URL:https://zorggroep-orion.be/activiteit/cafewerking-nautica-4/2026-12-04/
LOCATION:Dienstencentrum De Schoor\, Schorvoortstraat 53\, Turnhout\, 2300
CATEGORIES:Eten & Drinken
ATTACH;FMTTYPE=image/png:https://zorggroep-orion.be/wp-content/uploads/2025/12/NAUTICA.png
END:VEVENT
END:VCALENDAR