BEGIN:VCALENDAR
VERSION:2.0
PRODID:-//Zorggroep Orion - ECPv6.15.17.1//NONSGML v1.0//EN
CALSCALE:GREGORIAN
METHOD:PUBLISH
X-WR-CALNAME:Zorggroep Orion
X-ORIGINAL-URL:https://zorggroep-orion.be
X-WR-CALDESC:Evenementen voor Zorggroep Orion
REFRESH-INTERVAL;VALUE=DURATION:PT1H
X-Robots-Tag:noindex
X-PUBLISHED-TTL:PT1H
BEGIN:VTIMEZONE
TZID:Europe/Brussels
BEGIN:DAYLIGHT
TZOFFSETFROM:+0100
TZOFFSETTO:+0200
TZNAME:CEST
DTSTART:20250330T010000
END:DAYLIGHT
BEGIN:STANDARD
TZOFFSETFROM:+0200
TZOFFSETTO:+0100
TZNAME:CET
DTSTART:20251026T010000
END:STANDARD
BEGIN:DAYLIGHT
TZOFFSETFROM:+0100
TZOFFSETTO:+0200
TZNAME:CEST
DTSTART:20260329T010000
END:DAYLIGHT
BEGIN:STANDARD
TZOFFSETFROM:+0200
TZOFFSETTO:+0100
TZNAME:CET
DTSTART:20261025T010000
END:STANDARD
BEGIN:DAYLIGHT
TZOFFSETFROM:+0100
TZOFFSETTO:+0200
TZNAME:CEST
DTSTART:20270328T010000
END:DAYLIGHT
BEGIN:STANDARD
TZOFFSETFROM:+0200
TZOFFSETTO:+0100
TZNAME:CET
DTSTART:20271031T010000
END:STANDARD
END:VTIMEZONE
BEGIN:VEVENT
DTSTART;TZID=Europe/Brussels:20260427T140000
DTEND;TZID=Europe/Brussels:20260427T160000
DTSTAMP:20260424T145131
CREATED:20260210T094058Z
LAST-MODIFIED:20260310T195819Z
UID:10626423-1777298400-1777305600@zorggroep-orion.be
SUMMARY:TAALLESSEN ENGELS @ Albert
DESCRIPTION:Wil je graag Engels leren\, maar weet je niet waar te beginnen? \nJe kan elke les aansluiten bij deze groep. \nIn deze lessenreeks met begeleidster Marie-Claire: \n“EEN REIS DOOR DE ENGELSE TAAL” voor beginners. \n\nHier leer je stap voor stap de basis van de Engelse taal. We werken aan spreken\, luisteren\, lezen en eenvoudige grammatica\, in een rustige en toegankelijke sfeer. \n\n📅 Iedere maandag namiddag nog t.e.m. 11 mei \nNiet tijdens de Paasvakantie \n📍 Locatie: LDC ALBERT VAN DYCK \n⏰ Duur: 14 tot 15.30 u \nmet aansluitend koffie tot 16 u \nGeen voorkennis nodig. Iedereen is welkom! \n 
URL:https://zorggroep-orion.be/activiteit/taallessen-engels-albert/2026-04-27/
LOCATION:Dienstencentrum Albert Van Dyck\, Albert Van Dyckstraat 10\, Turnhout\, Antwerpen\, 2300\, Belgium
CATEGORIES:Leren
ATTACH;FMTTYPE=image/png:https://zorggroep-orion.be/wp-content/uploads/2026/02/03-ENGELSE-LES-LDC-AVD.png
END:VEVENT
BEGIN:VEVENT
DTSTART;TZID=Europe/Brussels:20260504T140000
DTEND;TZID=Europe/Brussels:20260504T160000
DTSTAMP:20260424T145131
CREATED:20260210T094058Z
LAST-MODIFIED:20260310T195819Z
UID:10626424-1777903200-1777910400@zorggroep-orion.be
SUMMARY:TAALLESSEN ENGELS @ Albert
DESCRIPTION:Wil je graag Engels leren\, maar weet je niet waar te beginnen? \nJe kan elke les aansluiten bij deze groep. \nIn deze lessenreeks met begeleidster Marie-Claire: \n“EEN REIS DOOR DE ENGELSE TAAL” voor beginners. \n\nHier leer je stap voor stap de basis van de Engelse taal. We werken aan spreken\, luisteren\, lezen en eenvoudige grammatica\, in een rustige en toegankelijke sfeer. \n\n📅 Iedere maandag namiddag nog t.e.m. 11 mei \nNiet tijdens de Paasvakantie \n📍 Locatie: LDC ALBERT VAN DYCK \n⏰ Duur: 14 tot 15.30 u \nmet aansluitend koffie tot 16 u \nGeen voorkennis nodig. Iedereen is welkom! \n 
URL:https://zorggroep-orion.be/activiteit/taallessen-engels-albert/2026-05-04/
LOCATION:Dienstencentrum Albert Van Dyck\, Albert Van Dyckstraat 10\, Turnhout\, Antwerpen\, 2300\, Belgium
CATEGORIES:Leren
ATTACH;FMTTYPE=image/png:https://zorggroep-orion.be/wp-content/uploads/2026/02/03-ENGELSE-LES-LDC-AVD.png
END:VEVENT
BEGIN:VEVENT
DTSTART;TZID=Europe/Brussels:20260511T140000
DTEND;TZID=Europe/Brussels:20260511T160000
DTSTAMP:20260424T145131
CREATED:20260210T094058Z
LAST-MODIFIED:20260310T195819Z
UID:10626425-1778508000-1778515200@zorggroep-orion.be
SUMMARY:TAALLESSEN ENGELS @ Albert
DESCRIPTION:Wil je graag Engels leren\, maar weet je niet waar te beginnen? \nJe kan elke les aansluiten bij deze groep. \nIn deze lessenreeks met begeleidster Marie-Claire: \n“EEN REIS DOOR DE ENGELSE TAAL” voor beginners. \n\nHier leer je stap voor stap de basis van de Engelse taal. We werken aan spreken\, luisteren\, lezen en eenvoudige grammatica\, in een rustige en toegankelijke sfeer. \n\n📅 Iedere maandag namiddag nog t.e.m. 11 mei \nNiet tijdens de Paasvakantie \n📍 Locatie: LDC ALBERT VAN DYCK \n⏰ Duur: 14 tot 15.30 u \nmet aansluitend koffie tot 16 u \nGeen voorkennis nodig. Iedereen is welkom! \n 
URL:https://zorggroep-orion.be/activiteit/taallessen-engels-albert/2026-05-11/
LOCATION:Dienstencentrum Albert Van Dyck\, Albert Van Dyckstraat 10\, Turnhout\, Antwerpen\, 2300\, Belgium
CATEGORIES:Leren
ATTACH;FMTTYPE=image/png:https://zorggroep-orion.be/wp-content/uploads/2026/02/03-ENGELSE-LES-LDC-AVD.png
END:VEVENT
END:VCALENDAR