BEGIN:VCALENDAR
VERSION:2.0
PRODID:-//Zorggroep Orion - ECPv6.15.17.1//NONSGML v1.0//EN
CALSCALE:GREGORIAN
METHOD:PUBLISH
X-ORIGINAL-URL:https://zorggroep-orion.be
X-WR-CALDESC:Evenementen voor Zorggroep Orion
REFRESH-INTERVAL;VALUE=DURATION:PT1H
X-Robots-Tag:noindex
X-PUBLISHED-TTL:PT1H
BEGIN:VTIMEZONE
TZID:Europe/Brussels
BEGIN:DAYLIGHT
TZOFFSETFROM:+0100
TZOFFSETTO:+0200
TZNAME:CEST
DTSTART:20220327T010000
END:DAYLIGHT
BEGIN:STANDARD
TZOFFSETFROM:+0200
TZOFFSETTO:+0100
TZNAME:CET
DTSTART:20221030T010000
END:STANDARD
BEGIN:DAYLIGHT
TZOFFSETFROM:+0100
TZOFFSETTO:+0200
TZNAME:CEST
DTSTART:20230326T010000
END:DAYLIGHT
BEGIN:STANDARD
TZOFFSETFROM:+0200
TZOFFSETTO:+0100
TZNAME:CET
DTSTART:20231029T010000
END:STANDARD
BEGIN:DAYLIGHT
TZOFFSETFROM:+0100
TZOFFSETTO:+0200
TZNAME:CEST
DTSTART:20240331T010000
END:DAYLIGHT
BEGIN:STANDARD
TZOFFSETFROM:+0200
TZOFFSETTO:+0100
TZNAME:CET
DTSTART:20241027T010000
END:STANDARD
BEGIN:DAYLIGHT
TZOFFSETFROM:+0100
TZOFFSETTO:+0200
TZNAME:CEST
DTSTART:20250330T010000
END:DAYLIGHT
BEGIN:STANDARD
TZOFFSETFROM:+0200
TZOFFSETTO:+0100
TZNAME:CET
DTSTART:20251026T010000
END:STANDARD
BEGIN:DAYLIGHT
TZOFFSETFROM:+0100
TZOFFSETTO:+0200
TZNAME:CEST
DTSTART:20260329T010000
END:DAYLIGHT
BEGIN:STANDARD
TZOFFSETFROM:+0200
TZOFFSETTO:+0100
TZNAME:CET
DTSTART:20261025T010000
END:STANDARD
BEGIN:DAYLIGHT
TZOFFSETFROM:+0100
TZOFFSETTO:+0200
TZNAME:CEST
DTSTART:20270328T010000
END:DAYLIGHT
BEGIN:STANDARD
TZOFFSETFROM:+0200
TZOFFSETTO:+0100
TZNAME:CET
DTSTART:20271031T010000
END:STANDARD
END:VTIMEZONE
BEGIN:VEVENT
DTSTART;TZID=Europe/Brussels:20260101T113000
DTEND;TZID=Europe/Brussels:20260101T170000
DTSTAMP:20260424T163411
CREATED:20251217T154027Z
LAST-MODIFIED:20251226T160210Z
UID:10620431-1767267000-1767286800@zorggroep-orion.be
SUMMARY:NIEUWJAAR @ Albert
DESCRIPTION:Vanuit ons centrum een zéér GELUKKIG NIEUWJAAR\, veel liefde en vooral een goede gezondheid. Laten we samen klinken en er weer een super fijn jaar van maken! \nCafetaria open vanaf 11.30 u – Hartelijk Welkom! \nKantoren gesloten 
URL:https://zorggroep-orion.be/activiteit/nieuwjaar-albert-2/
LOCATION:Dienstencentrum Albert Van Dyck\, Albert Van Dyckstraat 10\, Turnhout\, Antwerpen\, 2300\, Belgium
CATEGORIES:Goed om weten
ATTACH;FMTTYPE=image/jpeg:https://zorggroep-orion.be/wp-content/uploads/2025/12/LDC-AVD-1-JAN-2026-1.jpg
END:VEVENT
BEGIN:VEVENT
DTSTART;TZID=Europe/Brussels:20240129T163000
DTEND;TZID=Europe/Brussels:20240129T190000
DTSTAMP:20260424T163411
CREATED:20231220T142320Z
LAST-MODIFIED:20231223T161232Z
UID:10607565-1706545800-1706554800@zorggroep-orion.be
SUMMARY:SMULACTIVITEIT KONIJN @ Albert
DESCRIPTION:Ja hoor\, u leest het goed! Bij Albert Van Dyck zetten we het jaar lekker wild in en gaan we op jacht! Konijn met pruimen op ons menu\,  laatste maandagavond tijdens onze smulactiviteit. \nKonijnen met pruimen\, duo van stampot (knolselder en zoete aardappel)\, tuinkers. \nGelieve vooraf in te schrijven\, vanaf 3 jan. 2024 en smullen maar\, uiteraard in goed gezelschap!   \nHartelijk Welkom.
URL:https://zorggroep-orion.be/activiteit/smulactiviteit-konijn-albert/
LOCATION:Dienstencentrum Albert Van Dyck\, Albert Van Dyckstraat 10\, Turnhout\, Antwerpen\, 2300\, Belgium
CATEGORIES:Eten & Drinken
ATTACH;FMTTYPE=image/png:https://zorggroep-orion.be/wp-content/uploads/2023/12/smul-LDC-AVD-01-2024.png
END:VEVENT
BEGIN:VEVENT
DTSTART;TZID=Europe/Brussels:20240125T140000
DTEND;TZID=Europe/Brussels:20240125T160000
DTSTAMP:20260424T163411
CREATED:20231220T103855Z
LAST-MODIFIED:20231220T110843Z
UID:10608435-1706191200-1706198400@zorggroep-orion.be
SUMMARY:KOFFIE EN PAPIEREN @ Albert
DESCRIPTION:Ben je onzeker bij het invullen van een formulier? Begrijp je een brief niet? Wil je hulp bij een telefoon naar een dienst? …\nTijdens koffie & papieren zijn we er om je op weg te helpen. \nDit is gratis. Je moet geen afspraak maken\, kom gewoon langs.\nDe koffie staat klaar!
URL:https://zorggroep-orion.be/activiteit/koffie-en-papieren-albert-3/
LOCATION:Dienstencentrum Albert Van Dyck\, Albert Van Dyckstraat 10\, Turnhout\, Antwerpen\, 2300\, Belgium
CATEGORIES:Dienstverlening
ATTACH;FMTTYPE=image/png:https://zorggroep-orion.be/wp-content/uploads/2023/09/koffie-en-papieren-2023-okt.png
END:VEVENT
BEGIN:VEVENT
DTSTART;TZID=Europe/Brussels:20240123T140000
DTEND;TZID=Europe/Brussels:20240123T163000
DTSTAMP:20260424T163411
CREATED:20220630T105643Z
LAST-MODIFIED:20231220T102234Z
UID:10305493-1706018400-1706027400@zorggroep-orion.be
SUMMARY:WORKSHOP JUWELEN @ Albert
DESCRIPTION:In deze workshop leer je in een mum van tijd hoe je een prachtig brillen-koordje of een nieuw juweeltje maakt van oude of nieuwe pareltjes. Laat je verleiden door de schittering van parels\, kom gezellig langs in ons centrum.  Prijs afhankelijk van de gebruikte materialen. Allen hartelijk welkom!
URL:https://zorggroep-orion.be/activiteit/juwelen-makenalbert/
LOCATION:Dienstencentrum Albert Van Dyck\, Albert Van Dyckstraat 10\, Turnhout\, Antwerpen\, 2300\, Belgium
CATEGORIES:Workshop
ATTACH;FMTTYPE=image/png:https://zorggroep-orion.be/wp-content/uploads/2022/06/worksch.-brillenkoordjes-LDC-AVD.png
END:VEVENT
BEGIN:VEVENT
DTSTART;TZID=Europe/Brussels:20240120T170000
DTEND;TZID=Europe/Brussels:20240120T210000
DTSTAMP:20260424T163411
CREATED:20231220T202027Z
LAST-MODIFIED:20240115T152643Z
UID:10608440-1705770000-1705784400@zorggroep-orion.be
SUMMARY:Turnhout by Night
DESCRIPTION:Zaterdag 20 januari 2024 staat er een nieuwe editie van Turnhout by Night klaar. Ontdek Turnhout tijdens deze belevingsvolle winterwandeling. \nTijdens een route van negen kilometer word je getrakteerd op animatie en verlichting. Je wandelt langs plaatsen of door locaties die anders niet of minder gemakkelijk toegankelijk zijn. Over de gehele route zijn er voldoende stopplaatsen voorzien voor een hapje of een drankje. Ook bij De Wissel kan je komen genieten van een drankje. \nPraktisch  \nAfstand: \n9 kilometer \nVertrek en aankomst: \n\nVooraf ingeschreven: je kunt eender waar op de route starten\nDe dag zelf ingeschreven: vertrekken kan vanaf 17 uur vanuit:\n\nToerisme & UiT – Grote Markt 44\nde Warande – Warandestraat 42\n\n\n\nStarturen: tussen 17 en 21 uur \nDeelnameprijs: \n\nvoorverkoop: 2 euro\naan de kassa: 5 euro\nkinderen -12 jaar: gratis
URL:https://zorggroep-orion.be/activiteit/turnhout-by-night-2/
LOCATION:Dienstencentrum Albert Van Dyck\, Albert Van Dyckstraat 10\, Turnhout\, Antwerpen\, 2300\, Belgium
CATEGORIES:Bewegen
ATTACH;FMTTYPE=image/png:https://zorggroep-orion.be/wp-content/uploads/2023/12/Turnhout-by-Night.png
END:VEVENT
BEGIN:VEVENT
DTSTART;TZID=Europe/Brussels:20240116T140000
DTEND;TZID=Europe/Brussels:20240116T170000
DTSTAMP:20260424T163411
CREATED:20231220T100050Z
LAST-MODIFIED:20231220T100050Z
UID:10608428-1705413600-1705424400@zorggroep-orion.be
SUMMARY:DANSEN EN SJANSEN in 't Café met Rene @ Albert
DESCRIPTION:2- Maandelijks op dinsdagnamiddag: Gezellig tafelen\, dansen en sjansen in ons Café met Rene\, onze eigen huis DJ! Hier wil je toch ook bij zijn? Deze maand: ‘GOLDEN OLDIES’!  \nVolledig vrijblijvend toegang voor jong en oud\, zeg het voort\, zeg het voort zodat iedereen het hoort – YOU ‘RE THE ONE I NEED ……. ! Hartelijk welkom.  \n  \n 
URL:https://zorggroep-orion.be/activiteit/dansen-en-sjansen-in-t-cafe-met-rene-albert-2/
LOCATION:Dienstencentrum Albert Van Dyck\, Albert Van Dyckstraat 10\, Turnhout\, Antwerpen\, 2300\, Belgium
CATEGORIES:Muziek
ATTACH;FMTTYPE=image/png:https://zorggroep-orion.be/wp-content/uploads/2023/12/dansen-en-sjansen-2024.png
END:VEVENT
BEGIN:VEVENT
DTSTART;TZID=Europe/Brussels:20240115T093000
DTEND;TZID=Europe/Brussels:20240115T123000
DTSTAMP:20260424T163411
CREATED:20231220T094659Z
LAST-MODIFIED:20231220T094659Z
UID:10607905-1705311000-1705321800@zorggroep-orion.be
SUMMARY:KOKEN @ Albert
DESCRIPTION:Workshop koken – Met een groepje van max. 12 personen\,  tovert Christine telkens weer iets lekkers op jullie bord. Dit alles samen met jullie\, in goed gezelschap en een leuke groepsdynamiek\, genieten we van al het lekkers.  Maandelijks een nieuw aanbod op het programma:  Smullen van Seizoensgroenten’ \nOpgelet: Inschrijven vanaf woe. 3 JAN 2023 -9u / € 8 pp. \nHartelijk welkom in de keuken van Christine! \n 
URL:https://zorggroep-orion.be/activiteit/koken-albert-3/
LOCATION:Dienstencentrum Albert Van Dyck\, Albert Van Dyckstraat 10\, Turnhout\, Antwerpen\, 2300\, Belgium
CATEGORIES:Workshop
ATTACH;FMTTYPE=image/png:https://zorggroep-orion.be/wp-content/uploads/2023/12/KOKEN-JAN-2024.png
END:VEVENT
BEGIN:VEVENT
DTSTART;TZID=Europe/Brussels:20240109T093000
DTEND;TZID=Europe/Brussels:20240109T150000
DTSTAMP:20260424T163411
CREATED:20231213T143521Z
LAST-MODIFIED:20231213T143521Z
UID:10607903-1704792600-1704812400@zorggroep-orion.be
SUMMARY:DECOREREN @ Albert
DESCRIPTION:Helaas weer tijd om de kerstbomen op te bergen. Maar niet getreurd\, van ’t ene festijn naar ’t andere\, Valentijn. Wij maken ons alvast klaar om jullie veel warmte\, liefde en gezelligheid te bieden. Kom gerust een handje toesteken. Wij zorgen alvast voor de koffie.
URL:https://zorggroep-orion.be/activiteit/decoreren-albert/
LOCATION:Dienstencentrum Albert Van Dyck\, Albert Van Dyckstraat 10\, Turnhout\, Antwerpen\, 2300\, Belgium
CATEGORIES:Recreatie
ATTACH;FMTTYPE=image/png:https://zorggroep-orion.be/wp-content/uploads/2023/12/LDC-AVD-VALENTIJN-.png
END:VEVENT
BEGIN:VEVENT
DTSTART;TZID=Europe/Brussels:20240108T163000
DTEND;TZID=Europe/Brussels:20240108T163000
DTSTAMP:20260424T163411
CREATED:20231122T084738Z
LAST-MODIFIED:20231122T085116Z
UID:10607575-1704731400-1704731400@zorggroep-orion.be
SUMMARY:VERLOREN MAANDAG @ Albert
DESCRIPTION:De maandag na drie koningen laten wij niet onopgemerkt voorbij gaan. Wij serveren Worstenbrood en/of appelbollen in ons restaurant\, uiteraard na inschrijving kan ook jij mee genieten van deze lekkernij.  Wij doen ’t hier gewoon en jouw oven blijft lekker schoon! Aanschuiven zou ik zeggen\, maak uw keuze bij inschrijving\, max. 2 stuks per persoon. Inschrijven bezig vanaf  18 dec. 2023 ! \nOnline inschrijven kan je HIER
URL:https://zorggroep-orion.be/activiteit/verloren-maandag-albert-2/
LOCATION:Dienstencentrum Albert Van Dyck\, Albert Van Dyckstraat 10\, Turnhout\, Antwerpen\, 2300\, Belgium
CATEGORIES:Feest
ATTACH;FMTTYPE=image/png:https://zorggroep-orion.be/wp-content/uploads/2023/11/Kopie-van-act202401-verloren-maandag.png
END:VEVENT
BEGIN:VEVENT
DTSTART;TZID=Europe/Brussels:20240103T080000
DTEND;TZID=Europe/Brussels:20240103T170000
DTSTAMP:20260424T163411
CREATED:20231213T145608Z
LAST-MODIFIED:20231220T132413Z
UID:10607906-1704268800-1704301200@zorggroep-orion.be
SUMMARY:NIEUWJAARS - verwen KOFFIE @ Albert
DESCRIPTION:Heb jij al de kans gehad het Nieuwe Jaar goed in te zetten? Niet getreurd\, kom er gezellig bij en geniet van ne lekkere verwen koffie à democratische prijs in ons cafetaria. Onze vrijwilligers ontvangen jullie met open armen en samen omarmen we het Nieuwe Jaar! Hartelijk welkom.
URL:https://zorggroep-orion.be/activiteit/nieuwjaars-verwen-koffie-albert/
LOCATION:Dienstencentrum Albert Van Dyck\, Albert Van Dyckstraat 10\, Turnhout\, Antwerpen\, 2300\, Belgium
CATEGORIES:Feest
ATTACH;FMTTYPE=image/png:https://zorggroep-orion.be/wp-content/uploads/2023/12/LDC-AVD-VERWEN-KOFFIE-JAN-2024.png
END:VEVENT
BEGIN:VEVENT
DTSTART;TZID=Europe/Brussels:20240101T090000
DTEND;TZID=Europe/Brussels:20240101T170000
DTSTAMP:20260424T163411
CREATED:20231220T150327Z
LAST-MODIFIED:20231220T150441Z
UID:10608439-1704099600-1704128400@zorggroep-orion.be
SUMMARY:NIEUWJAAR @ Albert
DESCRIPTION:Vanuit ons centrum een zéér GELUKKIG NIEUWJAAR\, veel liefde en vooral een goede gezondheid. Laten we samen klinken en er weer een super fijn jaar van maken! \nCafetaria open vanaf 11.30 u – Hartelijk Welkom! \nKantoren gesloten 
URL:https://zorggroep-orion.be/activiteit/nieuwjaar-albert/
LOCATION:Dienstencentrum Albert Van Dyck\, Albert Van Dyckstraat 10\, Turnhout\, Antwerpen\, 2300\, Belgium
CATEGORIES:Goed om weten
ATTACH;FMTTYPE=image/png:https://zorggroep-orion.be/wp-content/uploads/2023/12/Kopie-van-FILM-LDC-AVD-01-2024.png
END:VEVENT
BEGIN:VEVENT
DTSTART;TZID=Europe/Brussels:20231218T090000
DTEND;TZID=Europe/Brussels:20231218T090000
DTSTAMP:20260424T163411
CREATED:20231121T154730Z
LAST-MODIFIED:20231122T084537Z
UID:10607574-1702890000-1702890000@zorggroep-orion.be
SUMMARY:VANAF VANDAAG ENKEL INSCHRIJVINGEN - VERLOREN MAANDAG @ Albert
DESCRIPTION:De maandag na drie koningen – 8 JAN. 2024\, laten wij niet onopgemerkt voorbij gaan. Wij serveren Worstenbrood en/of appelbollen in ons restaurant\, uiteraard na inschrijving kan ook jij mee genieten van deze lekkernij.  Wij doen ’t hier gewoon en jouw oven blijft lekker schoon! Aanschuiven zou ik zeggen\, maak uw keuze bij inschrijving\, max. 2 stuks per persoon. Inschrijven vanaf  18 dec. 2023 ! \nOnline inschrijven kan je HIER
URL:https://zorggroep-orion.be/activiteit/verloren-maandag-albert/
LOCATION:Dienstencentrum Albert Van Dyck\, Albert Van Dyckstraat 10\, Turnhout\, Antwerpen\, 2300\, Belgium
CATEGORIES:Eten & Drinken
ATTACH;FMTTYPE=image/png:https://zorggroep-orion.be/wp-content/uploads/2023/11/Kopie-van-act202401-verloren-maandag.png
END:VEVENT
END:VCALENDAR