BEGIN:VCALENDAR
VERSION:2.0
PRODID:-//Zorggroep Orion - ECPv6.15.17.1//NONSGML v1.0//EN
CALSCALE:GREGORIAN
METHOD:PUBLISH
X-ORIGINAL-URL:https://zorggroep-orion.be
X-WR-CALDESC:Evenementen voor Zorggroep Orion
REFRESH-INTERVAL;VALUE=DURATION:PT1H
X-Robots-Tag:noindex
X-PUBLISHED-TTL:PT1H
BEGIN:VTIMEZONE
TZID:Europe/Brussels
BEGIN:DAYLIGHT
TZOFFSETFROM:+0100
TZOFFSETTO:+0200
TZNAME:CEST
DTSTART:20230326T010000
END:DAYLIGHT
BEGIN:STANDARD
TZOFFSETFROM:+0200
TZOFFSETTO:+0100
TZNAME:CET
DTSTART:20231029T010000
END:STANDARD
BEGIN:DAYLIGHT
TZOFFSETFROM:+0100
TZOFFSETTO:+0200
TZNAME:CEST
DTSTART:20240331T010000
END:DAYLIGHT
BEGIN:STANDARD
TZOFFSETFROM:+0200
TZOFFSETTO:+0100
TZNAME:CET
DTSTART:20241027T010000
END:STANDARD
BEGIN:DAYLIGHT
TZOFFSETFROM:+0100
TZOFFSETTO:+0200
TZNAME:CEST
DTSTART:20250330T010000
END:DAYLIGHT
BEGIN:STANDARD
TZOFFSETFROM:+0200
TZOFFSETTO:+0100
TZNAME:CET
DTSTART:20251026T010000
END:STANDARD
END:VTIMEZONE
BEGIN:VEVENT
DTSTART;TZID=Europe/Brussels:20240430T193000
DTEND;TZID=Europe/Brussels:20240430T210000
DTSTAMP:20260425T133916
CREATED:20240323T190114Z
LAST-MODIFIED:20240323T190114Z
UID:10608734-1714505400-1714510800@zorggroep-orion.be
SUMMARY:PC DEMENTIE @ Albert
DESCRIPTION:Praatcafé dementie met als thema: Tips rond vrije tijd en dagbesteding! \nGastspreker: Liesbeth Van Eynde van Tandem VZW. \nHier geven we tips en handvaten en luisteren naar ideeën van elkaar. \nLocatie: DE WISSEL Dr. Nandpeetersstraat 33
URL:https://zorggroep-orion.be/activiteit/pc-dementie-albert/
LOCATION:Dienstencentrum Albert Van Dyck\, Albert Van Dyckstraat 10\, Turnhout\, Antwerpen\, 2300\, Belgium
CATEGORIES:Infosessie
ATTACH;FMTTYPE=image/png:https://zorggroep-orion.be/wp-content/uploads/2024/01/PC-DEMENTIE-LDC-AVD-01-2024.png
END:VEVENT
BEGIN:VEVENT
DTSTART;TZID=Europe/Brussels:20240429T163000
DTEND;TZID=Europe/Brussels:20240429T163000
DTSTAMP:20260425T133916
CREATED:20240320T072533Z
LAST-MODIFIED:20240320T072547Z
UID:10608617-1714408200-1714408200@zorggroep-orion.be
SUMMARY:SMULACTIVITEIT @ Albert
DESCRIPTION:Ja hoor\, u leest het goed – Aspergetijd bij Albert Van Dyck! \nDeze maand een heerlijke pastaschotel: \n\nTagliatelle met GROENE ASPERGES\nKruidenroomsausje\nGedroogde ham en Parmezaanse kaas\n\nGelieve vooraf in te schrijven\, vanaf 2 april 2024 vanaf 9 u en smullen maar\, uiteraard in goed gezelschap!   \nHartelijk Welkom.
URL:https://zorggroep-orion.be/activiteit/smulactiviteit-albert-2/
LOCATION:Dienstencentrum Albert Van Dyck\, Albert Van Dyckstraat 10\, Turnhout\, Antwerpen\, 2300\, Belgium
CATEGORIES:Eten & Drinken
ATTACH;FMTTYPE=image/png:https://zorggroep-orion.be/wp-content/uploads/2024/03/Kopie-van-act202404-paaslunch.png
END:VEVENT
BEGIN:VEVENT
DTSTART;TZID=Europe/Brussels:20240426T133000
DTEND;TZID=Europe/Brussels:20240426T163000
DTSTAMP:20260425T133916
CREATED:20240220T151957Z
LAST-MODIFIED:20240320T071603Z
UID:10608576-1714138200-1714149000@zorggroep-orion.be
SUMMARY:INLOOPHUIS DEMENTIE Turnhout
DESCRIPTION:Het inloophuis is een informatiepunt en een ontmoetingsplaats voor mensen met (jong)dementie en hun familie\, mensen die hen ondersteunen en/of verzorgen. Er zijn steeds zorgprofessionals en vrijwilligers aanwezig. Zij luisteren naar ieders verhaal.\n\n\n\nNood aan een luisterend oor? Informatie nodig? Hopeloos verdwaald in het zorgaanbod? Of wil je gewoon even praten met lotgenoten? Kom dan zeker langs! Vanaf 13.30 uur staan onze deuren wagenwijd open voor iedereen!\n\n\n\nHet inloophuis is elke laatste vrijdag van de maand geopend van 13.30 tot 16.30 uur.\n\n\n\nDit is een gezamenlijk initiatief van Alzheimer Liga Vlaanderen\, Zorggroep Orion\, AZ Turnhout\, Expertisecentrum Dementie Tandem en Stad Turnhout.
URL:https://zorggroep-orion.be/activiteit/inloophuis-dementie-turnhout-5/
LOCATION:Dienstencentrum Albert Van Dyck\, Albert Van Dyckstraat 10\, Turnhout\, Antwerpen\, 2300\, Belgium
CATEGORIES:Dienstverlening
ATTACH;FMTTYPE=image/png:https://zorggroep-orion.be/wp-content/uploads/2024/02/INLOOPHUIS-DEMENTIE-LDC-AVD-2024.png
END:VEVENT
BEGIN:VEVENT
DTSTART;TZID=Europe/Brussels:20240422T140000
DTEND;TZID=Europe/Brussels:20240422T160000
DTSTAMP:20260425T133916
CREATED:20240320T092537Z
LAST-MODIFIED:20240320T092537Z
UID:10608629-1713794400-1713801600@zorggroep-orion.be
SUMMARY:KOFFIE EN PAPIEREN @ De Wissel
DESCRIPTION:OPGELET – Vanaf heden in De Wissel. \nBen je onzeker bij het invullen van een formulier? Begrijp je een brief niet? Wil je hulp bij een telefoon naar een dienst? … Tijdens koffie & papieren zijn we er om je op weg te helpen. \nDit is gratis. Je moet geen afspraak maken\, kom gewoon langs.\nDe koffie staat klaar!
URL:https://zorggroep-orion.be/activiteit/koffie-en-papieren-de-wissel/
LOCATION:Dienstencentrum De Wissel\, Dokter Nand Peetersstraat 33\, Turnhout\, Antwerpen\, 2300\, Belgium
CATEGORIES:Dienstverlening
ATTACH;FMTTYPE=image/png:https://zorggroep-orion.be/wp-content/uploads/2023/09/koffie-en-papieren-2023-okt.png
END:VEVENT
BEGIN:VEVENT
DTSTART;TZID=Europe/Brussels:20240418T190000
DTEND;TZID=Europe/Brussels:20240418T211500
DTSTAMP:20260425T133916
CREATED:20240320T083808Z
LAST-MODIFIED:20240320T091716Z
UID:10608627-1713466800-1713474900@zorggroep-orion.be
SUMMARY:MANTELZORGCAFE @ LDC's
DESCRIPTION:Lezing over: ERFENISRECHT door Frédéric Depauw\, zaakvoerder van Taxfré en specialist in successieplanning en erfenisrecht. \n\n19 u onthaal\n19.15 u uiteenzetting\n20.30 u pauze\n20.45 u vragen staat vrij\n\nLOCATIE \n\nDIENSTENCENTRUM BEERSE\nLDC de Ontmoeting\nBoudewijnstraat 4\n2340 Beerse\n\nInschrijven onthaal.dienstencentrum@beerse.be of op het nummer: 014 60 05 40 
URL:https://zorggroep-orion.be/activiteit/mantelzorgcafe-ldcs/
LOCATION:Dienstencentrum Albert Van Dyck\, Albert Van Dyckstraat 10\, Turnhout\, Antwerpen\, 2300\, Belgium
CATEGORIES:Infosessie
ATTACH;FMTTYPE=image/png:https://zorggroep-orion.be/wp-content/uploads/2024/03/act202404-paaslunch-1.png
END:VEVENT
BEGIN:VEVENT
DTSTART;TZID=Europe/Brussels:20240416T140000
DTEND;TZID=Europe/Brussels:20240416T170000
DTSTAMP:20260425T133916
CREATED:20240323T191351Z
LAST-MODIFIED:20240323T191351Z
UID:10608735-1713276000-1713286800@zorggroep-orion.be
SUMMARY:Workshop LAVENDELZAKJES MAKEN @ Albert
DESCRIPTION:Ben jij ook een beetje creatief? Geniet dan mee van deze Workshop met Christine. We maken lavendelzakjes van katoen! Hiermee halen we meteen de Provence in huis. \nInschrijven vanaf 2 april – 9 u. Hartelijk welkom.
URL:https://zorggroep-orion.be/activiteit/workshop-lavendelzakjes-maken-albert/
LOCATION:Dienstencentrum Albert Van Dyck\, Albert Van Dyckstraat 10\, Turnhout\, Antwerpen\, 2300\, Belgium
CATEGORIES:Workshop
ATTACH;FMTTYPE=image/jpeg:https://zorggroep-orion.be/wp-content/uploads/2024/03/LAVENDELZAKJES.jpg
END:VEVENT
BEGIN:VEVENT
DTSTART;TZID=Europe/Brussels:20240415T093000
DTEND;TZID=Europe/Brussels:20240415T123000
DTSTAMP:20260425T133916
CREATED:20240320T074118Z
LAST-MODIFIED:20240320T074118Z
UID:10608623-1713173400-1713184200@zorggroep-orion.be
SUMMARY:KOKEN @ Albert
DESCRIPTION:Workshop koken – Met een groepje van max. 12 personen zorgt Christine voor een heerlijk gerecht. Dit alles samen met jullie\, in goed gezelschap en een leuke groepsdynamiek\, genieten we en steken vooral veel op van deze workshop.  Maandelijks een nieuw aanbod op het programma. Deze maand in/ HELEMAAL IN CHOC (Chocolade). \nOpgelet: Inschrijven vanaf de eerste werkdag van de maand -9u / € 8 pp. \nHartelijk welkom in de keuken van Christine! \n 
URL:https://zorggroep-orion.be/activiteit/koken-albert/
LOCATION:Dienstencentrum Albert Van Dyck\, Albert Van Dyckstraat 10\, Turnhout\, Antwerpen\, 2300\, Belgium
CATEGORIES:Workshop
ATTACH;FMTTYPE=image/png:https://zorggroep-orion.be/wp-content/uploads/2024/03/Kopie-van-act202404-paaslunch-1.png
END:VEVENT
BEGIN:VEVENT
DTSTART;TZID=Europe/Brussels:20240403T140000
DTEND;TZID=Europe/Brussels:20240403T170000
DTSTAMP:20260425T133916
CREATED:20240320T075012Z
LAST-MODIFIED:20240321T202741Z
UID:10608624-1712152800-1712163600@zorggroep-orion.be
SUMMARY:HERMAN EN DENISE @ Albert
DESCRIPTION:VIJGEN NA PASEN BAL met HERMAN EN DENISE. Haal die dansschoenen weer uit de kast. Speciaal voor jou en je gezelschap hebben wij een uniek optreden van dit gekende duo\, niemand minder dan Herman aan zijn keyboard en zang door zijn vrouwtje Denise. Gegarandeerd beleven jullie een amusante namiddag.  \nMet zijn allen daarheen …. Hartelijk welkom in ons centrum. \n 
URL:https://zorggroep-orion.be/activiteit/herman-en-denise-albert/
LOCATION:Dienstencentrum Albert Van Dyck\, Albert Van Dyckstraat 10\, Turnhout\, Antwerpen\, 2300\, Belgium
CATEGORIES:Recreatie
ATTACH;FMTTYPE=image/png:https://zorggroep-orion.be/wp-content/uploads/2024/03/act202404-paaslunch.png
END:VEVENT
BEGIN:VEVENT
DTSTART;VALUE=DATE:20240401
DTEND;VALUE=DATE:20240402
DTSTAMP:20260425T133916
CREATED:20240323T201436Z
LAST-MODIFIED:20240323T201436Z
UID:10608737-1711929600-1712015999@zorggroep-orion.be
SUMMARY:PAASMAANDAG @ Albert
DESCRIPTION:Kantoren gesloten! \nCafetaria open 11.30 u – 17 u \nRestaurant open 12 u – 13.30u \nHartelijk welkom!
URL:https://zorggroep-orion.be/activiteit/paasmaandag-albert/
LOCATION:Dienstencentrum Albert Van Dyck\, Albert Van Dyckstraat 10\, Turnhout\, Antwerpen\, 2300\, Belgium
CATEGORIES:Dienstverlening
ATTACH;FMTTYPE=image/png:https://zorggroep-orion.be/wp-content/uploads/2024/03/WE-ARE-OPEN-LDC-AVD-2024.png
END:VEVENT
END:VCALENDAR