BEGIN:VCALENDAR
VERSION:2.0
PRODID:-//Zorggroep Orion - ECPv6.15.17.1//NONSGML v1.0//EN
CALSCALE:GREGORIAN
METHOD:PUBLISH
X-ORIGINAL-URL:https://zorggroep-orion.be
X-WR-CALDESC:Evenementen voor Zorggroep Orion
REFRESH-INTERVAL;VALUE=DURATION:PT1H
X-Robots-Tag:noindex
X-PUBLISHED-TTL:PT1H
BEGIN:VTIMEZONE
TZID:Europe/Brussels
BEGIN:DAYLIGHT
TZOFFSETFROM:+0100
TZOFFSETTO:+0200
TZNAME:CEST
DTSTART:20230326T010000
END:DAYLIGHT
BEGIN:STANDARD
TZOFFSETFROM:+0200
TZOFFSETTO:+0100
TZNAME:CET
DTSTART:20231029T010000
END:STANDARD
BEGIN:DAYLIGHT
TZOFFSETFROM:+0100
TZOFFSETTO:+0200
TZNAME:CEST
DTSTART:20240331T010000
END:DAYLIGHT
BEGIN:STANDARD
TZOFFSETFROM:+0200
TZOFFSETTO:+0100
TZNAME:CET
DTSTART:20241027T010000
END:STANDARD
BEGIN:DAYLIGHT
TZOFFSETFROM:+0100
TZOFFSETTO:+0200
TZNAME:CEST
DTSTART:20250330T010000
END:DAYLIGHT
BEGIN:STANDARD
TZOFFSETFROM:+0200
TZOFFSETTO:+0100
TZNAME:CET
DTSTART:20251026T010000
END:STANDARD
END:VTIMEZONE
BEGIN:VEVENT
DTSTART;TZID=Europe/Brussels:20240531T133000
DTEND;TZID=Europe/Brussels:20240531T163000
DTSTAMP:20260425T184414
CREATED:20240422T102129Z
LAST-MODIFIED:20240422T102129Z
UID:10608771-1717162200-1717173000@zorggroep-orion.be
SUMMARY:INLOOPHUIS DEMENTIE Turnhout
DESCRIPTION:Het inloophuis is een informatiepunt en een ontmoetingsplaats voor mensen met (jong)dementie en hun familie\, mensen die hen ondersteunen en/of verzorgen. Er zijn steeds zorgprofessionals en vrijwilligers aanwezig. Zij luisteren naar ieders verhaal.\n\n\n\nNood aan een luisterend oor? Informatie nodig? Hopeloos verdwaald in het zorgaanbod? Of wil je gewoon even praten met lotgenoten? Kom dan zeker langs! Vanaf 13.30 uur staan onze deuren wagenwijd open voor iedereen!\n\n\n\nHet inloophuis is elke laatste vrijdag van de maand geopend van 13.30 tot 16.30 uur.\n\n\n\nDit is een gezamenlijk initiatief van Alzheimer Liga Vlaanderen\, Zorggroep Orion\, AZ Turnhout\, Expertisecentrum Dementie Tandem en Stad Turnhout.
URL:https://zorggroep-orion.be/activiteit/inloophuis-dementie-turnhout/
LOCATION:Dienstencentrum Albert Van Dyck\, Albert Van Dyckstraat 10\, Turnhout\, Antwerpen\, 2300\, Belgium
CATEGORIES:Dienstverlening
ATTACH;FMTTYPE=image/png:https://zorggroep-orion.be/wp-content/uploads/2024/04/inloophuis-dementie.png
END:VEVENT
BEGIN:VEVENT
DTSTART;VALUE=DATE:20240531
DTEND;VALUE=DATE:20240601
DTSTAMP:20260425T184414
CREATED:20240423T143917Z
LAST-MODIFIED:20240423T143917Z
UID:10608815-1717113600-1717199999@zorggroep-orion.be
SUMMARY:FOTOZOEKTOCHT DAG VAN DE BUREN @ Albert
DESCRIPTION:Doe jij ook mee aan onze mini-fotozoektocht rond en om ons centrum? \nHaal je formulier uit onze krant of hieronder op bijgevoegde link. Ingevulde formulieren kan je binnenbrengen in ons cafetaria\, in ruil hiervan krijg je de juiste antwoorden en uiteraard je inzet wordt beloond met een lekkernij! Op deze manier krijg je contact met je buren\, vrienden en/of familie en beleven jullie alvast een amusante voor- of namiddag. \nHartelijk welkom in ons centrum en veel plezier! \nLDC AVD FOTOZOEKTOCHT MEI 2024
URL:https://zorggroep-orion.be/activiteit/fotozoektocht-dag-van-de-buren-albert/
LOCATION:Dienstencentrum Albert Van Dyck\, Albert Van Dyckstraat 10\, Turnhout\, Antwerpen\, 2300\, Belgium
CATEGORIES:Recreatie
ATTACH;FMTTYPE=image/png:https://zorggroep-orion.be/wp-content/uploads/2024/04/Dag-van-de-Buren-LDC-AVD-2024-1.png
END:VEVENT
BEGIN:VEVENT
DTSTART;TZID=Europe/Brussels:20240527T163000
DTEND;TZID=Europe/Brussels:20240527T163000
DTSTAMP:20260425T184414
CREATED:20240422T114539Z
LAST-MODIFIED:20240422T115134Z
UID:10608773-1716827400-1716827400@zorggroep-orion.be
SUMMARY:SMULACTIVITEIT GEITENKAAS @ Albert
DESCRIPTION:Ja hoor\, u leest het goed – Geitenkaas bij Albert Van Dyck! (alternatief ook mogelijk) \nOp het menu: Slaatje met spinazie\, sinaasappel frisse dressing en Geitenkaasje in bladerdeeg. \nAlternatief: Geitenkaas kan vervangen worden door kruidige kippenreepjes. \nDit alles met Brood en boter! \nGelieve vooraf in te schrijven\, vanaf dond. 2 mei 2024 vanaf 9 u en smullen maar\, uiteraard in goed gezelschap!   \nHartelijk Welkom.
URL:https://zorggroep-orion.be/activiteit/smulactiviteit-geitenkaas-albert/
LOCATION:Dienstencentrum Albert Van Dyck\, Albert Van Dyckstraat 10\, Turnhout\, Antwerpen\, 2300\, Belgium
CATEGORIES:Eten & Drinken
ATTACH;FMTTYPE=image/png:https://zorggroep-orion.be/wp-content/uploads/2024/04/smul.-05-2024.png
END:VEVENT
BEGIN:VEVENT
DTSTART;TZID=Europe/Brussels:20240521T140000
DTEND;TZID=Europe/Brussels:20240521T160000
DTSTAMP:20260425T184414
CREATED:20240422T115559Z
LAST-MODIFIED:20240422T115820Z
UID:10608774-1716300000-1716307200@zorggroep-orion.be
SUMMARY:KOFFIE EN PAPIEREN @ Albert
DESCRIPTION:Ben je onzeker bij het invullen van een formulier? Begrijp je een brief niet? Wil je hulp bij een telefoon naar een dienst? …\nTijdens koffie & papieren zijn we er om je op weg te helpen. \nDit is gratis. Je moet geen afspraak maken\, kom gewoon langs.\nDe koffie staat klaar!
URL:https://zorggroep-orion.be/activiteit/koffie-en-papieren-albert/
LOCATION:Dienstencentrum Albert Van Dyck\, Albert Van Dyckstraat 10\, Turnhout\, Antwerpen\, 2300\, Belgium
CATEGORIES:Dienstverlening
ATTACH;FMTTYPE=image/png:https://zorggroep-orion.be/wp-content/uploads/2023/09/koffie-en-papieren-2023-okt.png
END:VEVENT
BEGIN:VEVENT
DTSTART;TZID=Europe/Brussels:20240516T100000
DTEND;TZID=Europe/Brussels:20240516T120000
DTSTAMP:20260425T184414
CREATED:20240418T085400Z
LAST-MODIFIED:20240423T080256Z
UID:10608755-1715853600-1715860800@zorggroep-orion.be
SUMMARY:THEEKRANSJE @ Albert
DESCRIPTION:Hou jij ook van Marokkaanse thee? Deze voormiddag hebben we een gezellig samenzijn met Mouna en Hanane.           2 Marokkaanse vrouwen die jullie verwennen met thee en uiteraard aangepaste koekjes. En niet onbelangrijk: volledig gratis. Hartelijk welkom in ons centrum dit onder het motto: #verbindenenontmoeten #gezelligsamenzijn #vragenstaatvrij \n 
URL:https://zorggroep-orion.be/activiteit/theekransje-albert/
LOCATION:Dienstencentrum Albert Van Dyck\, Albert Van Dyckstraat 10\, Turnhout\, Antwerpen\, 2300\, Belgium
CATEGORIES:Eten & Drinken
ATTACH;FMTTYPE=image/png:https://zorggroep-orion.be/wp-content/uploads/2024/04/theekransje-LDC-AVD.png
END:VEVENT
BEGIN:VEVENT
DTSTART;TZID=Europe/Brussels:20240513T093000
DTEND;TZID=Europe/Brussels:20240513T123000
DTSTAMP:20260425T184414
CREATED:20240417T133950Z
LAST-MODIFIED:20240417T133950Z
UID:10608749-1715592600-1715603400@zorggroep-orion.be
SUMMARY:KOKEN @ Albert
DESCRIPTION:Workshop koken – Met een groepje van max. 12 personen zorgt Christine voor een heerlijk gerecht. Dit alles samen met jullie\, in goed gezelschap en een leuke groepsdynamiek\, genieten we en steken vooral veel op van deze workshop.  Maandelijks een nieuw aanbod op het programma. Deze maand: ASPERGES op het menu. \nOpgelet: Inschrijven vanaf de eerste werkdag van de maand -9u / € 8 pp. \nHartelijk welkom in de keuken van Christine! \n 
URL:https://zorggroep-orion.be/activiteit/koken-albert-6/
LOCATION:Dienstencentrum Albert Van Dyck\, Albert Van Dyckstraat 10\, Turnhout\, Antwerpen\, 2300\, Belgium
CATEGORIES:Workshop
ATTACH;FMTTYPE=image/png:https://zorggroep-orion.be/wp-content/uploads/2024/04/ASPERGES-LDC-AVD.png
END:VEVENT
BEGIN:VEVENT
DTSTART;VALUE=DATE:20240501
DTEND;VALUE=DATE:20240502
DTSTAMP:20260425T184414
CREATED:20240417T135509Z
LAST-MODIFIED:20240424T142752Z
UID:10608753-1714521600-1714607999@zorggroep-orion.be
SUMMARY:DAG VAN DE ARBEID @ Albert
DESCRIPTION:CAFETARIA OPEN VANAF 11.30 U – De koffie staat klaar! \nRESTAURANT VAN 12 -13.30 U – Smakelijk eten! \nKantoren gesloten!
URL:https://zorggroep-orion.be/activiteit/dag-van-de-arbeid-albert-van-dyck/
LOCATION:Dienstencentrum Albert Van Dyck\, Albert Van Dyckstraat 10\, Turnhout\, Antwerpen\, 2300\, Belgium
CATEGORIES:Goed om weten
ATTACH;FMTTYPE=image/png:https://zorggroep-orion.be/wp-content/uploads/2024/04/open-op-woe-2024.png
END:VEVENT
END:VCALENDAR