BEGIN:VCALENDAR
VERSION:2.0
PRODID:-//Zorggroep Orion - ECPv6.15.17.1//NONSGML v1.0//EN
CALSCALE:GREGORIAN
METHOD:PUBLISH
X-ORIGINAL-URL:https://zorggroep-orion.be
X-WR-CALDESC:Evenementen voor Zorggroep Orion
REFRESH-INTERVAL;VALUE=DURATION:PT1H
X-Robots-Tag:noindex
X-PUBLISHED-TTL:PT1H
BEGIN:VTIMEZONE
TZID:Europe/Brussels
BEGIN:DAYLIGHT
TZOFFSETFROM:+0100
TZOFFSETTO:+0200
TZNAME:CEST
DTSTART:20230326T010000
END:DAYLIGHT
BEGIN:STANDARD
TZOFFSETFROM:+0200
TZOFFSETTO:+0100
TZNAME:CET
DTSTART:20231029T010000
END:STANDARD
BEGIN:DAYLIGHT
TZOFFSETFROM:+0100
TZOFFSETTO:+0200
TZNAME:CEST
DTSTART:20240331T010000
END:DAYLIGHT
BEGIN:STANDARD
TZOFFSETFROM:+0200
TZOFFSETTO:+0100
TZNAME:CET
DTSTART:20241027T010000
END:STANDARD
BEGIN:DAYLIGHT
TZOFFSETFROM:+0100
TZOFFSETTO:+0200
TZNAME:CEST
DTSTART:20250330T010000
END:DAYLIGHT
BEGIN:STANDARD
TZOFFSETFROM:+0200
TZOFFSETTO:+0100
TZNAME:CET
DTSTART:20251026T010000
END:STANDARD
END:VTIMEZONE
BEGIN:VEVENT
DTSTART;TZID=Europe/Brussels:20240829T143000
DTEND;TZID=Europe/Brussels:20240829T170000
DTSTAMP:20260425T210715
CREATED:20240717T072133Z
LAST-MODIFIED:20240717T072133Z
UID:10609761-1724941800-1724950800@zorggroep-orion.be
SUMMARY:Dansen en Sjansen met MARTINE EN JORIS @ Albert
DESCRIPTION:Haal die dansschoenen uit de kast. Het einde van de vakantie vieren we met zang en dans door MARTINE EN JORIS! Speciaal voor jullie en je gezelschap zorgen zij ‘met een beetje chance voor ne namiddag ambiance’! \nMet zijn allen daarheen …. Hartelijk welkom in ons centrum. \n€ 5 Inkom. \n 
URL:https://zorggroep-orion.be/activiteit/dansen-en-sjansen-met-martine-en-joris-albert/
LOCATION:Dienstencentrum Albert Van Dyck\, Albert Van Dyckstraat 10\, Turnhout\, Antwerpen\, 2300\, Belgium
CATEGORIES:Feest
ATTACH;FMTTYPE=image/png:https://zorggroep-orion.be/wp-content/uploads/2024/07/MARTINE-EN-JORIS-LDC-AVD-2024.png
END:VEVENT
BEGIN:VEVENT
DTSTART;TZID=Europe/Brussels:20240826T163000
DTEND;TZID=Europe/Brussels:20240826T163000
DTSTAMP:20260425T210715
CREATED:20240717T092231Z
LAST-MODIFIED:20240717T092936Z
UID:10609764-1724689800-1724689800@zorggroep-orion.be
SUMMARY:SMULACTIVITEIT ITALIAANSE PASTA's @ Albert
DESCRIPTION: Schuif mee aan en geniet van een gezellige Italiaanse avond!  \nPrijs incl.: Spaghetti Bolognaise of Pasta Pesto met kip en tomaatjes! Brood\, boter en kaas.  \nPraktisch: \n\nInschrijven kan vanaf maandag donderdag 1  augustus 2024\nSchrijf je in via Albert Van Dyck: 014 28 40 70 of albertvandyck@zorggroep-orion.be\nMails zijn pas definitief na bevestiging!
URL:https://zorggroep-orion.be/activiteit/smulactiviteit-italiaanse-pastas-albert/
LOCATION:Dienstencentrum Albert Van Dyck\, Albert Van Dyckstraat 10\, Turnhout\, Antwerpen\, 2300\, Belgium
CATEGORIES:Feest
ATTACH;FMTTYPE=image/png:https://zorggroep-orion.be/wp-content/uploads/2024/07/SMUL-PASTAs-LDC-AVD-AUG-2024.png
END:VEVENT
BEGIN:VEVENT
DTSTART;TZID=Europe/Brussels:20240822T151500
DTEND;TZID=Europe/Brussels:20240822T151500
DTSTAMP:20260425T210715
CREATED:20240717T100848Z
LAST-MODIFIED:20240717T120135Z
UID:10609767-1724339700-1724339700@zorggroep-orion.be
SUMMARY:IJSKAR JORIS @ Albert
DESCRIPTION:Deze zomer op het plein – IJSKAR JORIS. Heerlijk roomijs met verse hoevemelk. \n22 AUG – 19 SEPT \nTelkens vanaf 15.15 u kunnen jullie aanschuiven in de rij\, laat het smaken. \nOns cafetaria is open van 9 – 17 u.
URL:https://zorggroep-orion.be/activiteit/ijkar-joris-albert-2/
LOCATION:Dienstencentrum Albert Van Dyck\, Albert Van Dyckstraat 10\, Turnhout\, Antwerpen\, 2300\, Belgium
CATEGORIES:Eten & Drinken
ATTACH;FMTTYPE=image/png:https://zorggroep-orion.be/wp-content/uploads/2024/06/IJSKAR-JORIS-LDC-AVD-JULI-2024-1.png
END:VEVENT
BEGIN:VEVENT
DTSTART;TZID=Europe/Brussels:20240815T090000
DTEND;TZID=Europe/Brussels:20240815T090000
DTSTAMP:20260425T210715
CREATED:20240717T124851Z
LAST-MODIFIED:20240801T093151Z
UID:10609770-1723712400-1723712400@zorggroep-orion.be
SUMMARY:MOEDERDAG ONTBIJT @ Albert
DESCRIPTION:Nodig jij je moeder\, grootmoeder of zelfs je overgrootmoeder uit? \nNiets is toch mooier om dan samen genieten van een heerlijk ontbijt\, geserveerd door onze lieftallige vrijwilligers van dienst! \nInschrijven vanaf 1 augustus 2024. \n#samengezelligtafelen #wijzorgenvoorelkaar
URL:https://zorggroep-orion.be/activiteit/moederdag-ontbijt-albert/
LOCATION:Dienstencentrum Albert Van Dyck\, Albert Van Dyckstraat 10\, Turnhout\, Antwerpen\, 2300\, Belgium
CATEGORIES:Feest
ATTACH;FMTTYPE=image/jpeg:https://zorggroep-orion.be/wp-content/uploads/2024/02/act202403-ontbijt.jpg
END:VEVENT
BEGIN:VEVENT
DTSTART;VALUE=DATE:20240815
DTEND;VALUE=DATE:20240816
DTSTAMP:20260425T210715
CREATED:20240717T125207Z
LAST-MODIFIED:20240717T125207Z
UID:10609771-1723680000-1723766399@zorggroep-orion.be
SUMMARY:O.L.V. TENHEMELOPNEMING @ Albert
DESCRIPTION:Cafetaria open vanaf 11.30 u. \nRestaurant open vanaf 12 u. \nKantoren gesloten!
URL:https://zorggroep-orion.be/activiteit/o-l-v-tenhemelopneming-albert/
LOCATION:Dienstencentrum Albert Van Dyck\, Albert Van Dyckstraat 10\, Turnhout\, Antwerpen\, 2300\, Belgium
CATEGORIES:Goed om weten
ATTACH;FMTTYPE=image/png:https://zorggroep-orion.be/wp-content/uploads/2024/05/open-op-dond.-2024.png
END:VEVENT
BEGIN:VEVENT
DTSTART;TZID=Europe/Brussels:20240812T093000
DTEND;TZID=Europe/Brussels:20240812T123000
DTSTAMP:20260425T210715
CREATED:20240717T093931Z
LAST-MODIFIED:20240717T100331Z
UID:10609765-1723455000-1723465800@zorggroep-orion.be
SUMMARY:KOKEN @ Albert
DESCRIPTION:Workshop koken – Met een groepje van max. 12 personen zorgt Christine voor een heerlijk gerecht. Dit alles samen met jullie\, in goed gezelschap en een leuke groepsdynamiek\, genieten we en steken vooral veel op van deze workshop. \nDeze maand ALTIJD ZON IN CAVAILLON “MELOEN” \nOpgelet: Inschrijven vanaf de eerste werkdag van de maand -9u / € 10 pp. \nHartelijk welkom in de keuken van Christine! \n 
URL:https://zorggroep-orion.be/activiteit/koken-albert-9/
LOCATION:Dienstencentrum Albert Van Dyck\, Albert Van Dyckstraat 10\, Turnhout\, Antwerpen\, 2300\, Belgium
CATEGORIES:Workshop
ATTACH;FMTTYPE=image/png:https://zorggroep-orion.be/wp-content/uploads/2024/07/KOKEN-LDC-AVD-AUG-2024.png
END:VEVENT
BEGIN:VEVENT
DTSTART;TZID=Europe/Brussels:20240807T130000
DTEND;TZID=Europe/Brussels:20240807T170000
DTSTAMP:20260425T210715
CREATED:20240605T083813Z
LAST-MODIFIED:20240717T073838Z
UID:10609495-1723035600-1723050000@zorggroep-orion.be
SUMMARY:VLAAMSE KERMIS @ Orion
DESCRIPTION:Onze 3 dienstencentra ism. WZC De Wending zorgen voor een gezellige namiddag op het plein! Dansen en sjansen met De Boeren Van Turnhout\, Smoutebollen van Maria\, rondom allerlei Kermis-spelletjes met leuke prijsjes voor jong en oud … Kaarten voor de spelletjes aan de kassa\, met om 16 u trekking Hoofdprijs. Wie gaat het halen\, wie gaat er betalen …. \nHartelijk Welkom bij onze ZORGGROEP. Samen maken we’r een leuke namiddag van!
URL:https://zorggroep-orion.be/activiteit/vlaamse-kermis-orion/
LOCATION:Dienstencentrum Albert Van Dyck\, Albert Van Dyckstraat 10\, Turnhout\, Antwerpen\, 2300\, Belgium
CATEGORIES:Feest
ATTACH;FMTTYPE=image/png:https://zorggroep-orion.be/wp-content/uploads/2024/06/VLAAMSE-KERMIS-LDC-AVD-AUGUSTUS-2024.png
END:VEVENT
END:VCALENDAR