BEGIN:VCALENDAR
VERSION:2.0
PRODID:-//Zorggroep Orion - ECPv6.15.17.1//NONSGML v1.0//EN
CALSCALE:GREGORIAN
METHOD:PUBLISH
X-ORIGINAL-URL:https://zorggroep-orion.be
X-WR-CALDESC:Evenementen voor Zorggroep Orion
REFRESH-INTERVAL;VALUE=DURATION:PT1H
X-Robots-Tag:noindex
X-PUBLISHED-TTL:PT1H
BEGIN:VTIMEZONE
TZID:Europe/Brussels
BEGIN:DAYLIGHT
TZOFFSETFROM:+0100
TZOFFSETTO:+0200
TZNAME:CEST
DTSTART:20230326T010000
END:DAYLIGHT
BEGIN:STANDARD
TZOFFSETFROM:+0200
TZOFFSETTO:+0100
TZNAME:CET
DTSTART:20231029T010000
END:STANDARD
BEGIN:DAYLIGHT
TZOFFSETFROM:+0100
TZOFFSETTO:+0200
TZNAME:CEST
DTSTART:20240331T010000
END:DAYLIGHT
BEGIN:STANDARD
TZOFFSETFROM:+0200
TZOFFSETTO:+0100
TZNAME:CET
DTSTART:20241027T010000
END:STANDARD
BEGIN:DAYLIGHT
TZOFFSETFROM:+0100
TZOFFSETTO:+0200
TZNAME:CEST
DTSTART:20250330T010000
END:DAYLIGHT
BEGIN:STANDARD
TZOFFSETFROM:+0200
TZOFFSETTO:+0100
TZNAME:CET
DTSTART:20251026T010000
END:STANDARD
END:VTIMEZONE
BEGIN:VEVENT
DTSTART;TZID=Europe/Brussels:20240927T133000
DTEND;TZID=Europe/Brussels:20240927T163000
DTSTAMP:20260425T132729
CREATED:20240814T140932Z
LAST-MODIFIED:20240814T140932Z
UID:10610682-1727443800-1727454600@zorggroep-orion.be
SUMMARY:Inloophuis dementie Turnhout
DESCRIPTION:Het inloophuis is een informatiepunt en een ontmoetingsplaats voor mensen met (jong)dementie en hun familie\, mensen die hen ondersteunen en/of verzorgen. Er zijn steeds zorgprofessionals en vrijwilligers aanwezig. Zij luisteren naar ieders verhaal.\n\n\n\nNood aan een luisterend oor? Informatie nodig? Hopeloos verdwaald in het zorgaanbod? Of wil je gewoon even praten met lotgenoten? Kom dan zeker langs! Vanaf 13.30 uur staan onze deuren wagenwijd open voor iedereen!\n\n\n\nHet inloophuis is elke laatste vrijdag van de maand geopend van 13.30 tot 16.30 uur.\nLocatie: LDC DE WISSEL – Dr. Nandpeetersstraat 33 – 2300 TURNHOUT\n\n\n\nDit is een gezamenlijk initiatief van Alzheimer Liga Vlaanderen\, Zorggroep Orion\, AZ Turnhout\, Expertisecentrum Dementie Tandem en Stad Turnhout.
URL:https://zorggroep-orion.be/activiteit/inloophuis-dementie-turnhout-6/
LOCATION:Dienstencentrum Albert Van Dyck\, Albert Van Dyckstraat 10\, Turnhout\, Antwerpen\, 2300\, Belgium
CATEGORIES:Dienstverlening
ATTACH;FMTTYPE=image/png:https://zorggroep-orion.be/wp-content/uploads/2024/04/inloophuis-dementie.png
END:VEVENT
BEGIN:VEVENT
DTSTART;TZID=Europe/Brussels:20240923T163000
DTEND;TZID=Europe/Brussels:20240923T163000
DTSTAMP:20260425T132729
CREATED:20240814T125445Z
LAST-MODIFIED:20240826T082659Z
UID:10610680-1727109000-1727109000@zorggroep-orion.be
SUMMARY:MOSSELSOUPER @ Albert
DESCRIPTION: Ja hoor\, ze zijn er weer: Jumbo mosselen in dienstencentrum Albert Van Dyck. Kom deze maand mee genieten van een heerlijk potje mosselen. Nodig vrienden of familie uit en schrijf je tijdig in – dan krijg je van ons een gezellig plaatsje in het restaurant.  \nPraktisch: \n\nInschrijven kan vanaf maandag 2 september 2024\nSchrijf je in via Albert Van Dyck: 014 28 40 70 of albertvandyck@zorggroep-orion.be\nMails zijn pas definitief na bevestiging!
URL:https://zorggroep-orion.be/activiteit/mosselsouper-albert/
LOCATION:Dienstencentrum Albert Van Dyck\, Albert Van Dyckstraat 10\, Turnhout\, Antwerpen\, 2300\, Belgium
CATEGORIES:Feest
ATTACH;FMTTYPE=image/jpeg:https://zorggroep-orion.be/wp-content/uploads/2023/08/mosselenfrietklein.jpg
END:VEVENT
BEGIN:VEVENT
DTSTART;TZID=Europe/Brussels:20240920T090000
DTEND;TZID=Europe/Brussels:20240920T090000
DTSTAMP:20260425T132729
CREATED:20240812T143533Z
LAST-MODIFIED:20240812T143533Z
UID:10610049-1726822800-1726822800@zorggroep-orion.be
SUMMARY:HOBBYBEURS @ Hasselt
DESCRIPTION:Ben jij een hobby liefhebber?  Hét evenement voor iedereen die houdt van handgemaakte dingen. Op deze beurs presenteren we de nieuwste trends en vind je volop inspiratie. Je kunt hier tevens terecht met al je hobbyvragen!  \nSamen met je vrienden\, familie\, kinderen of kleinkinderen beleef je de leukste dag uit in het teken van jouw hobby. \nGa jij ook mee?  Inschrijven tot ons busje vol zit à € 2 (vervoer). Inkom tickets € 10 – te betalen bij de ingang.
URL:https://zorggroep-orion.be/activiteit/hobbybeurs-hasselt/
LOCATION:Dienstencentrum Albert Van Dyck\, Albert Van Dyckstraat 10\, Turnhout\, Antwerpen\, 2300\, Belgium
CATEGORIES:Tentoonstelling
ATTACH;FMTTYPE=image/png:https://zorggroep-orion.be/wp-content/uploads/2024/08/HOBBYBEURS-LDC-AVD-09-2024.png
END:VEVENT
BEGIN:VEVENT
DTSTART;TZID=Europe/Brussels:20240919T193000
DTEND;TZID=Europe/Brussels:20240919T210000
DTSTAMP:20260425T132729
CREATED:20240812T135233Z
LAST-MODIFIED:20240912T081205Z
UID:10610047-1726774200-1726779600@zorggroep-orion.be
SUMMARY:PC DEMENTIE @ Albert
DESCRIPTION:Infoavond – Praatcafé dementie met als thema: Wat is dementie? Gastspreker: Elke Keepers \nVerschil tussen dementie en vergeetachtigheid / Symptomen en vormen van dementie. \nLocatie: Cafetaria – WZC Huize Sint-Elisabeth /  Herentalsstraat 64 – 2300 TURNHOUT \n  \n\n  \n 
URL:https://zorggroep-orion.be/activiteit/pc-dementie-albert-3/
LOCATION:Dienstencentrum Albert Van Dyck\, Albert Van Dyckstraat 10\, Turnhout\, Antwerpen\, 2300\, Belgium
CATEGORIES:Infosessie
ATTACH;FMTTYPE=image/png:https://zorggroep-orion.be/wp-content/uploads/2024/01/PC-DEMENTIE-LDC-AVD-01-2024.png
END:VEVENT
BEGIN:VEVENT
DTSTART;TZID=Europe/Brussels:20240917T140000
DTEND;TZID=Europe/Brussels:20240917T170000
DTSTAMP:20260425T132729
CREATED:20240814T122344Z
LAST-MODIFIED:20240814T122344Z
UID:10610679-1726581600-1726592400@zorggroep-orion.be
SUMMARY:DANSEN EN SJANSEN in 't Café met Rene @ Albert
DESCRIPTION:Dansen en sjansen in ons Café met Rene! Deze maand op ons programma: ‘GOLDEN OLDIES’!  \nVolledig vrijblijvend toegang voor jong en oud\, zeg het voort\, zeg het voort zodat iedereen het hoort – YOU ‘RE THE ONE I NEED ……. ! Hartelijk welkom.  \n  \n 
URL:https://zorggroep-orion.be/activiteit/dansen-en-sjansen-in-t-cafe-met-rene-albert-3/
LOCATION:Dienstencentrum Albert Van Dyck\, Albert Van Dyckstraat 10\, Turnhout\, Antwerpen\, 2300\, Belgium
CATEGORIES:Muziek
ATTACH;FMTTYPE=image/png:https://zorggroep-orion.be/wp-content/uploads/2023/12/dansen-en-sjansen-2024.png
END:VEVENT
BEGIN:VEVENT
DTSTART;TZID=Europe/Brussels:20240916T093000
DTEND;TZID=Europe/Brussels:20240916T150000
DTSTAMP:20260425T132729
CREATED:20240814T121937Z
LAST-MODIFIED:20240814T121937Z
UID:10610678-1726479000-1726498800@zorggroep-orion.be
SUMMARY:DECOREREN HERFST @ Albert
DESCRIPTION:Hopelijk genieten we nog van een late zomer\, maar onze kalender zegt dat we toch stilaan overstappen naar de Herfst. Dit wil zeggen dat wij ook ons centrum in een nieuw jasje steken.  Kale takken\, gekleurde dorre bladeren\, enz…. zullen deze herfst tot zijn recht komen.  \nBen jij ook een beetje creatief? Kom gerust een handje toesteken.  \nWij zorgen alvast voor de koffie.
URL:https://zorggroep-orion.be/activiteit/decoreren-herfst-albert/
LOCATION:Dienstencentrum Albert Van Dyck\, Albert Van Dyckstraat 10\, Turnhout\, Antwerpen\, 2300\, Belgium
CATEGORIES:Recreatie
ATTACH;FMTTYPE=image/png:https://zorggroep-orion.be/wp-content/uploads/2024/08/HERFSTDECO-LDC-AVD-09-2024.png
END:VEVENT
BEGIN:VEVENT
DTSTART;TZID=Europe/Brussels:20240916T093000
DTEND;TZID=Europe/Brussels:20240916T123000
DTSTAMP:20260425T132729
CREATED:20240812T132016Z
LAST-MODIFIED:20240827T055325Z
UID:10610044-1726479000-1726489800@zorggroep-orion.be
SUMMARY:KOKEN @ Albert
DESCRIPTION:Workshop koken – Met een groepje van max. 12 personen zorgt Christine voor een heerlijk gerecht. Dit alles samen met jullie\, in goed gezelschap en een leuke groepsdynamiek\, genieten we en steken vooral veel op van deze workshop. \nDeze maand ‘ODE AAN POMODORIE’ \nOpgelet: Inschrijven vanaf de eerste werkdag van de maand -9u / € 10 pp. \nHartelijk welkom in de keuken van Christine! \n 
URL:https://zorggroep-orion.be/activiteit/koken-albert-10/
LOCATION:Dienstencentrum Albert Van Dyck\, Albert Van Dyckstraat 10\, Turnhout\, Antwerpen\, 2300\, Belgium
CATEGORIES:Workshop
ATTACH;FMTTYPE=image/png:https://zorggroep-orion.be/wp-content/uploads/2024/08/KOKEN-LDC-AVD-SEPT-2024.png
END:VEVENT
BEGIN:VEVENT
DTSTART;TZID=Europe/Brussels:20240912T140000
DTEND;TZID=Europe/Brussels:20240912T140000
DTSTAMP:20260425T132729
CREATED:20240812T125431Z
LAST-MODIFIED:20240826T085131Z
UID:10610043-1726149600-1726149600@zorggroep-orion.be
SUMMARY:MANTELZORGCAFE @ LDC's
DESCRIPTION:“Gezond en budgetvriendelijk koken”. \nSamen koken onder begeleiding van een erkend diëtiste: Ovenschotels- éénpansgerechten. Deelname enkel na inschrijving bij Ingrid op het nummer 014 28 43 37 of mail naar mantelzorg@zorggroep-orion.be (nog tot 3 sept) \nOPGELET: locatie in DE WISSEL!
URL:https://zorggroep-orion.be/activiteit/mantelzorgcafe-ldcs-2/
LOCATION:Dienstencentrum Albert Van Dyck\, Albert Van Dyckstraat 10\, Turnhout\, Antwerpen\, 2300\, Belgium
CATEGORIES:Workshop
ATTACH;FMTTYPE=image/png:https://zorggroep-orion.be/wp-content/uploads/2024/08/MANTELZORGCAFE-LDC-AVD-2024.png
END:VEVENT
BEGIN:VEVENT
DTSTART;TZID=Europe/Brussels:20240909T140000
DTEND;TZID=Europe/Brussels:20240909T160000
DTSTAMP:20260425T132729
CREATED:20240814T143244Z
LAST-MODIFIED:20240814T143244Z
UID:10610683-1725890400-1725897600@zorggroep-orion.be
SUMMARY:KOFFIE EN PAPIEREN @ LDC's
DESCRIPTION:Ben je onzeker bij het invullen van een formulier? Begrijp je een brief niet? \nWil je hulp bij een telefoon naar een dienst? …\nTijdens koffie & papieren zijn we er om je op weg te helpen. \nDit is gratis. Je moet geen afspraak maken\, kom gewoon langs.\nDe koffie staat klaar!
URL:https://zorggroep-orion.be/activiteit/koffie-en-papieren-ldcs/
LOCATION:Dienstencentrum Albert Van Dyck\, Albert Van Dyckstraat 10\, Turnhout\, Antwerpen\, 2300\, Belgium
CATEGORIES:Dienstverlening
ATTACH;FMTTYPE=image/png:https://zorggroep-orion.be/wp-content/uploads/2023/09/koffie-en-papieren-2023-okt.png
END:VEVENT
BEGIN:VEVENT
DTSTART;TZID=Europe/Brussels:20240909T140000
DTEND;TZID=Europe/Brussels:20240909T140000
DTSTAMP:20260425T132729
CREATED:20240812T122117Z
LAST-MODIFIED:20240828T112324Z
UID:10610042-1725890400-1725890400@zorggroep-orion.be
SUMMARY:PAËLLA MET EEN VLEUGJE MUZIEK @ Albert
DESCRIPTION:Ja hoor\, u leest het goed – Paëlla met muziek bij Albert Van Dyck! \nVoor de lekkerbekken serveren wij vandaag een bordje Paëlla met een vleugje muziek door Ed Keustermans met zijn akoestische gitaar en mondharmonica zorgt hij voor een sfeervolle namiddag. Kom jij toch ook mee genieten?  \nGelieve vooraf in te schrijven\, vanaf 2 sept. 2024  à € 10 pp. \nHartelijk Welkom.
URL:https://zorggroep-orion.be/activiteit/paella-met-een-vleugje-muziek-albert/
LOCATION:Dienstencentrum Albert Van Dyck\, Albert Van Dyckstraat 10\, Turnhout\, Antwerpen\, 2300\, Belgium
CATEGORIES:Eten & Drinken
ATTACH;FMTTYPE=image/png:https://zorggroep-orion.be/wp-content/uploads/2024/08/Kopie-van-WANDELING-JEF-P.-LDC-AVD-WINKELSBROEK-2024.png
END:VEVENT
END:VCALENDAR