BEGIN:VCALENDAR
VERSION:2.0
PRODID:-//Zorggroep Orion - ECPv6.15.17.1//NONSGML v1.0//EN
CALSCALE:GREGORIAN
METHOD:PUBLISH
X-ORIGINAL-URL:https://zorggroep-orion.be
X-WR-CALDESC:Evenementen voor Zorggroep Orion
REFRESH-INTERVAL;VALUE=DURATION:PT1H
X-Robots-Tag:noindex
X-PUBLISHED-TTL:PT1H
BEGIN:VTIMEZONE
TZID:Europe/Brussels
BEGIN:DAYLIGHT
TZOFFSETFROM:+0100
TZOFFSETTO:+0200
TZNAME:CEST
DTSTART:20230326T010000
END:DAYLIGHT
BEGIN:STANDARD
TZOFFSETFROM:+0200
TZOFFSETTO:+0100
TZNAME:CET
DTSTART:20231029T010000
END:STANDARD
BEGIN:DAYLIGHT
TZOFFSETFROM:+0100
TZOFFSETTO:+0200
TZNAME:CEST
DTSTART:20240331T010000
END:DAYLIGHT
BEGIN:STANDARD
TZOFFSETFROM:+0200
TZOFFSETTO:+0100
TZNAME:CET
DTSTART:20241027T010000
END:STANDARD
BEGIN:DAYLIGHT
TZOFFSETFROM:+0100
TZOFFSETTO:+0200
TZNAME:CEST
DTSTART:20250330T010000
END:DAYLIGHT
BEGIN:STANDARD
TZOFFSETFROM:+0200
TZOFFSETTO:+0100
TZNAME:CET
DTSTART:20251026T010000
END:STANDARD
END:VTIMEZONE
BEGIN:VEVENT
DTSTART;TZID=Europe/Brussels:20241031T140000
DTEND;TZID=Europe/Brussels:20241031T170000
DTSTAMP:20260425T044126
CREATED:20240918T130537Z
LAST-MODIFIED:20240918T130537Z
UID:10611248-1730383200-1730394000@zorggroep-orion.be
SUMMARY:GLADDE PALING BAL @ Albert
DESCRIPTION:En ja hoor: Wat moet je hierbij voorstellen? Gewoon dansen en sjansen\, gezellig samenzijn bij een hapje en tapje (voor eigen rekening). Voor de muzikale noot\, voor jullie ondertussen al een bekende in ons centrum: gene Georges Clooney maar niemand minder dan JACK CROONEY. De palingen worden alvast gerookt! Hartelijk Welkom. \nPrijs incl. Muziek en hapje!
URL:https://zorggroep-orion.be/activiteit/gladde-paling-bal-albert/
LOCATION:Dienstencentrum Albert Van Dyck\, Albert Van Dyckstraat 10\, Turnhout\, Antwerpen\, 2300\, Belgium
CATEGORIES:Muziek
ATTACH;FMTTYPE=image/png:https://zorggroep-orion.be/wp-content/uploads/2024/09/dansen-en-sjansen-10-2024-LDC-AVD.png
END:VEVENT
BEGIN:VEVENT
DTSTART;TZID=Europe/Brussels:20241028T163000
DTEND;TZID=Europe/Brussels:20241028T163000
DTSTAMP:20260425T044126
CREATED:20240918T165511Z
LAST-MODIFIED:20240918T171102Z
UID:10611245-1730133000-1730133000@zorggroep-orion.be
SUMMARY:SMULACTIVITEIT WILDSTOVERIJ @ Albert
DESCRIPTION:INTO THE WILD \nHou jij van Wild op het menu? Dan ben je hier aan het juiste adres. \nWij serveren: Wildstoofpotje met champignons\, gebakken witloof en krokketten! \nPraktisch: \n\nInschrijven kan vanaf dinsdag 1 oktober 2024\nSchrijf je in via Albert Van Dyck: 014 28 40 70 of albertvandyck@zorggroep-orion.be\nMails zijn pas definitief na bevestiging!
URL:https://zorggroep-orion.be/activiteit/smulactiviteit-wild-albert/
LOCATION:Dienstencentrum Albert Van Dyck\, Albert Van Dyckstraat 10\, Turnhout\, Antwerpen\, 2300\, Belgium
CATEGORIES:Feest
ATTACH;FMTTYPE=image/png:https://zorggroep-orion.be/wp-content/uploads/2024/09/WILDSTOVERIJ-LDC-AVD-10-2024.png
END:VEVENT
BEGIN:VEVENT
DTSTART;TZID=Europe/Brussels:20241027T030000
DTEND;TZID=Europe/Brussels:20241027T030000
DTSTAMP:20260425T044126
CREATED:20240912T135459Z
LAST-MODIFIED:20240912T135459Z
UID:10611243-1729998000-1729998000@zorggroep-orion.be
SUMMARY:KLOK VERZETTEN @ Albert
DESCRIPTION:Doe jij ook mee? Wij schakelen dit weekend over naar het WINTERUUR. \nTijdens de nacht van zaterdag op zondag draaien we de klok een uur achteruit. \nWil zeggen een langere nacht: 3 u wordt 2 u.
URL:https://zorggroep-orion.be/activiteit/klok-verzetten-albert-2/
LOCATION:Dienstencentrum Albert Van Dyck\, Albert Van Dyckstraat 10\, Turnhout\, Antwerpen\, 2300\, Belgium
CATEGORIES:Goed om weten
ATTACH;FMTTYPE=image/png:https://zorggroep-orion.be/wp-content/uploads/2024/09/WINTERTIJD-10-2024-LDC-AVD.png
END:VEVENT
BEGIN:VEVENT
DTSTART;TZID=Europe/Brussels:20241025T133000
DTEND;TZID=Europe/Brussels:20241025T163000
DTSTAMP:20260425T044126
CREATED:20240925T122311Z
LAST-MODIFIED:20240925T140731Z
UID:10611328-1729863000-1729873800@zorggroep-orion.be
SUMMARY:INLOOPHUIS DEMENTIE Turnhout
DESCRIPTION:Het inloophuis is een informatiepunt en een ontmoetingsplaats voor mensen met (jong)dementie en hun familie\, mensen die hen ondersteunen en/of verzorgen. Er zijn steeds zorgprofessionals en vrijwilligers aanwezig. Zij luisteren naar ieders verhaal.\n\n\n\nNood aan een luisterend oor? Informatie nodig? Hopeloos verdwaald in het zorgaanbod? Of wil je gewoon even praten met lotgenoten? Kom dan zeker langs! Vanaf 13.30 uur staan onze deuren wagenwijd open voor iedereen!\n\n\n\nHet inloophuis is elke laatste vrijdag van de maand geopend van 13.30 tot 16.30 uur.\nLocatie: LDC DE WISSEL – Dr. Nandpeetersstraat 33 – 2300 TURNHOUT\n\n\n\nDit is een gezamenlijk initiatief van Alzheimer Liga Vlaanderen\, Zorggroep Orion\, AZ Turnhout\, Expertisecentrum Dementie Tandem en Stad Turnhout.
URL:https://zorggroep-orion.be/activiteit/inloophuis-dementie-turnhout-4/
LOCATION:Dienstencentrum Albert Van Dyck\, Albert Van Dyckstraat 10\, Turnhout\, Antwerpen\, 2300\, Belgium
CATEGORIES:Dienstverlening
ATTACH;FMTTYPE=image/png:https://zorggroep-orion.be/wp-content/uploads/2024/01/logo-inloophuis-dementie.png
END:VEVENT
BEGIN:VEVENT
DTSTART;TZID=Europe/Brussels:20241021T093000
DTEND;TZID=Europe/Brussels:20241021T123000
DTSTAMP:20260425T044126
CREATED:20240912T122220Z
LAST-MODIFIED:20240912T122346Z
UID:10610978-1729503000-1729513800@zorggroep-orion.be
SUMMARY:KOKEN @ Albert
DESCRIPTION:Workshop koken – Met een groepje van max. 12 personen zorgt Christine voor een heerlijk gerecht. Dit alles samen met jullie\, in goed gezelschap en een leuke groepsdynamiek\, genieten we en steken vooral veel op van deze workshop. \nDeze maand ”PASTA\, past da vanavond?” \nOpgelet: Inschrijven vanaf de eerste werkdag van de maand -9u / € 10 pp. \nHartelijk welkom in de keuken van Christine! \n 
URL:https://zorggroep-orion.be/activiteit/koken-albert-11/
LOCATION:Dienstencentrum Albert Van Dyck\, Albert Van Dyckstraat 10\, Turnhout\, Antwerpen\, 2300\, Belgium
CATEGORIES:Workshop
ATTACH;FMTTYPE=image/png:https://zorggroep-orion.be/wp-content/uploads/2024/09/KOKEN-10-2024-LDC-AVD.png
END:VEVENT
BEGIN:VEVENT
DTSTART;TZID=Europe/Brussels:20241007T140000
DTEND;TZID=Europe/Brussels:20241007T160000
DTSTAMP:20260425T044126
CREATED:20240917T140237Z
LAST-MODIFIED:20240917T140237Z
UID:10611247-1728309600-1728316800@zorggroep-orion.be
SUMMARY:KOFFIE EN PAPIEREN @ LDC's
DESCRIPTION:Ben je onzeker bij het invullen van een formulier? Begrijp je een brief niet? \nWil je hulp bij een telefoon naar een dienst? …\nTijdens koffie & papieren zijn we er om je op weg te helpen. \nDit is gratis. Je moet geen afspraak maken\, kom gewoon langs.\nDe koffie staat klaar!
URL:https://zorggroep-orion.be/activiteit/koffie-en-papieren-ldcs-2/
LOCATION:Dienstencentrum Albert Van Dyck\, Albert Van Dyckstraat 10\, Turnhout\, Antwerpen\, 2300\, Belgium
CATEGORIES:Dienstverlening
ATTACH;FMTTYPE=image/png:https://zorggroep-orion.be/wp-content/uploads/2023/09/koffie-en-papieren-2023-okt.png
END:VEVENT
BEGIN:VEVENT
DTSTART;TZID=Europe/Brussels:20241002T190000
DTEND;TZID=Europe/Brussels:20241002T210000
DTSTAMP:20260425T044126
CREATED:20240916T130535Z
LAST-MODIFIED:20240916T130535Z
UID:10611244-1727895600-1727902800@zorggroep-orion.be
SUMMARY:Infosessie 'Goed geslapen of liggen piekeren' @ Albert
DESCRIPTION:Info/Workshop met begeleiding door Patricia Truyens\, in teken van DE WEEK VAN DE GEESTELIJKE GEZONDHEID. \nNa een algemene uitleg rond slaap\, duiken we dieper in wat de oorzaken kunnen zijn van slapeloosheid. Aan de hand van eenvoudige tips leer je vaardigheden om je slaap positief te beïnvloeden. Je krijgt technieken aangereikt om te stoppen met piekeren. Deze vorming helpt je op weg naar een gezonde nachtrust en een uitgerust leven.  \nDus ook iets voor jou?  \nINSCHRIJVEN vanaf heden:  \nDienstencentrum Albert Van Dyck  – T 014 28 40 70 – Mail: albertvandyck@zorggroep-orion.be \nLOCATIE CAFETARIA WZC DE WENDING – Albert Van Dyckstraat 18
URL:https://zorggroep-orion.be/activiteit/infosessie-goed-geslapen-of-liggen-piekeren-albert/
LOCATION:Dienstencentrum Albert Van Dyck\, Albert Van Dyckstraat 10\, Turnhout\, Antwerpen\, 2300\, Belgium
CATEGORIES:Infosessie,Workshop
ATTACH;FMTTYPE=image/png:https://zorggroep-orion.be/wp-content/uploads/2024/09/workshop-slecht-slapen-10-2024-LDC-AVD.png
END:VEVENT
END:VCALENDAR