BEGIN:VCALENDAR
VERSION:2.0
PRODID:-//Zorggroep Orion - ECPv6.15.17.1//NONSGML v1.0//EN
CALSCALE:GREGORIAN
METHOD:PUBLISH
X-ORIGINAL-URL:https://zorggroep-orion.be
X-WR-CALDESC:Evenementen voor Zorggroep Orion
REFRESH-INTERVAL;VALUE=DURATION:PT1H
X-Robots-Tag:noindex
X-PUBLISHED-TTL:PT1H
BEGIN:VTIMEZONE
TZID:Europe/Brussels
BEGIN:DAYLIGHT
TZOFFSETFROM:+0100
TZOFFSETTO:+0200
TZNAME:CEST
DTSTART:20230326T010000
END:DAYLIGHT
BEGIN:STANDARD
TZOFFSETFROM:+0200
TZOFFSETTO:+0100
TZNAME:CET
DTSTART:20231029T010000
END:STANDARD
BEGIN:DAYLIGHT
TZOFFSETFROM:+0100
TZOFFSETTO:+0200
TZNAME:CEST
DTSTART:20240331T010000
END:DAYLIGHT
BEGIN:STANDARD
TZOFFSETFROM:+0200
TZOFFSETTO:+0100
TZNAME:CET
DTSTART:20241027T010000
END:STANDARD
BEGIN:DAYLIGHT
TZOFFSETFROM:+0100
TZOFFSETTO:+0200
TZNAME:CEST
DTSTART:20250330T010000
END:DAYLIGHT
BEGIN:STANDARD
TZOFFSETFROM:+0200
TZOFFSETTO:+0100
TZNAME:CET
DTSTART:20251026T010000
END:STANDARD
BEGIN:DAYLIGHT
TZOFFSETFROM:+0100
TZOFFSETTO:+0200
TZNAME:CEST
DTSTART:20260329T010000
END:DAYLIGHT
BEGIN:STANDARD
TZOFFSETFROM:+0200
TZOFFSETTO:+0100
TZNAME:CET
DTSTART:20261025T010000
END:STANDARD
END:VTIMEZONE
BEGIN:VEVENT
DTSTART;TZID=Europe/Brussels:20250522T133000
DTEND;TZID=Europe/Brussels:20250522T170000
DTSTAMP:20260425T131054
CREATED:20250418T111427Z
LAST-MODIFIED:20250418T111427Z
UID:10618025-1747920600-1747933200@zorggroep-orion.be
SUMMARY:Standje van Imker Herman Sas uit Schorvoort
DESCRIPTION:Imker Herman uit Schorvoort zal aanwezig zijn met een beperkt infostandje voor iedereen die graag wat meer weet over de bijtjes en de lekkere honing die ze produceren. \nEr zal ook de mogelijkheid zijn om de honingen te kopen bij hem.
URL:https://zorggroep-orion.be/activiteit/standje-van-imker-herman-sas-uit-schorvoort/
LOCATION:Dienstencentrum De Schoor\, Schorvoortstraat 53\, Turnhout\, 2300
CATEGORIES:Dienstverlening,Infosessie
ATTACH;FMTTYPE=image/png:https://zorggroep-orion.be/wp-content/uploads/2025/04/Insectenhotel-3-e1744974845676.png
END:VEVENT
BEGIN:VEVENT
DTSTART;TZID=Europe/Brussels:20241202T140000
DTEND;TZID=Europe/Brussels:20241202T160000
DTSTAMP:20260425T131054
CREATED:20240926T100258Z
LAST-MODIFIED:20241122T065401Z
UID:10611332-1733148000-1733155200@zorggroep-orion.be
SUMMARY:KOFFIE EN PAPIEREN @ De Wissel
DESCRIPTION:Ben je onzeker bij het invullen van een formulier? Begrijp je een brief niet? Wil je hulp bij een telefoon naar een dienst? …\nTijdens koffie & papieren zijn we er om je op weg te helpen. \nDit is gratis. Je moet geen afspraak maken\, kom gewoon langs.\nDe koffie staat klaar!
URL:https://zorggroep-orion.be/activiteit/koffie-en-papieren-de-wissel-3/
LOCATION:Dienstencentrum Albert Van Dyck\, Albert Van Dyckstraat 10\, Turnhout\, Antwerpen\, 2300\, Belgium
CATEGORIES:Dienstverlening
ATTACH;FMTTYPE=image/png:https://zorggroep-orion.be/wp-content/uploads/2023/09/koffie-en-papieren-2023-okt.png
END:VEVENT
BEGIN:VEVENT
DTSTART;TZID=Europe/Brussels:20241129T133000
DTEND;TZID=Europe/Brussels:20241129T163000
DTSTAMP:20260425T131054
CREATED:20240925T135609Z
LAST-MODIFIED:20240925T135609Z
UID:10611330-1732887000-1732897800@zorggroep-orion.be
SUMMARY:INLOOPHUIS DEMENTIE Turnhout
DESCRIPTION:Het inloophuis is een informatiepunt en een ontmoetingsplaats voor mensen met (jong)dementie en hun familie\, mensen die hen ondersteunen en/of verzorgen. Er zijn steeds zorgprofessionals en vrijwilligers aanwezig. Zij luisteren naar ieders verhaal.\n\n\n\nNood aan een luisterend oor? Informatie nodig? Hopeloos verdwaald in het zorgaanbod? Of wil je gewoon even praten met lotgenoten? Kom dan zeker langs! Vanaf 13.30 uur staan onze deuren wagenwijd open voor iedereen!\n\n\n\nHet inloophuis is elke laatste vrijdag van de maand geopend van 13.30 tot 16.30 uur.\nLocatie: LDC DE WISSEL – Dr. Nandpeetersstraat 33 – 2300 TURNHOUT\n\n\n\nDit is een gezamenlijk initiatief van Alzheimer Liga Vlaanderen\, Zorggroep Orion\, AZ Turnhout\, Expertisecentrum Dementie Tandem en Stad Turnhout.
URL:https://zorggroep-orion.be/activiteit/inloophuis-dementie-turnhout-8/
LOCATION:Dienstencentrum Albert Van Dyck\, Albert Van Dyckstraat 10\, Turnhout\, Antwerpen\, 2300\, Belgium
CATEGORIES:Dienstverlening
ATTACH;FMTTYPE=image/png:https://zorggroep-orion.be/wp-content/uploads/2024/01/logo-inloophuis-dementie.png
END:VEVENT
BEGIN:VEVENT
DTSTART;TZID=Europe/Brussels:20241128T090000
DTEND;TZID=Europe/Brussels:20241128T160000
DTSTAMP:20260425T131054
CREATED:20241121T100017Z
LAST-MODIFIED:20241121T103018Z
UID:10611635-1732784400-1732809600@zorggroep-orion.be
SUMMARY:CAFETARIA @ Albert
DESCRIPTION:Vandaag SLUITEN wij om 16 U o.m.v. ons jaarlijks VRIJWILLIGERSFEEST.  \n’t Is de hoogste tijd om hun deze maand allen te feliciteren voor hun mateloze inzet\, gans het jaar door.  \nOfficiële dag: 5 dec. 2024 DAG VAN DE VRIJWILLIGERS – ook jij kan/mag een boodschap brengen om hun extra te bedanken. (kan persoonlijk\, per mail of met een kaartje) \nMAIL: albertvandyck@zorggroep-orion.be \n 
URL:https://zorggroep-orion.be/activiteit/cafetaria-albert/
LOCATION:Dienstencentrum Albert Van Dyck\, Albert Van Dyckstraat 10\, Turnhout\, Antwerpen\, 2300\, Belgium
CATEGORIES:Dienstverlening
ATTACH;FMTTYPE=image/png:https://zorggroep-orion.be/wp-content/uploads/2024/11/VRIJWILLIGERS-LDC-AVD-2024.png
END:VEVENT
BEGIN:VEVENT
DTSTART;TZID=Europe/Brussels:20241124T100000
DTEND;TZID=Europe/Brussels:20241124T140000
DTSTAMP:20260425T131054
CREATED:20240925T135146Z
LAST-MODIFIED:20241021T072356Z
UID:10611329-1732442400-1732456800@zorggroep-orion.be
SUMMARY:BRUNCH @ Albert
DESCRIPTION:In teken van de Week van de derde leeftijd’ verwennen we jullie met een heerlijke brunch op zondagochtend. Uiteraard niet enkel voor senioren\, maar ook jullie zijn van harte welkom met vrienden\, familie\, buren …. Nodig ze uit\, schuif gezellig aan\, samen maken we’r een fijne zondag van!  \nAansluitend trakteert Marcel jullie met zijn keyboard op een vleugje muziek in ons cafetaria.  \nWelkomstdrankje: 1 glaasje fruitsap \nBrood: 2 mini koffiekoekjes\, 3 pistolets of 3 sandwiches per person.                                                                                        Brood assortiment: wit\, bruin\, volkoren ( 2sn per persoon) \nBeleg:  \n\nJong kaas en maredsous\nHesp\, kippenwit\, gerookt vlees\nKrabsalade\, prepare\, kipcurry\nZoet assortiment; confituur\, choco\, speculaaspasta …\nBotertjes\n\nWarm: vanaf 11.30u  Frikadellen met krieken of Kalkoenrollade met warm fruit. \nDessert: Assortiment van mini gebakjes:  javanais \, chocomousse\, fruittaartjes  (2 per persoon) \nINCL. koffie of thee (melk en suiker) – Glaasje Cava na het ontbijt. \nPraktisch: \n\nInschrijven kan vanaf maandag 4 november 2024\nT 014 28 40 70 of albertvandyck@zorggroep-orion.be (Deze zijn pas definitief na bevestiging)
URL:https://zorggroep-orion.be/activiteit/brunch-albert-van-dyck-2024/
LOCATION:Dienstencentrum Albert Van Dyck\, Albert Van Dyckstraat 10\, Turnhout\, Antwerpen\, 2300\, Belgium
CATEGORIES:Feest
ATTACH;FMTTYPE=image/png:https://zorggroep-orion.be/wp-content/uploads/2024/09/11-BRUNCH-LDC-AVD-2024.png
END:VEVENT
BEGIN:VEVENT
DTSTART;TZID=Europe/Brussels:20241121T170000
DTEND;TZID=Europe/Brussels:20241121T170000
DTSTAMP:20260425T131054
CREATED:20241021T073859Z
LAST-MODIFIED:20241021T073859Z
UID:10611347-1732208400-1732208400@zorggroep-orion.be
SUMMARY:Demo VICTORIA JUWELEN @ Albert
DESCRIPTION:Met de feestdagen in ’t vooruitzicht: laat je schitteren door Victoria juwelen. \nVictoria makes you shine.\n\n\n\nWe willen het leven van vrouwen verbeteren en ze laten stralen!\nDoor vrouwen hun eigen baas te laten zijn\,\nDoor vrouwen te inspireren\, meer zelfvertrouwen te geven\,\nDoor een community te creëren waarin vrouwen elkaar steunen\,\nDoor hen schitterende juwelen aan te bieden. \nHartelijk welkom vanaf 17 u in onze mini shop – geheel vrijblijvend toegang zonder aankoopverplichting! \nOok een collectie voor mannen!
URL:https://zorggroep-orion.be/activiteit/demo-victoria-juwelen-albert-2/
LOCATION:Dienstencentrum Albert Van Dyck\, Albert Van Dyckstraat 10\, Turnhout\, Antwerpen\, 2300\, Belgium
CATEGORIES:Dienstverlening
ATTACH;FMTTYPE=image/png:https://zorggroep-orion.be/wp-content/uploads/2024/10/11-VICTORIA-LDC-AVD-2024.png
END:VEVENT
BEGIN:VEVENT
DTSTART;TZID=Europe/Brussels:20241120T140000
DTEND;TZID=Europe/Brussels:20241120T140000
DTSTAMP:20260425T131054
CREATED:20241014T122413Z
LAST-MODIFIED:20241014T122413Z
UID:10611333-1732111200-1732111200@zorggroep-orion.be
SUMMARY:QUIZ @ Albert
DESCRIPTION:Hou jij van Quizzen? Kom dan gezellig langs op deze woensdagnamiddag in ons centrum. \nMaak een groepje van 4\, kies een tafel en laat je volledig begeleiden door Fred. Ben je alleen of geraak je niet aan 4 personen\, geen probleem\, wij zorgen voor leuk gezelschap.  \nFred zorgt voor leuke vragen voor jong en oud. Jij komt toch ook mee dingen voor die eerste prijs? \nEn niet onbelangrijk: deze quiz is volledig gratis! Hartelijk welkom – koffie of thee staan klaar à € 1.
URL:https://zorggroep-orion.be/activiteit/quiz-albert/
LOCATION:Dienstencentrum Albert Van Dyck\, Albert Van Dyckstraat 10\, Turnhout\, Antwerpen\, 2300\, Belgium
CATEGORIES:Hersenpan
ATTACH;FMTTYPE=image/png:https://zorggroep-orion.be/wp-content/uploads/2024/10/2024-LDC-AVD.png
END:VEVENT
BEGIN:VEVENT
DTSTART;TZID=Europe/Brussels:20241118T140000
DTEND;TZID=Europe/Brussels:20241118T170000
DTSTAMP:20260425T131054
CREATED:20241017T110009Z
LAST-MODIFIED:20241017T150153Z
UID:10611331-1731938400-1731949200@zorggroep-orion.be
SUMMARY:HERFSTBAL MET JEF @ Albert
DESCRIPTION:Om deze week alvast plezierig te beginnen\, gooien we onze beentjes los. Gewoon dansen en sjansen\, gezellig samenzijn in leuk gezelschap\, meer moet het niet zijn. \nNodig alvast je vrienden\, vriendinnen\, buren of familie uit en beleef een gezellig\, amusante namiddag. Uiteraard kan je ook gewoon genieten van een lekker drankje in ons cafetaria of restaurant. Onze deuren staan open voor alle leeftijden. \nVoor de muzikale noot\, een nieuw gezicht in ons centrum:  Jef met zang en Keyboard. \nHartelijk Welkom. \n 
URL:https://zorggroep-orion.be/activiteit/herfstbal-met-jef-albert/
LOCATION:Dienstencentrum Albert Van Dyck\, Albert Van Dyckstraat 10\, Turnhout\, Antwerpen\, 2300\, Belgium
CATEGORIES:Muziek
ATTACH;FMTTYPE=image/png:https://zorggroep-orion.be/wp-content/uploads/2024/11/JEF-MERCKX-ZANG-EN-KEYBOARD.png
END:VEVENT
BEGIN:VEVENT
DTSTART;TZID=Europe/Brussels:20241118T093000
DTEND;TZID=Europe/Brussels:20241118T123000
DTSTAMP:20260425T131054
CREATED:20240926T092152Z
LAST-MODIFIED:20240926T094138Z
UID:10611316-1731922200-1731933000@zorggroep-orion.be
SUMMARY:KOKEN @ Albert
DESCRIPTION:Workshop koken – Met een groepje van max. 12 personen zorgt Christine voor een heerlijk gerecht. Dit alles samen met jullie\, in goed gezelschap en een leuke groepsdynamiek\, genieten we en steken vooral veel op van deze workshop. \nDeze maand ”Schoentjes vullen met iets lekkers! want de Sint is in aantocht” \nOpgelet: Inschrijven vanaf de eerste werkdag van de maand -9u / € 10 pp. \nHartelijk welkom in de keuken van Christine! \n 
URL:https://zorggroep-orion.be/activiteit/koken-albert-12/
LOCATION:Dienstencentrum Albert Van Dyck\, Albert Van Dyckstraat 10\, Turnhout\, Antwerpen\, 2300\, Belgium
CATEGORIES:Workshop
ATTACH;FMTTYPE=image/png:https://zorggroep-orion.be/wp-content/uploads/2024/09/11-koken-LDC-AVD-2024.png
END:VEVENT
BEGIN:VEVENT
DTSTART;TZID=Europe/Brussels:20241112T133000
DTEND;TZID=Europe/Brussels:20241112T153000
DTSTAMP:20260425T131054
CREATED:20240925T100007Z
LAST-MODIFIED:20241022T081258Z
UID:10611321-1731418200-1731425400@zorggroep-orion.be
SUMMARY:PC DEMENTIE @ Albert
DESCRIPTION:Infonamiddag – Praatcafé dementie met als thema: De Geheugenkliniek!  \n\nBen je soms vergeetachtig\, twijfel je over bepaalde zaken of maak jij je ongerust over iemand in je buurt. Kom even luisteren wat je kan verwachten bij een bezoek in de geheugenkliniek van AZ Turnhout \n\nLocatie: Lokaal Dienstencentrum Albert Van Dyck / Albert Van Dyckstraat 10 / 2300 TURNHOUT \nT 014 28 40 70 \n  \n\n  \n 
URL:https://zorggroep-orion.be/activiteit/pc-dementie-albert-4/
LOCATION:Dienstencentrum Albert Van Dyck\, Albert Van Dyckstraat 10\, Turnhout\, Antwerpen\, 2300\, Belgium
CATEGORIES:Infosessie
ATTACH;FMTTYPE=image/png:https://zorggroep-orion.be/wp-content/uploads/2024/09/11-PC-DEMENTIE-LDC-AVD-2024.png
END:VEVENT
BEGIN:VEVENT
DTSTART;VALUE=DATE:20241111
DTEND;VALUE=DATE:20241112
DTSTAMP:20260425T131054
CREATED:20241021T070516Z
LAST-MODIFIED:20241021T070516Z
UID:10611345-1731283200-1731369599@zorggroep-orion.be
SUMMARY:WAPENSTILSTAND @ Albert
DESCRIPTION:Wapenstilstand\, de jaarlijkse herdenking op 11 november 1918\, die het einde betekende van de Eerste Wereldoorlog. \nIn Albert Van Dyck ontmoeten wij en komen gezellig samen op deze dag in ons cafetaria of restaurant voor een lekkere maaltijd of een drankje! Hartelijk welkom. \nCafetaria open van 11.30 u – 17 u  \nRestaurant open van 12 u – 13.30 u  \nKANTOREN GESLOTEN
URL:https://zorggroep-orion.be/activiteit/wapenstilstand-abert/
LOCATION:Dienstencentrum Albert Van Dyck\, Albert Van Dyckstraat 10\, Turnhout\, Antwerpen\, 2300\, Belgium
CATEGORIES:Goed om weten
ATTACH;FMTTYPE=image/png:https://zorggroep-orion.be/wp-content/uploads/2024/10/cafetaria-LDC-AVD.png
END:VEVENT
BEGIN:VEVENT
DTSTART;TZID=Europe/Brussels:20241107T140000
DTEND;TZID=Europe/Brussels:20241107T170000
DTSTAMP:20260425T131054
CREATED:20240925T091242Z
LAST-MODIFIED:20240926T085549Z
UID:10611314-1730988000-1730998800@zorggroep-orion.be
SUMMARY:DIAMOND PAINTING @ Albert
DESCRIPTION:Workshop Diamond Painting! \nBen jij een beetje creatief\, heb je veel geduld of wil je gewoon een gezellige amusante namiddag? \nDit kan perfect in Dienstencentrum Albert Van Dyck en de koffie staat steeds klaar. \nWe maken Kerstkaarten in al zijn geuren en kleuren. Inschrijven kan vanaf heden à € 1 (koffie). \nGemaakte kaarten ter plaatse te betalen.
URL:https://zorggroep-orion.be/activiteit/diamond-painting-albert/
LOCATION:Dienstencentrum Albert Van Dyck\, Albert Van Dyckstraat 10\, Turnhout\, Antwerpen\, 2300\, Belgium
CATEGORIES:Workshop
ATTACH;FMTTYPE=image/png:https://zorggroep-orion.be/wp-content/uploads/2023/10/LDC-AVD-Diamond-painting-11-2023.png
END:VEVENT
BEGIN:VEVENT
DTSTART;VALUE=DATE:20241101
DTEND;VALUE=DATE:20241102
DTSTAMP:20260425T131054
CREATED:20241021T065208Z
LAST-MODIFIED:20241022T074031Z
UID:10611344-1730419200-1730505599@zorggroep-orion.be
SUMMARY:ALLERHEILIGEN @ Albert
DESCRIPTION:Allerheiligen\, een dag om alle Heiligen te vieren. Tijdens deze dagen komen vele mensen samen om alle overledenen te herdenken. \nOok in Albert Van Dyck ontmoeten wij en komen gezellig samen in ons cafetaria of restaurant voor een lekkere maaltijd of een drankje! Hartelijk welkom. \nCafetaria open van 11.30 u – 17 u  \nRestaurant open van 12 u – 13.30 u  \nKANTOREN GESLOTEN
URL:https://zorggroep-orion.be/activiteit/allerheiligen-albert-2/
LOCATION:Dienstencentrum Albert Van Dyck\, Albert Van Dyckstraat 10\, Turnhout\, Antwerpen\, 2300\, Belgium
CATEGORIES:Dienstverlening
ATTACH;FMTTYPE=image/png:https://zorggroep-orion.be/wp-content/uploads/2024/10/chantal-en-mia.png
END:VEVENT
BEGIN:VEVENT
DTSTART;TZID=Europe/Brussels:20240721T163000
DTEND;TZID=Europe/Brussels:20240721T163000
DTSTAMP:20260425T131054
CREATED:20240925T115258Z
LAST-MODIFIED:20240925T115258Z
UID:10611326-1721579400-1721579400@zorggroep-orion.be
SUMMARY:ALLERHEILIGEN @ Albert
DESCRIPTION:Wij zijn open: Hartelijk welkom in ons cafetaria of restaurant voor een hapje of een tapje. \nHier is altijd wel iets te beleven\, want onze vrijwilligers blijven gedreven! \nCafetaria 11.30 u – 17 u – Restaurant 12 u – 13.30 u \nKantoren zijn GESLOTEN!
URL:https://zorggroep-orion.be/activiteit/allerheiligen-albert/
LOCATION:Dienstencentrum Albert Van Dyck\, Albert Van Dyckstraat 10\, Turnhout\, Antwerpen\, 2300\, Belgium
CATEGORIES:Feest
ATTACH;FMTTYPE=image/png:https://zorggroep-orion.be/wp-content/uploads/2024/09/11-ALLERHEILIGEN-LDC-AVD-2024-1.png
END:VEVENT
END:VCALENDAR