BEGIN:VCALENDAR
VERSION:2.0
PRODID:-//Zorggroep Orion - ECPv6.15.17.1//NONSGML v1.0//EN
CALSCALE:GREGORIAN
METHOD:PUBLISH
X-ORIGINAL-URL:https://zorggroep-orion.be
X-WR-CALDESC:Evenementen voor Zorggroep Orion
REFRESH-INTERVAL;VALUE=DURATION:PT1H
X-Robots-Tag:noindex
X-PUBLISHED-TTL:PT1H
BEGIN:VTIMEZONE
TZID:Europe/Brussels
BEGIN:DAYLIGHT
TZOFFSETFROM:+0100
TZOFFSETTO:+0200
TZNAME:CEST
DTSTART:20240331T010000
END:DAYLIGHT
BEGIN:STANDARD
TZOFFSETFROM:+0200
TZOFFSETTO:+0100
TZNAME:CET
DTSTART:20241027T010000
END:STANDARD
BEGIN:DAYLIGHT
TZOFFSETFROM:+0100
TZOFFSETTO:+0200
TZNAME:CEST
DTSTART:20250330T010000
END:DAYLIGHT
BEGIN:STANDARD
TZOFFSETFROM:+0200
TZOFFSETTO:+0100
TZNAME:CET
DTSTART:20251026T010000
END:STANDARD
BEGIN:DAYLIGHT
TZOFFSETFROM:+0100
TZOFFSETTO:+0200
TZNAME:CEST
DTSTART:20260329T010000
END:DAYLIGHT
BEGIN:STANDARD
TZOFFSETFROM:+0200
TZOFFSETTO:+0100
TZNAME:CET
DTSTART:20261025T010000
END:STANDARD
END:VTIMEZONE
BEGIN:VEVENT
DTSTART;TZID=Europe/Brussels:20250131T133000
DTEND;TZID=Europe/Brussels:20250131T163000
DTSTAMP:20260425T045254
CREATED:20241217T094030Z
LAST-MODIFIED:20241217T094030Z
UID:10611655-1738330200-1738341000@zorggroep-orion.be
SUMMARY:INLOOPHUIS DEMENTIE Turnhout
DESCRIPTION:Het inloophuis is een informatiepunt en een ontmoetingsplaats voor mensen met (jong)dementie en hun familie\, mensen die hen ondersteunen en/of verzorgen. Er zijn steeds zorgprofessionals en vrijwilligers aanwezig. Zij luisteren naar ieders verhaal.\n\n\n\nNood aan een luisterend oor? Informatie nodig? Hopeloos verdwaald in het zorgaanbod? Of wil je gewoon even praten met lotgenoten? Kom dan zeker langs! Vanaf 13.30 uur staan onze deuren wagenwijd open voor iedereen!\n\n\n\nHet inloophuis is elke laatste vrijdag van de maand geopend van 13.30 tot 16.30 uur.\nLocatie: LDC DE WISSEL – Dr. Nandpeetersstraat 33 – 2300 TURNHOUT\n\n\n\nDit is een gezamenlijk initiatief van Alzheimer Liga Vlaanderen\, Zorggroep Orion\, AZ Turnhout\, Expertisecentrum Dementie Tandem en Stad Turnhout.
URL:https://zorggroep-orion.be/activiteit/inloophuis-dementie-turnhout-2/
LOCATION:Dienstencentrum Albert Van Dyck\, Albert Van Dyckstraat 10\, Turnhout\, Antwerpen\, 2300\, Belgium
CATEGORIES:Dienstverlening
ATTACH;FMTTYPE=image/png:https://zorggroep-orion.be/wp-content/uploads/2024/01/logo-inloophuis-dementie.png
END:VEVENT
BEGIN:VEVENT
DTSTART;TZID=Europe/Brussels:20250128T143000
DTEND;TZID=Europe/Brussels:20250128T163000
DTSTAMP:20260425T045254
CREATED:20241218T123551Z
LAST-MODIFIED:20241218T123551Z
UID:10615430-1738074600-1738081800@zorggroep-orion.be
SUMMARY:PC DEMENTIE @ ST. Lucia
DESCRIPTION:‘Broze Schrijfsels bij Trillende Snaren.’ \nAls gewezen mantelzorger voor zijn echtgenote met dementie\, brengt Jerom jullie een ontspannend moment van fijne luisterliedjes\, liedjes met inhoud\, liedjes met een ziel\, vaak ontroerend\, dan weer speels\, melancholisch\, aangrijpend…Poëtische bedenkingen\, levensechte verhalen\, diverse anekdotes en onverwachte voorvalletjes worden rond deze kleinkunstliedjes verweven\, en zullen vaak als herkenbaar worden aangevoeld! \nLOCATIE/ WZC ST LUCIA – CLARISSENDREEF 1 – 2300 TURNHOUT \nInschrijven – T 0474 31 83 44\nMail – turnhout@alzheimerligavlaanderen.be\n\nSAVE THE DATE VOLGENDE MAAND: 4 FEB. 2025 INFO VOLGT
URL:https://zorggroep-orion.be/activiteit/pc-dementie-st-lucia/
LOCATION:Dienstencentrum Albert Van Dyck\, Albert Van Dyckstraat 10\, Turnhout\, Antwerpen\, 2300\, Belgium
CATEGORIES:Infosessie
ATTACH;FMTTYPE=image/png:https://zorggroep-orion.be/wp-content/uploads/2024/12/PC-DEMENTIE-LDC-AVD-JAN-2025-.png
END:VEVENT
BEGIN:VEVENT
DTSTART;TZID=Europe/Brussels:20250128T140000
DTEND;TZID=Europe/Brussels:20250128T160000
DTSTAMP:20260425T045254
CREATED:20241217T090116Z
LAST-MODIFIED:20241217T090116Z
UID:10611652-1738072800-1738080000@zorggroep-orion.be
SUMMARY:KOFFIE EN PAPIEREN @ Wissel
DESCRIPTION:Ben je onzeker bij het invullen van een formulier? Begrijp je een brief niet? Wil je hulp bij een telefoon naar een dienst? …\nTijdens koffie & papieren zijn we er om je op weg te helpen. \nDit is gratis. Je moet geen afspraak maken\, kom gewoon langs.\nLOCATIE DE WISSEL – Dr. Nandpeetersstraat 33 – 2300 TURNHOUT
URL:https://zorggroep-orion.be/activiteit/koffie-en-papieren-wissel/
LOCATION:Dienstencentrum Albert Van Dyck\, Albert Van Dyckstraat 10\, Turnhout\, Antwerpen\, 2300\, Belgium
CATEGORIES:Dienstverlening
ATTACH;FMTTYPE=image/png:https://zorggroep-orion.be/wp-content/uploads/2023/09/koffie-en-papieren-2023-okt.png
END:VEVENT
BEGIN:VEVENT
DTSTART;TZID=Europe/Brussels:20250120T093000
DTEND;TZID=Europe/Brussels:20250120T123000
DTSTAMP:20260425T045254
CREATED:20241217T091948Z
LAST-MODIFIED:20250114T123705Z
UID:10611653-1737365400-1737376200@zorggroep-orion.be
SUMMARY:KOKEN @ Albert GEANNULEERD
DESCRIPTION:Workshop koken – Met een groepje van max. 12 personen zorgt Christine voor een heerlijk gerecht. Dit alles samen met jullie\, in goed gezelschap en een leuke groepsdynamiek\, genieten we en steken vooral veel op van deze workshop. \nDeze maand op het menu ”Hutsepot van lam”. \nOpgelet: omv. onvoorziene omstandigheden is deze verplaatst naar 17 februari 2024! \nHartelijk welkom in de keuken van Christine! \n 
URL:https://zorggroep-orion.be/activiteit/koken-albert-14/
LOCATION:Dienstencentrum Albert Van Dyck\, Albert Van Dyckstraat 10\, Turnhout\, Antwerpen\, 2300\, Belgium
CATEGORIES:Workshop
ATTACH;FMTTYPE=image/jpeg:https://zorggroep-orion.be/wp-content/uploads/2024/12/9.jpg
END:VEVENT
BEGIN:VEVENT
DTSTART;TZID=Europe/Brussels:20250106T100000
DTEND;TZID=Europe/Brussels:20250106T120000
DTSTAMP:20260425T045254
CREATED:20241218T104451Z
LAST-MODIFIED:20241218T104451Z
UID:10615167-1736157600-1736164800@zorggroep-orion.be
SUMMARY:BIBLIOTHEEK @ Albert
DESCRIPTION:Wil jij je vrije tijd zinvol en rustig invullen door het lezen van een boekje? Iedere maandagvoormiddag is onze bibliotheek i.s.m. Bib Turnhout open vanaf 10 u en zullen de vrijwilligers van dienst jullie graag doorheen de literatuur loodsen. Er zit vast ook iets voor jou tussen! Wij zijn ook in het bezit van luisterboeken.  \nHartelijk Welkom.  
URL:https://zorggroep-orion.be/activiteit/bibliotheek-albert/
LOCATION:Dienstencentrum Albert Van Dyck\, Albert Van Dyckstraat 10\, Turnhout\, Antwerpen\, 2300\, Belgium
CATEGORIES:Dienstverlening,Hersenpan
ATTACH;FMTTYPE=image/png:https://zorggroep-orion.be/wp-content/uploads/2024/12/BIB-LDC-AVD-JAN-2025-.png
END:VEVENT
BEGIN:VEVENT
DTSTART;VALUE=DATE:20250101
DTEND;VALUE=DATE:20250102
DTSTAMP:20260425T045254
CREATED:20241216T152521Z
LAST-MODIFIED:20241216T152521Z
UID:10611645-1735689600-1735775999@zorggroep-orion.be
SUMMARY:NIEUWJAARSDAG @ Albert
DESCRIPTION:Namens het TEAM van LDC Albert Van Dyck\, Carine\, Dorien\, Anita en Britt wensen wij jullie allen: \nOnze allerliefste\, warme\, liefdevolle gezonde wensen voor het nieuwe jaar!\nOok 2025 wordt een jaar met een waaier aan activiteiten voor jong en oud! \nZin in een hapje of een tapje\, of gewoon genieten van leuk gezelschap in een sfeervol kader?\nSteeds HARTELIJK WELKOM in ons centrum\, wij en onze vrijwilligers ontvangen jullie met open armen.\n\n\nOok vandaag zijn wij open: \nRESTAURANT 12 u – 13.30 u \nCAFETARIA 11.30 u
URL:https://zorggroep-orion.be/activiteit/nieuwjaarsdag-albert/
LOCATION:Dienstencentrum Albert Van Dyck\, Albert Van Dyckstraat 10\, Turnhout\, Antwerpen\, 2300\, Belgium
CATEGORIES:Goed om weten
ATTACH;FMTTYPE=image/png:https://zorggroep-orion.be/wp-content/uploads/2024/12/LDC-AVD-1-JAN-2025-.png
END:VEVENT
END:VCALENDAR