BEGIN:VCALENDAR
VERSION:2.0
PRODID:-//Zorggroep Orion - ECPv6.15.17.1//NONSGML v1.0//EN
CALSCALE:GREGORIAN
METHOD:PUBLISH
X-ORIGINAL-URL:https://zorggroep-orion.be
X-WR-CALDESC:Evenementen voor Zorggroep Orion
REFRESH-INTERVAL;VALUE=DURATION:PT1H
X-Robots-Tag:noindex
X-PUBLISHED-TTL:PT1H
BEGIN:VTIMEZONE
TZID:Europe/Brussels
BEGIN:DAYLIGHT
TZOFFSETFROM:+0100
TZOFFSETTO:+0200
TZNAME:CEST
DTSTART:20240331T010000
END:DAYLIGHT
BEGIN:STANDARD
TZOFFSETFROM:+0200
TZOFFSETTO:+0100
TZNAME:CET
DTSTART:20241027T010000
END:STANDARD
BEGIN:DAYLIGHT
TZOFFSETFROM:+0100
TZOFFSETTO:+0200
TZNAME:CEST
DTSTART:20250330T010000
END:DAYLIGHT
BEGIN:STANDARD
TZOFFSETFROM:+0200
TZOFFSETTO:+0100
TZNAME:CET
DTSTART:20251026T010000
END:STANDARD
BEGIN:DAYLIGHT
TZOFFSETFROM:+0100
TZOFFSETTO:+0200
TZNAME:CEST
DTSTART:20260329T010000
END:DAYLIGHT
BEGIN:STANDARD
TZOFFSETFROM:+0200
TZOFFSETTO:+0100
TZNAME:CET
DTSTART:20261025T010000
END:STANDARD
BEGIN:DAYLIGHT
TZOFFSETFROM:+0100
TZOFFSETTO:+0200
TZNAME:CEST
DTSTART:20270328T010000
END:DAYLIGHT
BEGIN:STANDARD
TZOFFSETFROM:+0200
TZOFFSETTO:+0100
TZNAME:CET
DTSTART:20271031T010000
END:STANDARD
END:VTIMEZONE
BEGIN:VEVENT
DTSTART;TZID=Europe/Brussels:20260320T090000
DTEND;TZID=Europe/Brussels:20260320T180000
DTSTAMP:20260425T122825
CREATED:20260211T083648Z
LAST-MODIFIED:20260310T195831Z
UID:10626281-1773997200-1774029600@zorggroep-orion.be
SUMMARY:SHOPPEN / DAGJE EINDHOVEN @ Albert VOLZET
DESCRIPTION:Wat is er gezelliger dan in goed gezelschap te genieten van een dagje uit naar Eindhoven? \nOnze Noorderburen heten jullie van harte welkom in hun winkelparadijsjes. \nWij vertrekken om 9 u bij onze hoofdingang van ons centrum. Je kan zelf je dag invullen naar wens en om 17 u staat onze chauffeur van dienst\, Dirk weer paraat om jullie in alle veiligheid weer thuis te brengen. \nInschrijven\, want de plaatsen zijn beperkt. (bij veel interesse leggen we een 2e datum vast)
URL:https://zorggroep-orion.be/activiteit/shoppen-dagje-eindhoven-albert/
LOCATION:Dienstencentrum Albert Van Dyck\, Albert Van Dyckstraat 10\, Turnhout\, Antwerpen\, 2300\, Belgium
CATEGORIES:Uitstap
ATTACH;FMTTYPE=image/png:https://zorggroep-orion.be/wp-content/uploads/2026/02/03-SHOPPEN-MAART-LDC-AVD.png
END:VEVENT
BEGIN:VEVENT
DTSTART;TZID=Europe/Brussels:20250428T163000
DTEND;TZID=Europe/Brussels:20250428T163000
DTSTAMP:20260425T122825
CREATED:20250306T152943Z
LAST-MODIFIED:20250310T134218Z
UID:10615827-1745857800-1745857800@zorggroep-orion.be
SUMMARY:SMULACTIVITEIT VOGELNESTJES @ Albert
DESCRIPTION:Vogelnestjes: gehakt rond een zachtgekookt eitje op een bedje van een rijke tomatensaus\, gegarneerd met pomme duchesse toveren op ons bord een echte Vlaamse klassieker in april. \nGelieve vooraf in te schrijven\, vanaf dinsdag 1 april 2025 – 9 u en smullen maar uiteraard in goed gezelschap!  \nHartelijk Welkom.
URL:https://zorggroep-orion.be/activiteit/smulactiviteit-vogelnestjes-albert/
LOCATION:Dienstencentrum Albert Van Dyck\, Albert Van Dyckstraat 10\, Turnhout\, Antwerpen\, 2300\, Belgium
CATEGORIES:Eten & Drinken
ATTACH;FMTTYPE=image/png:https://zorggroep-orion.be/wp-content/uploads/2025/03/SMULACT-VOGELNESTJES-LDC-AVD-APRIL-2025.png
END:VEVENT
BEGIN:VEVENT
DTSTART;TZID=Europe/Brussels:20250331T163000
DTEND;TZID=Europe/Brussels:20250331T163000
DTSTAMP:20260425T122825
CREATED:20250218T111600Z
LAST-MODIFIED:20250218T153625Z
UID:10615611-1743438600-1743438600@zorggroep-orion.be
SUMMARY:SMULACTIVITEIT @ Albert
DESCRIPTION:De bomen worden groener\, de planten gaan in bloei\, dus tijd om te vieren. \nBij Albert Van Dyck vieren we het begin van de LENTE met een heerlijke klassieker op ons menu. \nKroketten met Gebraad en warme groentjes! \nGelieve vooraf in te schrijven\, vanaf 3 maart 2025 – 9 u en smullen maar\, uiteraard in goed gezelschap!   \nHartelijk Welkom.
URL:https://zorggroep-orion.be/activiteit/smulactiviteit-albert-4/
LOCATION:Dienstencentrum Albert Van Dyck\, Albert Van Dyckstraat 10\, Turnhout\, Antwerpen\, 2300\, Belgium
CATEGORIES:Eten & Drinken
ATTACH;FMTTYPE=image/png:https://zorggroep-orion.be/wp-content/uploads/2024/02/smul-03-LDC-AVD-2024.png
END:VEVENT
BEGIN:VEVENT
DTSTART;TZID=Europe/Brussels:20250327T140000
DTEND;TZID=Europe/Brussels:20250327T160000
DTSTAMP:20260425T122825
CREATED:20250218T152342Z
LAST-MODIFIED:20250218T152901Z
UID:10615613-1743084000-1743091200@zorggroep-orion.be
SUMMARY:KOFFIE EN PAPIEREN @ Niefhout
DESCRIPTION:Ben je onzeker bij het invullen van een formulier? Begrijp je een brief niet? Wil je hulp bij een telefoon naar een dienst? …\nTijdens koffie & papieren zijn we er om je op weg te helpen. \nJe moet geen afspraak maken\, kom gewoon vrijblijvend langs. \nLocatie: Peuterspeelpunt Niefhout – Dr. Nandpeetersstraat 33 – 2300 TURNHOUT
URL:https://zorggroep-orion.be/activiteit/koffie-en-papieren-niefhout/
LOCATION:Dienstencentrum Albert Van Dyck\, Albert Van Dyckstraat 10\, Turnhout\, Antwerpen\, 2300\, Belgium
CATEGORIES:Dienstverlening
ATTACH;FMTTYPE=image/png:https://zorggroep-orion.be/wp-content/uploads/2023/09/koffie-en-papieren-2023-okt.png
END:VEVENT
BEGIN:VEVENT
DTSTART;TZID=Europe/Brussels:20250326T140000
DTEND;TZID=Europe/Brussels:20250326T163000
DTSTAMP:20260425T122825
CREATED:20250217T152733Z
LAST-MODIFIED:20250218T092830Z
UID:10615607-1742997600-1743006600@zorggroep-orion.be
SUMMARY:WORKSHOP JUWELEN @ Albert
DESCRIPTION:In deze workshop leer je in een mum van tijd hoe je een prachtig brillen-koordje of een nieuw juweeltje maakt van oude of nieuwe pareltjes. \nLaat je verleiden door de schittering van parels\, kom gezellig langs in ons centrum. \nPrijs afhankelijk van de gebruikte materialen. Allen hartelijk welkom!
URL:https://zorggroep-orion.be/activiteit/workshop-juwelen-albert-2/
LOCATION:Dienstencentrum Albert Van Dyck\, Albert Van Dyckstraat 10\, Turnhout\, Antwerpen\, 2300\, Belgium
CATEGORIES:Workshop
ATTACH;FMTTYPE=image/png:https://zorggroep-orion.be/wp-content/uploads/2022/06/worksch.-brillenkoordjes-LDC-AVD.png
END:VEVENT
BEGIN:VEVENT
DTSTART;TZID=Europe/Brussels:20250319T140000
DTEND;TZID=Europe/Brussels:20250319T170000
DTSTAMP:20260425T122825
CREATED:20250217T145409Z
LAST-MODIFIED:20250217T145409Z
UID:10615603-1742392800-1742403600@zorggroep-orion.be
SUMMARY:VADERDAG BAL @ Albert
DESCRIPTION:VADERS\, PAPA’s\, PLUS PAPA’s\, OPA’s\, haal die dansschoenen uit de kast. Speciaal voor jullie en je gezelschap vieren we vandaag de Heilige Jozef. Dansen of sjansen met Heidi\, een nieuwkomer in ons centrum\, zij brengt zowel Nederlands-  als Engelstalige liederen die we allemaal kennen \nKom haar alvast aanmoedigen en geniet mee in leuk gezelschap van dit muzikaal talent. \nMet zijn allen daarheen …. Hartelijk welkom in ons centrum. \nInschrijven tot 17 maart € 5 incl. hapjes. \n 
URL:https://zorggroep-orion.be/activiteit/vaderdag-bal-albert-2/
LOCATION:Dienstencentrum Albert Van Dyck\, Albert Van Dyckstraat 10\, Turnhout\, Antwerpen\, 2300\, Belgium
CATEGORIES:Recreatie
ATTACH;FMTTYPE=image/png:https://zorggroep-orion.be/wp-content/uploads/2025/02/VADERDAG-BAL-LDC-AVD-03-2025.png
END:VEVENT
BEGIN:VEVENT
DTSTART;TZID=Europe/Brussels:20250317T093000
DTEND;TZID=Europe/Brussels:20250317T123000
DTSTAMP:20260425T122825
CREATED:20250213T133125Z
LAST-MODIFIED:20250213T133310Z
UID:10615601-1742203800-1742214600@zorggroep-orion.be
SUMMARY:KOKEN @ Albert
DESCRIPTION:Workshop koken – Met een groepje van max. 12 personen zorgt Christine voor een heerlijk gerecht. Dit alles samen met jullie\, in goed gezelschap en een leuke groepsdynamiek\, genieten we en steken vooral veel op van deze workshop. \nDeze maand op het menu ”Wuif maart de winter uit”. (carpaccio timbaaltje\, waterzooi van kip en brownies) \nHartelijk welkom in de keuken van Christine! \n 
URL:https://zorggroep-orion.be/activiteit/koken-albert-16/
LOCATION:Dienstencentrum Albert Van Dyck\, Albert Van Dyckstraat 10\, Turnhout\, Antwerpen\, 2300\, Belgium
CATEGORIES:Workshop
ATTACH;FMTTYPE=image/png:https://zorggroep-orion.be/wp-content/uploads/2025/02/KOKEN-LDC-AVD-03-2025.png
END:VEVENT
BEGIN:VEVENT
DTSTART;TZID=Europe/Brussels:20250310T180000
DTEND;TZID=Europe/Brussels:20250310T200000
DTSTAMP:20260425T122825
CREATED:20250213T134620Z
LAST-MODIFIED:20250213T134620Z
UID:10615602-1741629600-1741636800@zorggroep-orion.be
SUMMARY:INFOAVOND SOLO + @ Albert
DESCRIPTION:Een avond voor alleenstaande (solo of koppels): Wat met genegenheid bij het alleen zijn? \n\nVoordracht rond huidhonger. Wat is huidhonger? \nZit jij soms niet goed in jouw vel ? En weet je niet waar dit vandaan komt ? Misschien heb jij dan wel huidhonger. We vertellen jou alles over wat het is\, waar het vandaan komt en we bekijken samen wat je eraan kan doen. \nDeze voordracht wordt gebracht door Saskia Baert\, (psychologe in WZC De Wending en WZC De Vliet). \nLOCATIE : Cafetaria van LDC ALBERT VAN DYCK – Albert Van Dyckstraat 10 – 2300 Turnhout.
URL:https://zorggroep-orion.be/activiteit/infoavond-solo-albert/
LOCATION:Dienstencentrum Albert Van Dyck\, Albert Van Dyckstraat 10\, Turnhout\, Antwerpen\, 2300\, Belgium
CATEGORIES:Infosessie
ATTACH;FMTTYPE=image/png:https://zorggroep-orion.be/wp-content/uploads/2025/02/SOLO-LDC-AVD-2025.png
END:VEVENT
BEGIN:VEVENT
DTSTART;TZID=Europe/Brussels:20250305T150000
DTEND;TZID=Europe/Brussels:20250305T170000
DTSTAMP:20260425T122825
CREATED:20250218T092223Z
LAST-MODIFIED:20250218T092223Z
UID:10615608-1741186800-1741194000@zorggroep-orion.be
SUMMARY:RECHTZETTING VERLOREN MAANDAG @ Albert
DESCRIPTION:Iedereen die was ingeschreven voor Verloren Maandag op 13 jan. 2025 nodigen we graag uit voor koffie en gebak. \nTussen 15 en 17 u kunnen jullie hiervoor langs komen in ‘t restaurant van Albert Van Dyck. \nEen mooi gebaar en fijne samenwerking tussen Orion en Compass Group\, waarvoor dank.
URL:https://zorggroep-orion.be/activiteit/rechtzetting-verloren-maandag-albert/
LOCATION:Dienstencentrum Albert Van Dyck\, Albert Van Dyckstraat 10\, Turnhout\, Antwerpen\, 2300\, Belgium
CATEGORIES:Eten & Drinken
ATTACH;FMTTYPE=image/png:https://zorggroep-orion.be/wp-content/uploads/2025/02/GEBAK-03-LDC-AVD-2025-1.png
END:VEVENT
BEGIN:VEVENT
DTSTART;VALUE=DATE:20250301
DTEND;VALUE=DATE:20250302
DTSTAMP:20260425T122825
CREATED:20250213T130548Z
LAST-MODIFIED:20250213T131219Z
UID:10615598-1740787200-1740873599@zorggroep-orion.be
SUMMARY:COMPLIMENTENDAG @ Albert
DESCRIPTION:Strooi vandaag met complimenten\, Strooi met mooi en met wat lief\nStrooi vandaag mooie momenten\, Strooi met kleur en expressief\nStrooi vandaag met welgemeend\, met onverwacht en creatief \nStrooi vandaag met zuiver goud\, met prachtig licht en positief.
URL:https://zorggroep-orion.be/activiteit/complimentendag-albert-2/
LOCATION:Dienstencentrum Albert Van Dyck\, Albert Van Dyckstraat 10\, Turnhout\, Antwerpen\, 2300\, Belgium
CATEGORIES:Goed om weten
ATTACH;FMTTYPE=image/png:https://zorggroep-orion.be/wp-content/uploads/2025/02/complimentendag-1-maart-2025.png
END:VEVENT
END:VCALENDAR