BEGIN:VCALENDAR
VERSION:2.0
PRODID:-//Zorggroep Orion - ECPv6.15.17.1//NONSGML v1.0//EN
CALSCALE:GREGORIAN
METHOD:PUBLISH
X-ORIGINAL-URL:https://zorggroep-orion.be
X-WR-CALDESC:Evenementen voor Zorggroep Orion
REFRESH-INTERVAL;VALUE=DURATION:PT1H
X-Robots-Tag:noindex
X-PUBLISHED-TTL:PT1H
BEGIN:VTIMEZONE
TZID:Europe/Brussels
BEGIN:DAYLIGHT
TZOFFSETFROM:+0100
TZOFFSETTO:+0200
TZNAME:CEST
DTSTART:20240331T010000
END:DAYLIGHT
BEGIN:STANDARD
TZOFFSETFROM:+0200
TZOFFSETTO:+0100
TZNAME:CET
DTSTART:20241027T010000
END:STANDARD
BEGIN:DAYLIGHT
TZOFFSETFROM:+0100
TZOFFSETTO:+0200
TZNAME:CEST
DTSTART:20250330T010000
END:DAYLIGHT
BEGIN:STANDARD
TZOFFSETFROM:+0200
TZOFFSETTO:+0100
TZNAME:CET
DTSTART:20251026T010000
END:STANDARD
BEGIN:DAYLIGHT
TZOFFSETFROM:+0100
TZOFFSETTO:+0200
TZNAME:CEST
DTSTART:20260329T010000
END:DAYLIGHT
BEGIN:STANDARD
TZOFFSETFROM:+0200
TZOFFSETTO:+0100
TZNAME:CET
DTSTART:20261025T010000
END:STANDARD
END:VTIMEZONE
BEGIN:VEVENT
DTSTART;TZID=Europe/Brussels:20250630T163000
DTEND;TZID=Europe/Brussels:20250630T163000
DTSTAMP:20260425T060650
CREATED:20250514T125520Z
LAST-MODIFIED:20250514T125520Z
UID:10616412-1751301000-1751301000@zorggroep-orion.be
SUMMARY:SMULACTIVITEIT HARINGBAK @ Albert
DESCRIPTION:Ja hoor\, ze zijn er weer – de haringen (1\,5 pp.) swingen de pan uit! \nDeze worden geserveerd met uiensaus en brood met boter. \nGelieve vooraf in te schrijven\, vanaf maandag 2 juni 2025. \nGezellig genieten in goed gezelschap – en géén geur in de keuken\, wat wil je nog meer? Hartelijk Welkom.
URL:https://zorggroep-orion.be/activiteit/smulactiviteit-haringbak-albert-2/
LOCATION:Dienstencentrum Albert Van Dyck\, Albert Van Dyckstraat 10\, Turnhout\, Antwerpen\, 2300\, Belgium
CATEGORIES:Eten & Drinken
ATTACH;FMTTYPE=image/png:https://zorggroep-orion.be/wp-content/uploads/2023/03/act-haringbak.png
END:VEVENT
BEGIN:VEVENT
DTSTART;TZID=Europe/Brussels:20250630T093000
DTEND;TZID=Europe/Brussels:20250630T123000
DTSTAMP:20260425T060650
CREATED:20250520T095309Z
LAST-MODIFIED:20250520T095309Z
UID:10618633-1751275800-1751286600@zorggroep-orion.be
SUMMARY:KOKEN @ Albert
DESCRIPTION:Workshop koken – Met een groepje van max. 12 personen zorgt Christine voor een heerlijk gerecht. Dit alles samen met jullie\, in goed gezelschap en een leuke groepsdynamiek\, genieten we en steken vooral veel op van deze workshop. \nDeze maand op het menu\, “Bella Italia\,ti amo”! \nHartelijk welkom in de keuken van Christine! \n 
URL:https://zorggroep-orion.be/activiteit/koken-albert-19/
LOCATION:Dienstencentrum Albert Van Dyck\, Albert Van Dyckstraat 10\, Turnhout\, Antwerpen\, 2300\, Belgium
CATEGORIES:Workshop
ATTACH;FMTTYPE=image/png:https://zorggroep-orion.be/wp-content/uploads/2025/05/KOKEN-ITALIAANS-LDC-AVD-2025.png
END:VEVENT
BEGIN:VEVENT
DTSTART;TZID=Europe/Brussels:20250627T133000
DTEND;TZID=Europe/Brussels:20250627T163000
DTSTAMP:20260425T060650
CREATED:20250410T104623Z
LAST-MODIFIED:20250410T104623Z
UID:10616415-1751031000-1751041800@zorggroep-orion.be
SUMMARY:INLOOPHUIS DEMENTIE Turnhout
DESCRIPTION:Het inloophuis is een informatiepunt en een ontmoetingsplaats voor mensen met (jong)dementie en hun familie\, mensen die hen ondersteunen en/of verzorgen. Er zijn steeds zorgprofessionals en vrijwilligers aanwezig. Zij luisteren naar ieders verhaal.\n\n\n\nNood aan een luisterend oor? Informatie nodig? Hopeloos verdwaald in het zorgaanbod? Of wil je gewoon even praten met lotgenoten? Kom dan zeker langs! Vanaf 13.30 uur staan onze deuren wagenwijd open voor iedereen!\n\n\n\nHet inloophuis is elke laatste vrijdag van de maand geopend van 13.30 tot 16.30 uur.\nLocatie: LDC DE WISSEL – Dr. Nandpeetersstraat 33 – 2300 TURNHOUT\n\n\n\nDit is een gezamenlijk initiatief van Alzheimer Liga Vlaanderen\, Zorggroep Orion\, AZ Turnhout\, Expertisecentrum Dementie Tandem en Stad Turnhout.
URL:https://zorggroep-orion.be/activiteit/inloophuis-dementie-turnhout-12/
LOCATION:Dienstencentrum Albert Van Dyck\, Albert Van Dyckstraat 10\, Turnhout\, Antwerpen\, 2300\, Belgium
CATEGORIES:Dienstverlening
ATTACH;FMTTYPE=image/png:https://zorggroep-orion.be/wp-content/uploads/2024/01/logo-inloophuis-dementie.png
END:VEVENT
BEGIN:VEVENT
DTSTART;TZID=Europe/Brussels:20250626T140000
DTEND;TZID=Europe/Brussels:20250626T160000
DTSTAMP:20260425T060650
CREATED:20250521T114149Z
LAST-MODIFIED:20250521T114149Z
UID:10618635-1750946400-1750953600@zorggroep-orion.be
SUMMARY:KOFFIE EN PAPIEREN @ Niefhout
DESCRIPTION:Ben je onzeker bij het invullen van een formulier? Begrijp je een brief niet? Wil je hulp bij een telefoon naar een dienst? …\nTijdens koffie & papieren zijn we er om je op weg te helpen. \nJe moet geen afspraak maken\, kom gewoon vrijblijvend langs. \nLocatie: Peuterspeelpunt Niefhout – Dr. Nandpeetersstraat 33 – 2300 TURNHOUT
URL:https://zorggroep-orion.be/activiteit/koffie-en-papieren-niefhout-3/
LOCATION:Dienstencentrum Albert Van Dyck\, Albert Van Dyckstraat 10\, Turnhout\, Antwerpen\, 2300\, Belgium
CATEGORIES:Dienstverlening
ATTACH;FMTTYPE=image/png:https://zorggroep-orion.be/wp-content/uploads/2023/09/koffie-en-papieren-2023-okt.png
END:VEVENT
BEGIN:VEVENT
DTSTART;TZID=Europe/Brussels:20250620T140000
DTEND;TZID=Europe/Brussels:20250620T170000
DTSTAMP:20260425T060650
CREATED:20250515T092854Z
LAST-MODIFIED:20250515T092854Z
UID:10618361-1750428000-1750438800@zorggroep-orion.be
SUMMARY:DANSEN EN SJANSEN in 't Café @ Albert
DESCRIPTION:Gezellig tafelen\, dansen en sjansen in ons Café met Rene. Deze maand: ‘GOLDEN OLDIES’!  \nVolledig vrijblijvend toegang voor jong en oud\, Hartelijk welkom.  \n  \n 
URL:https://zorggroep-orion.be/activiteit/dansen-en-sjansen-in-t-cafe-albert/
LOCATION:Dienstencentrum Albert Van Dyck\, Albert Van Dyckstraat 10\, Turnhout\, Antwerpen\, 2300\, Belgium
CATEGORIES:Muziek
ATTACH;FMTTYPE=image/png:https://zorggroep-orion.be/wp-content/uploads/2023/12/dansen-en-sjansen-2024.png
END:VEVENT
BEGIN:VEVENT
DTSTART;VALUE=DATE:20250609
DTEND;VALUE=DATE:20250610
DTSTAMP:20260425T060650
CREATED:20250515T102411Z
LAST-MODIFIED:20250515T102411Z
UID:10618363-1749427200-1749513599@zorggroep-orion.be
SUMMARY:PINKSTERMAANDAG @ Albert
DESCRIPTION:Ook op Feestdagen blijven wij gezellig open.  ’t Leven is toch één groot feest\, maar je moet zelf de slingers hangen.  \nDankzij onze lieftallige vrijwilligers zijn jullie van harte welkom in ons centrum. Je kan hier terecht voor een babbel of een knabbel of neem gewoon een lekker drankje …. dit alles aan democratische prijzen en in goed gezelschap! \nCafetaria open vanaf 11.30 u \nRestaurant open vanaf 12 u. \nKantoren gesloten!
URL:https://zorggroep-orion.be/activiteit/pinkstermaandag-albert-2/
LOCATION:Dienstencentrum Albert Van Dyck\, Albert Van Dyckstraat 10\, Turnhout\, Antwerpen\, 2300\, Belgium
CATEGORIES:Goed om weten
ATTACH;FMTTYPE=image/png:https://zorggroep-orion.be/wp-content/uploads/2024/04/cafetaria-LDC-AVD.png
END:VEVENT
BEGIN:VEVENT
DTSTART;TZID=Europe/Brussels:20250604T090000
DTEND;TZID=Europe/Brussels:20250604T120000
DTSTAMP:20260425T060650
CREATED:20250521T112738Z
LAST-MODIFIED:20250521T121151Z
UID:10618364-1749027600-1749038400@zorggroep-orion.be
SUMMARY:ZITDAG BELASTINGEN @ Albert
DESCRIPTION:Tussen 9 en 12 u in LDC ALBERT VAN DYCK \n\n\nVrijwilliger van dienst LUC DEBONDT STAAT TER UWER BESCHIKKING \n\n\nAanmelden bij het ONTHAAL \n\n\nWacht geduldig uw beurt af\, zodat alles vlekkeloos kan verlopen! \n\n\nMeebrengen IDENTITEITSKAART en PINCODE (van de id) \nHeb je in Nederland gewerkt: meebrengen JAAROPGAVE 2024 \n 
URL:https://zorggroep-orion.be/activiteit/zitdag-belastingen-albert/
LOCATION:Dienstencentrum Albert Van Dyck\, Albert Van Dyckstraat 10\, Turnhout\, Antwerpen\, 2300\, Belgium
CATEGORIES:Dienstverlening
ATTACH;FMTTYPE=image/png:https://zorggroep-orion.be/wp-content/uploads/2024/05/BELASTINGEN-06-2024.png
END:VEVENT
END:VCALENDAR