BEGIN:VCALENDAR
VERSION:2.0
PRODID:-//Zorggroep Orion - ECPv6.15.17.1//NONSGML v1.0//EN
CALSCALE:GREGORIAN
METHOD:PUBLISH
X-ORIGINAL-URL:https://zorggroep-orion.be
X-WR-CALDESC:Evenementen voor Zorggroep Orion
REFRESH-INTERVAL;VALUE=DURATION:PT1H
X-Robots-Tag:noindex
X-PUBLISHED-TTL:PT1H
BEGIN:VTIMEZONE
TZID:Europe/Brussels
BEGIN:DAYLIGHT
TZOFFSETFROM:+0100
TZOFFSETTO:+0200
TZNAME:CEST
DTSTART:20240331T010000
END:DAYLIGHT
BEGIN:STANDARD
TZOFFSETFROM:+0200
TZOFFSETTO:+0100
TZNAME:CET
DTSTART:20241027T010000
END:STANDARD
BEGIN:DAYLIGHT
TZOFFSETFROM:+0100
TZOFFSETTO:+0200
TZNAME:CEST
DTSTART:20250330T010000
END:DAYLIGHT
BEGIN:STANDARD
TZOFFSETFROM:+0200
TZOFFSETTO:+0100
TZNAME:CET
DTSTART:20251026T010000
END:STANDARD
BEGIN:DAYLIGHT
TZOFFSETFROM:+0100
TZOFFSETTO:+0200
TZNAME:CEST
DTSTART:20260329T010000
END:DAYLIGHT
BEGIN:STANDARD
TZOFFSETFROM:+0200
TZOFFSETTO:+0100
TZNAME:CET
DTSTART:20261025T010000
END:STANDARD
END:VTIMEZONE
BEGIN:VEVENT
DTSTART;TZID=Europe/Brussels:20250728T163000
DTEND;TZID=Europe/Brussels:20250728T163000
DTSTAMP:20260425T045119
CREATED:20250526T092826Z
LAST-MODIFIED:20250526T092826Z
UID:10618664-1753720200-1753720200@zorggroep-orion.be
SUMMARY:SMULACTIVITEIT BBQ @ Albert
DESCRIPTION:Deze maand: jaarlijkse BBQ in ons centrum.  Schuif mee aan en geniet van een gezellige avond!  \nPrijs is incl.: 3 stukken vlees\, worst\, kipsaté en steak – groente buffet – aardappel- en pastasalade met stokbrood en sausjes. En bediening met de glimlach van onze lieftallige vrijwilligers van dienst!  \nPraktisch: \n\nInschrijven kan vanaf maandag 1 juli 2025\nSchrijf je in via Albert Van Dyck: 014 28 40 70 of albertvandyck@zorggroep-orion.be\nMails zijn pas definitief na bevestiging!
URL:https://zorggroep-orion.be/activiteit/smulactiviteit-bbq-albert-2/
LOCATION:Dienstencentrum Albert Van Dyck\, Albert Van Dyckstraat 10\, Turnhout\, Antwerpen\, 2300\, Belgium
CATEGORIES:Feest
ATTACH;FMTTYPE=image/jpeg:https://zorggroep-orion.be/wp-content/uploads/2024/05/act202406-BBQ@De-Wissel.jpg
END:VEVENT
BEGIN:VEVENT
DTSTART;TZID=Europe/Brussels:20250728T093000
DTEND;TZID=Europe/Brussels:20250728T123000
DTSTAMP:20260425T045119
CREATED:20250526T092253Z
LAST-MODIFIED:20250526T092253Z
UID:10618663-1753695000-1753705800@zorggroep-orion.be
SUMMARY:KOKEN @ Albert
DESCRIPTION:Workshop koken – Met een groepje van max. 12 personen zorgt Christine voor een heerlijk gerecht. Dit alles samen met jullie\, in goed gezelschap en een leuke groepsdynamiek\, genieten we en steken vooral veel op van deze workshop. \nDeze maand op het menu\, “VIRGIN EN MOCKTAILS” + hapjes! \nHartelijk welkom in de keuken van Christine! \n 
URL:https://zorggroep-orion.be/activiteit/koken-albert-20/
LOCATION:Dienstencentrum Albert Van Dyck\, Albert Van Dyckstraat 10\, Turnhout\, Antwerpen\, 2300\, Belgium
CATEGORIES:Workshop
ATTACH;FMTTYPE=image/png:https://zorggroep-orion.be/wp-content/uploads/2025/05/KOKEN-JULI-LDC-AVD-2025.png
END:VEVENT
BEGIN:VEVENT
DTSTART;TZID=Europe/Brussels:20250727T140000
DTEND;TZID=Europe/Brussels:20250727T170000
DTSTAMP:20260425T045119
CREATED:20250526T110540Z
LAST-MODIFIED:20250526T122846Z
UID:10618668-1753624800-1753635600@zorggroep-orion.be
SUMMARY:AANKOMST TOUR DE FRANCE @ Albert
DESCRIPTION:Wie is jouw favoriet? Gaat hij het halen?  Doet ie het of doet ie het niet? … \nSamen genieten van de aankomst bij een glaasje wijn en uiteraard op zijn Frans\, met een blokje kaas à democratische prijzen. \nCAFETARIA DAGELIJKS OPEN VANAF 9 U – ZON-EN FEESTDAGEN VANAF 11.30 U. \nAllen Hartelijk Welkom\, altijd gezellig in ons cafetaria!
URL:https://zorggroep-orion.be/activiteit/aankomst-tour-de-france-albert/
LOCATION:Dienstencentrum Albert Van Dyck\, Albert Van Dyckstraat 10\, Turnhout\, Antwerpen\, 2300\, Belgium
CATEGORIES:Feest,Goed om weten
ATTACH;FMTTYPE=image/png:https://zorggroep-orion.be/wp-content/uploads/2025/05/AANKOMST-TOUR-DE-FRANCE-JULI-LDC-AVD-2025.png
END:VEVENT
BEGIN:VEVENT
DTSTART;TZID=Europe/Brussels:20250722T090000
DTEND;TZID=Europe/Brussels:20250722T180000
DTSTAMP:20260425T045119
CREATED:20250526T095937Z
LAST-MODIFIED:20250526T095937Z
UID:10618667-1753174800-1753207200@zorggroep-orion.be
SUMMARY:SOLDEN SHOPPEN WIJNEGEM @ Albert
DESCRIPTION:Busje komt zo! Zin om nog een keer een solden shoppen te doen in ’t shoppingcentrum van Wijnegem? \nWij vertrekken met ons busje vanuit Albert Van Dyck. Schrijf je dus snel in want de plaatsen zijn beperkt. Wij brengen jou tot aan de deur van het centrum in Wijnegem. Prijs € 5 (vervoer). \nDit alvast in goed gezelschap in het busje. 
URL:https://zorggroep-orion.be/activiteit/solden-shoppen-wijnegem-albert/
LOCATION:Dienstencentrum Albert Van Dyck\, Albert Van Dyckstraat 10\, Turnhout\, Antwerpen\, 2300\, Belgium
CATEGORIES:Uitstap
ATTACH;FMTTYPE=image/png:https://zorggroep-orion.be/wp-content/uploads/2024/01/Kopie-van-act202402-eclair.png
END:VEVENT
BEGIN:VEVENT
DTSTART;TZID=Europe/Brussels:20250721T163000
DTEND;TZID=Europe/Brussels:20250721T163000
DTSTAMP:20260425T045119
CREATED:20250526T083955Z
LAST-MODIFIED:20250526T083955Z
UID:10618658-1753115400-1753115400@zorggroep-orion.be
SUMMARY:NATIONALE FEESTDAG MET FRIETJES @ Albert
DESCRIPTION:Wat is er lekkerder dan een traditionele Friet met mayo en een snack? Dit op onze Nationale Feestdag 21 Juli. \nSamen genieten en bij de afsluiter van de Tour de France. Jouw dag kan niet meer stuk! \nVANAF 15.30 u FRIETKRAAM op onze parking – Aanschuiven en smullen maar.  \nFriet incl. 2 snacks à € 8 – Bonnentjes aan de kassa!
URL:https://zorggroep-orion.be/activiteit/nationale-feestdag-met-frietjes-albert-2/
LOCATION:Dienstencentrum Albert Van Dyck\, Albert Van Dyckstraat 10\, Turnhout\, Antwerpen\, 2300\, Belgium
CATEGORIES:Feest
ATTACH;FMTTYPE=image/png:https://zorggroep-orion.be/wp-content/uploads/2024/06/FRIETKRAAM-LDC-AVD-JULI-2024.png
END:VEVENT
BEGIN:VEVENT
DTSTART;TZID=Europe/Brussels:20250717T140000
DTEND;TZID=Europe/Brussels:20250717T170000
DTSTAMP:20260425T045119
CREATED:20250526T083431Z
LAST-MODIFIED:20250526T083431Z
UID:10618655-1752760800-1752771600@zorggroep-orion.be
SUMMARY:COUPE TROPICAL @ Albert
DESCRIPTION:Een tropische dag of liever en tropische coupe ijs bij de hand? \nAltijd lekker\, alleen als ie ijs en ijs koud is! \nLaat je verwennen in LDC ALBERT VAN DYCK door Marie Louise en Eddy\, vrijwilligers van dienst\, die jullie met de glimlach bedienen. \nKom jij toch ook langs? Alvast Hartelijk Welkom.
URL:https://zorggroep-orion.be/activiteit/coupe-tropical-albert/
LOCATION:Dienstencentrum Albert Van Dyck\, Albert Van Dyckstraat 10\, Turnhout\, Antwerpen\, 2300\, Belgium
CATEGORIES:Eten & Drinken
ATTACH;FMTTYPE=image/png:https://zorggroep-orion.be/wp-content/uploads/2025/05/COUPE-TROPICAL-JULI-LDC-AVD-2025.png
END:VEVENT
BEGIN:VEVENT
DTSTART;TZID=Europe/Brussels:20250715T140000
DTEND;TZID=Europe/Brussels:20250715T170000
DTSTAMP:20260425T045119
CREATED:20250526T082523Z
LAST-MODIFIED:20250526T123909Z
UID:10618652-1752588000-1752598800@zorggroep-orion.be
SUMMARY:DANSNAMIDDAG met NOSTALGIA @ Albert
DESCRIPTION:Hou jij van accordeon muziek? \nDeze namiddag kan je volop genieten van NOSTALGIA – zij zorgen voor de klank en jullie voor de zang. \nDus laat je volledig meeslepen – do re mi fa sol ….. Ons tentje zit weer vol! \nInkom bij de deur € 5 (incl. hapje) \n 
URL:https://zorggroep-orion.be/activiteit/dansnamiddag-met-nostalgia-albert/
LOCATION:Dienstencentrum Albert Van Dyck\, Albert Van Dyckstraat 10\, Turnhout\, Antwerpen\, 2300\, Belgium
CATEGORIES:Recreatie
ATTACH;FMTTYPE=image/png:https://zorggroep-orion.be/wp-content/uploads/2025/05/NOSTALGIA-JULI-LDC-AVD-2025-1.png
END:VEVENT
BEGIN:VEVENT
DTSTART;TZID=Europe/Brussels:20250708T080000
DTEND;TZID=Europe/Brussels:20250708T210000
DTSTAMP:20260425T045119
CREATED:20250526T074558Z
LAST-MODIFIED:20250526T074642Z
UID:10618646-1751961600-1752008400@zorggroep-orion.be
SUMMARY:Daguitstap MINI EUROPE @ LDC's
DESCRIPTION:Jaarlijkse daguitstap met de dienstencentra: Een dagtocht om U tegen te zeggen. Een ganse dag gevuld met bezienswaardigheden. \nWe brengen een bezoek aan Mini-Europe\, genieten van een warme maaltijd\, met een gids toeren we door de stad\, een bezoek aan Planete Chocolat en sluiten af met een heerlijk ijsje. \nPrijs Incl. inkom tickets\, warme maaltijd\, ijsje\, gids en vervoer! \n \n 
URL:https://zorggroep-orion.be/activiteit/daguitstap-mini-europe-ldcs/
LOCATION:Dienstencentrum Albert Van Dyck\, Albert Van Dyckstraat 10\, Turnhout\, Antwerpen\, 2300\, Belgium
CATEGORIES:Uitstap
ATTACH;FMTTYPE=image/jpeg:https://zorggroep-orion.be/wp-content/uploads/2025/05/Mini-Europe.jpeg
END:VEVENT
BEGIN:VEVENT
DTSTART;TZID=Europe/Brussels:20250705T140000
DTEND;TZID=Europe/Brussels:20250705T170000
DTSTAMP:20260425T045119
CREATED:20250526T091833Z
LAST-MODIFIED:20250526T091833Z
UID:10618662-1751724000-1751734800@zorggroep-orion.be
SUMMARY:TOUR DE FRANCE @ Albert
DESCRIPTION:Van 5 juli tot en met 27 juli – Dagelijks op ons scherm kijken we naar de ‘Tour de France. \nCAFETARIA DAGELIJKS OPEN VANAF 9 U – ZON-EN FEESTDAGEN VANAF 11.30 U. \nAllen Hartelijk Welkom\, altijd gezellig in ons cafetaria!
URL:https://zorggroep-orion.be/activiteit/tour-de-france-albert-2/
LOCATION:Dienstencentrum Albert Van Dyck\, Albert Van Dyckstraat 10\, Turnhout\, Antwerpen\, 2300\, Belgium
CATEGORIES:Feest,Goed om weten
ATTACH;FMTTYPE=image/png:https://zorggroep-orion.be/wp-content/uploads/2025/05/TOUR-DE-FRANCE-JULI-LDC-AVD-2025.png
END:VEVENT
END:VCALENDAR