BEGIN:VCALENDAR
VERSION:2.0
PRODID:-//Zorggroep Orion - ECPv6.15.17.1//NONSGML v1.0//EN
CALSCALE:GREGORIAN
METHOD:PUBLISH
X-ORIGINAL-URL:https://zorggroep-orion.be
X-WR-CALDESC:Evenementen voor Zorggroep Orion
REFRESH-INTERVAL;VALUE=DURATION:PT1H
X-Robots-Tag:noindex
X-PUBLISHED-TTL:PT1H
BEGIN:VTIMEZONE
TZID:Europe/Brussels
BEGIN:DAYLIGHT
TZOFFSETFROM:+0100
TZOFFSETTO:+0200
TZNAME:CEST
DTSTART:20240331T010000
END:DAYLIGHT
BEGIN:STANDARD
TZOFFSETFROM:+0200
TZOFFSETTO:+0100
TZNAME:CET
DTSTART:20241027T010000
END:STANDARD
BEGIN:DAYLIGHT
TZOFFSETFROM:+0100
TZOFFSETTO:+0200
TZNAME:CEST
DTSTART:20250330T010000
END:DAYLIGHT
BEGIN:STANDARD
TZOFFSETFROM:+0200
TZOFFSETTO:+0100
TZNAME:CET
DTSTART:20251026T010000
END:STANDARD
BEGIN:DAYLIGHT
TZOFFSETFROM:+0100
TZOFFSETTO:+0200
TZNAME:CEST
DTSTART:20260329T010000
END:DAYLIGHT
BEGIN:STANDARD
TZOFFSETFROM:+0200
TZOFFSETTO:+0100
TZNAME:CET
DTSTART:20261025T010000
END:STANDARD
END:VTIMEZONE
BEGIN:VEVENT
DTSTART;VALUE=DATE:20250831
DTEND;VALUE=DATE:20250901
DTSTAMP:20260425T004411
CREATED:20250801T070058Z
LAST-MODIFIED:20250714T074433Z
UID:10619165-1756598400-1756684799@zorggroep-orion.be
SUMMARY:PRIJSVERHOGING @ Dienstencentra
DESCRIPTION:Al verschillende jaren zijn de prijzen van ons aanbod aan activiteiten in alle dienstencentra niet verhoogd of geïndexeerd. \nEen aanpassing van de prijzen dringt zich op om meer kostendekkend te kunnen werken. \nUiteraard blijven wij onze sociale doelstelling nastreven om een warme\, laagdrempelige ontmoetingsplaats te zijn voor iedereen. \nDe aangepaste prijzen zullen worden toegepast vanaf 1 september.
URL:https://zorggroep-orion.be/activiteit/prijsverhoging-dienstencentra/
LOCATION:Dienstencentrum Albert Van Dyck\, Albert Van Dyckstraat 10\, Turnhout\, Antwerpen\, 2300\, Belgium
CATEGORIES:Goed om weten
ATTACH;FMTTYPE=image/png:https://zorggroep-orion.be/wp-content/uploads/2025/07/PRIJSVERHOGING-LDCs-2025.png
END:VEVENT
BEGIN:VEVENT
DTSTART;TZID=Europe/Brussels:20250828T090000
DTEND;TZID=Europe/Brussels:20250828T180000
DTSTAMP:20260425T004411
CREATED:20250716T134123Z
LAST-MODIFIED:20250716T134138Z
UID:10619171-1756371600-1756404000@zorggroep-orion.be
SUMMARY:LAATSTE SOLDEN SHOPPEN WIJNEGEM @ Albert
DESCRIPTION:Busje komt zo! Zin om ook een keer solden shoppen te doen in ’t shoppingcentrum van Wijnegem? \nWij vertrekken met ons busje vanuit Albert Van Dyck. \nVoor zij die op de reserve lijst staan\, ‘t is de moment! \nRen naar ons centrum\, dan krijg jij ook de kans om mee te rijden. Prijs € 5 (vervoer).
URL:https://zorggroep-orion.be/activiteit/solden-shoppen-wijnegem-albert-2/
LOCATION:Dienstencentrum Albert Van Dyck\, Albert Van Dyckstraat 10\, Turnhout\, Antwerpen\, 2300\, Belgium
CATEGORIES:Uitstap
ATTACH;FMTTYPE=image/png:https://zorggroep-orion.be/wp-content/uploads/2024/01/Kopie-van-act202402-eclair.png
END:VEVENT
BEGIN:VEVENT
DTSTART;TZID=Europe/Brussels:20250825T163000
DTEND;TZID=Europe/Brussels:20250825T163000
DTSTAMP:20260425T004411
CREATED:20250716T134927Z
LAST-MODIFIED:20250717T133625Z
UID:10619170-1756139400-1756139400@zorggroep-orion.be
SUMMARY:SMULACTIVITEIT Pasta's @ Albert
DESCRIPTION: Schuif mee aan en geniet van een gezellige pasta avond!  \nPenne pesto met kip en tomaatjes ( afgewerkt met pijnboompitjes) \nOf Penne Bolognaise (afgewerkt met peterselie) \n Beide pasta’s geserveerd met 3 stukjes stokbrood en 1 botertje\, gemalen kaas \n\nMaak uw keuze bij inschrijving. \nVanaf maandag 4 augustus 2025 – 9 u. 
URL:https://zorggroep-orion.be/activiteit/smulactiviteit-pastas-albert/
LOCATION:Dienstencentrum Albert Van Dyck\, Albert Van Dyckstraat 10\, Turnhout\, Antwerpen\, 2300\, Belgium
CATEGORIES:Feest
ATTACH;FMTTYPE=image/png:https://zorggroep-orion.be/wp-content/uploads/2024/07/SMUL-PASTAs-LDC-AVD-AUG-2024.png
END:VEVENT
BEGIN:VEVENT
DTSTART;TZID=Europe/Brussels:20250820T140000
DTEND;TZID=Europe/Brussels:20250820T140000
DTSTAMP:20260425T004411
CREATED:20250722T124453Z
LAST-MODIFIED:20250722T124453Z
UID:10619179-1755698400-1755698400@zorggroep-orion.be
SUMMARY:ZOMER OP HET PLEIN @ ORION
DESCRIPTION:DEZE ZOMER OP HET PLEIN \nBinnen gans de zorggroep organiseren we een gezellige eigen kermis op ons binnenplein. \nWat hebben wij in petto: \n\nOPTREDEN MARTINE EN JORIS\nPAARDEMOLEN\nBALLENKRAAM\nFRIETKRAAM\nIJSJES\nVLAAMSE KERMIS\nAANWEZIGHEIDSTOMBOLA\n…\n\nVoor de sfeer mogen jullie zelf zorgen! Kom gezellig naar Zorggroep ORION en feest met ons mee! \nHARTELIJK WELKOM – meer info bij het onthaal. \n  \n 
URL:https://zorggroep-orion.be/activiteit/zomer-op-het-plein-orion-2/
LOCATION:Dienstencentrum De Wissel\, Dokter Nand Peetersstraat 33\, Turnhout\, Antwerpen\, 2300\, Belgium
CATEGORIES:Feest
ATTACH;FMTTYPE=image/png:https://zorggroep-orion.be/wp-content/uploads/2025/07/ZOMER-OP-HET-PLEIN-AUG-LDC-AVD-2025-1.png
END:VEVENT
BEGIN:VEVENT
DTSTART;TZID=Europe/Brussels:20250820T140000
DTEND;TZID=Europe/Brussels:20250820T140000
DTSTAMP:20260425T004411
CREATED:20250716T122020Z
LAST-MODIFIED:20250717T111452Z
UID:10618654-1755698400-1755698400@zorggroep-orion.be
SUMMARY:ZOMER OP HET PLEIN @ ORION
DESCRIPTION:DEZE ZOMER OP HET PLEIN \nBinnen gans de zorggroep organiseren we een gezellige eigen kermis op ons binnenplein. \nWat hebben wij in petto: \n\nOPTREDEN MARTINE EN JORIS\nPAARDEMOLEN\nBALLENKRAAM\nFRIETKRAAM\nIJSJES\nVLAAMSE KERMIS\nAANWEZIGHEIDSTOMBOLA\n…\n\nVoor de sfeer mogen jullie zelf zorgen! Kom gezellig naar Zorggroep ORION en feest met ons mee! \nHARTELIJK WELKOM – meer info bij het onthaal. \n  \n 
URL:https://zorggroep-orion.be/activiteit/zomer-op-het-plein-orion/
LOCATION:Dienstencentrum Albert Van Dyck\, Albert Van Dyckstraat 10\, Turnhout\, Antwerpen\, 2300\, Belgium
CATEGORIES:Feest
ATTACH;FMTTYPE=image/png:https://zorggroep-orion.be/wp-content/uploads/2025/07/ZOMER-OP-HET-PLEIN-AUG-LDC-AVD-2025-1.png
END:VEVENT
BEGIN:VEVENT
DTSTART;TZID=Europe/Brussels:20250818T093000
DTEND;TZID=Europe/Brussels:20250818T123000
DTSTAMP:20260425T004411
CREATED:20250716T083132Z
LAST-MODIFIED:20250716T083132Z
UID:10619168-1755509400-1755520200@zorggroep-orion.be
SUMMARY:KOKEN @ Albert
DESCRIPTION:Workshop koken – Met een groepje van max. 12 personen zorgt Christine voor een heerlijk gerecht. Dit alles samen met jullie\, in goed gezelschap en een leuke groepsdynamiek\, genieten we en steken vooral veel op van deze workshop. \nDeze maand op het menu\, “SMULLEN VAN FRUIT” \nHartelijk welkom in de keuken van Christine! \n 
URL:https://zorggroep-orion.be/activiteit/koken-albert-21/
LOCATION:Dienstencentrum Albert Van Dyck\, Albert Van Dyckstraat 10\, Turnhout\, Antwerpen\, 2300\, Belgium
CATEGORIES:Workshop
ATTACH;FMTTYPE=image/png:https://zorggroep-orion.be/wp-content/uploads/2025/07/KOKEN-18-AUG-LDC-AVD-2025.png
END:VEVENT
BEGIN:VEVENT
DTSTART;TZID=Europe/Brussels:20250815T090000
DTEND;TZID=Europe/Brussels:20250815T090000
DTSTAMP:20260425T004411
CREATED:20250714T101709Z
LAST-MODIFIED:20250714T101709Z
UID:10619166-1755248400-1755248400@zorggroep-orion.be
SUMMARY:MOEDERDAG @ Albert
DESCRIPTION:O.L.V.TENHEMELOPNEMING  \nOns cafetaria en restaurant blijven gezellig open! Onze lieftallige dames\, vrijwilligers verwelkomen jullie met open armen. \nCafetaria open vanaf 11.30 u \nRestaurant open vanaf 12 u \nKANTOREN GESLOTEN
URL:https://zorggroep-orion.be/activiteit/moederdag-albert/
LOCATION:Dienstencentrum Albert Van Dyck\, Albert Van Dyckstraat 10\, Turnhout\, Antwerpen\, 2300\, Belgium
CATEGORIES:Feest
ATTACH;FMTTYPE=image/png:https://zorggroep-orion.be/wp-content/uploads/2025/07/VRIJW.-15-AUG-LDC-AVD-2025.png
END:VEVENT
BEGIN:VEVENT
DTSTART;TZID=Europe/Brussels:20250814T140000
DTEND;TZID=Europe/Brussels:20250814T140000
DTSTAMP:20260425T004411
CREATED:20250714T095258Z
LAST-MODIFIED:20250715T112845Z
UID:10619162-1755180000-1755180000@zorggroep-orion.be
SUMMARY:SMOUTEBOLLEN @ Albert
DESCRIPTION:Het klinkt als muziek\, met deze lekkernij is het toch altijd KERMIS bij LDC Albert Van Dyck. \nKrokant\, lekker\, luchtig … laat het deeg zijn gang maar gaan. Maria die de knepen van het vak zeker kent\, verwelkomt jullie aan haar kraam met open armen. \nTrakteer jij ook je moeder op lekkere bollen? \nJoris met keyboard en zang\, zorgt voor de muzikale noot\, dus samen maken we’r een gezellige namiddag van! \nHartelijk welkom! \nPRIJS € 6 voor 6 bollen.
URL:https://zorggroep-orion.be/activiteit/smoutebollen-albert/
LOCATION:Dienstencentrum Albert Van Dyck\, Albert Van Dyckstraat 10\, Turnhout\, Antwerpen\, 2300\, Belgium
CATEGORIES:Feest
ATTACH;FMTTYPE=image/png:https://zorggroep-orion.be/wp-content/uploads/2025/07/2.png
END:VEVENT
BEGIN:VEVENT
DTSTART;TZID=Europe/Brussels:20250805T140000
DTEND;TZID=Europe/Brussels:20250805T140000
DTSTAMP:20260425T004411
CREATED:20250717T132432Z
LAST-MODIFIED:20250717T132432Z
UID:10619178-1754402400-1754402400@zorggroep-orion.be
SUMMARY:IJS @ Albert
DESCRIPTION:’t IJS karretje met eigen sloebertjes\, Marie-Louise en Eddy komen langs in ons centrum.  \nGewoon omdat het zo lekker is – Coupe Dame blanche met of zonder slagroom!  \nHartelijk welkom! \n 
URL:https://zorggroep-orion.be/activiteit/ijs-albert-2/
LOCATION:Dienstencentrum Albert Van Dyck\, Albert Van Dyckstraat 10\, Turnhout\, Antwerpen\, 2300\, Belgium
CATEGORIES:Eten & Drinken
ATTACH;FMTTYPE=image/png:https://zorggroep-orion.be/wp-content/uploads/2025/07/DAME-BLANCHE-AUG-LDC-AVD-2025.png
END:VEVENT
BEGIN:VEVENT
DTSTART;TZID=Europe/Brussels:20250805T140000
DTEND;TZID=Europe/Brussels:20250805T140000
DTSTAMP:20260425T004411
CREATED:20250710T093119Z
LAST-MODIFIED:20250710T093119Z
UID:10619161-1754402400-1754402400@zorggroep-orion.be
SUMMARY:IJS @ Albert
DESCRIPTION:’t IJS karretje met eigen sloebertjes\, Marie-Louise en Eddy komen langs in ons centrum.  \nGewoon omdat het zo lekker is – Coupe Dame blanche met of zonder slagroom!  \nHartelijk welkom! \n 
URL:https://zorggroep-orion.be/activiteit/ijs-albert/
LOCATION:Dienstencentrum Albert Van Dyck\, Albert Van Dyckstraat 10\, Turnhout\, Antwerpen\, 2300\, Belgium
CATEGORIES:Eten & Drinken
ATTACH;FMTTYPE=image/png:https://zorggroep-orion.be/wp-content/uploads/2025/07/DAME-BLANCHE-AUG-LDC-AVD-2025.png
END:VEVENT
END:VCALENDAR