BEGIN:VCALENDAR
VERSION:2.0
PRODID:-//Zorggroep Orion - ECPv6.15.17.1//NONSGML v1.0//EN
CALSCALE:GREGORIAN
METHOD:PUBLISH
X-ORIGINAL-URL:https://zorggroep-orion.be
X-WR-CALDESC:Evenementen voor Zorggroep Orion
REFRESH-INTERVAL;VALUE=DURATION:PT1H
X-Robots-Tag:noindex
X-PUBLISHED-TTL:PT1H
BEGIN:VTIMEZONE
TZID:Europe/Brussels
BEGIN:DAYLIGHT
TZOFFSETFROM:+0100
TZOFFSETTO:+0200
TZNAME:CEST
DTSTART:20240331T010000
END:DAYLIGHT
BEGIN:STANDARD
TZOFFSETFROM:+0200
TZOFFSETTO:+0100
TZNAME:CET
DTSTART:20241027T010000
END:STANDARD
BEGIN:DAYLIGHT
TZOFFSETFROM:+0100
TZOFFSETTO:+0200
TZNAME:CEST
DTSTART:20250330T010000
END:DAYLIGHT
BEGIN:STANDARD
TZOFFSETFROM:+0200
TZOFFSETTO:+0100
TZNAME:CET
DTSTART:20251026T010000
END:STANDARD
BEGIN:DAYLIGHT
TZOFFSETFROM:+0100
TZOFFSETTO:+0200
TZNAME:CEST
DTSTART:20260329T010000
END:DAYLIGHT
BEGIN:STANDARD
TZOFFSETFROM:+0200
TZOFFSETTO:+0100
TZNAME:CET
DTSTART:20261025T010000
END:STANDARD
END:VTIMEZONE
BEGIN:VEVENT
DTSTART;TZID=Europe/Brussels:20251030T140000
DTEND;TZID=Europe/Brussels:20251030T160000
DTSTAMP:20260425T013145
CREATED:20250917T081020Z
LAST-MODIFIED:20250917T081020Z
UID:10619755-1761832800-1761840000@zorggroep-orion.be
SUMMARY:KOFFIE EN PAPIEREN @ Niefhout
DESCRIPTION:Ben je onzeker bij het invullen van een formulier? Begrijp je een brief niet? Wil je hulp bij een telefoon naar een dienst? …\nTijdens koffie & papieren zijn we er om je op weg te helpen. \nJe moet geen afspraak maken\, kom gewoon vrijblijvend langs. \nLocatie: Peuterspeelpunt Niefhout – Dr. Nandpeetersstraat 33 – 2300 TURNHOUT
URL:https://zorggroep-orion.be/activiteit/koffie-en-papieren-niefhout-5/
LOCATION:Dienstencentrum Albert Van Dyck\, Albert Van Dyckstraat 10\, Turnhout\, Antwerpen\, 2300\, Belgium
CATEGORIES:Dienstverlening
ATTACH;FMTTYPE=image/png:https://zorggroep-orion.be/wp-content/uploads/2023/09/koffie-en-papieren-2023-okt.png
END:VEVENT
BEGIN:VEVENT
DTSTART;TZID=Europe/Brussels:20251027T163000
DTEND;TZID=Europe/Brussels:20251027T163000
DTSTAMP:20260425T013145
CREATED:20250918T075311Z
LAST-MODIFIED:20250918T075311Z
UID:10619763-1761582600-1761582600@zorggroep-orion.be
SUMMARY:MOSSELSOUPER @ Albert
DESCRIPTION: Ja hoor\, ze zijn er weer: Jumbo mosselen in dienstencentrum Albert Van Dyck. Kom deze maand mee genieten van een heerlijk potje mosselen. Nodig vrienden of familie uit en schrijf je tijdig in – dan krijg je van ons een gezellig plaatsje in het restaurant.  \nPraktisch: \n\nInschrijven kan vanaf WOENSDAG 1 OKT  2025\nSchrijf je in via Albert Van Dyck: 014 28 40 70 of albertvandyck@zorggroep-orion.be\nMails zijn pas definitief na bevestiging!
URL:https://zorggroep-orion.be/activiteit/mosselsouper-albert-2/
LOCATION:Dienstencentrum Albert Van Dyck\, Albert Van Dyckstraat 10\, Turnhout\, Antwerpen\, 2300\, Belgium
CATEGORIES:Feest
ATTACH;FMTTYPE=image/png:https://zorggroep-orion.be/wp-content/uploads/2025/09/MOSSELEN-OKT-LDC-AVD-2025-1.png
END:VEVENT
BEGIN:VEVENT
DTSTART;TZID=Europe/Brussels:20251021T190000
DTEND;TZID=Europe/Brussels:20251021T190000
DTSTAMP:20260425T013145
CREATED:20250917T134418Z
LAST-MODIFIED:20250918T121801Z
UID:10619761-1761073200-1761073200@zorggroep-orion.be
SUMMARY:AVONDLEZING @ Thomas More
DESCRIPTION:AVONDLEZING Kunnen we ons brein beschermen tegen dementie?  \nSpreker van deze avond: Reginald Deschepper  \nMedisch antropoloog – Auteur en Oprichter vzw LIFEME \nLocatie: Thomas More – Campus Blairon – 2300 Turnhout \nAanvang: 19.30 u – Deuren open om 19 u \nInkom € 5 – Graag vooraf inschrijven op www.dementie.be/tandem \n  \n\n  \n 
URL:https://zorggroep-orion.be/activiteit/pc-dementie-thomas-more/
LOCATION:Antwerpen
CATEGORIES:Infosessie
ATTACH;FMTTYPE=image/png:https://zorggroep-orion.be/wp-content/uploads/2025/09/PC-DECMENTIE-OKT-LDC-AVD-2025.png
END:VEVENT
BEGIN:VEVENT
DTSTART;TZID=Europe/Brussels:20251020T093000
DTEND;TZID=Europe/Brussels:20251020T123000
DTSTAMP:20260425T013145
CREATED:20250917T072109Z
LAST-MODIFIED:20250917T072109Z
UID:10619752-1760952600-1760963400@zorggroep-orion.be
SUMMARY:KOKEN @ Albert
DESCRIPTION:Workshop koken – Met een groepje van max. 12 personen zorgt Christine voor een heerlijk gerecht. Dit alles samen met jullie\, in goed gezelschap en een leuke groepsdynamiek\, genieten we en steken vooral veel op van deze workshop. \nDeze maand op het menu\, “BEN JE KLAAR VOOR DE HERFST” \nVanaf heden aangepaste prijzen: € 13 per les! \nHartelijk welkom in de keuken van Christine! \n 
URL:https://zorggroep-orion.be/activiteit/koken-albert-23/
LOCATION:Dienstencentrum Albert Van Dyck\, Albert Van Dyckstraat 10\, Turnhout\, Antwerpen\, 2300\, Belgium
CATEGORIES:Workshop
ATTACH;FMTTYPE=image/png:https://zorggroep-orion.be/wp-content/uploads/2025/09/KOKEN-OKT-LDC-AVD-2025.png
END:VEVENT
BEGIN:VEVENT
DTSTART;TZID=Europe/Brussels:20251015T140000
DTEND;TZID=Europe/Brussels:20251015T163000
DTSTAMP:20260425T013145
CREATED:20250917T064043Z
LAST-MODIFIED:20250917T064043Z
UID:10619750-1760536800-1760545800@zorggroep-orion.be
SUMMARY:WORKSHOP JUWELEN @ Albert
DESCRIPTION:In deze workshop leer je in een mum van tijd hoe je een prachtig brillen-koordje of een nieuw juweeltje maakt van oude of nieuwe pareltjes. \nLaat je verleiden door de schittering van parels\, kom gezellig langs in ons centrum. \nPrijs afhankelijk van de gebruikte materialen. Allen hartelijk welkom!
URL:https://zorggroep-orion.be/activiteit/workshop-juwelen-albert-3/
LOCATION:Dienstencentrum Albert Van Dyck\, Albert Van Dyckstraat 10\, Turnhout\, Antwerpen\, 2300\, Belgium
CATEGORIES:Workshop
ATTACH;FMTTYPE=image/png:https://zorggroep-orion.be/wp-content/uploads/2025/09/WORKSHOP-JUWEELTJES-OKT-LDC-AVD-2025-1.png
END:VEVENT
BEGIN:VEVENT
DTSTART;TZID=Europe/Brussels:20251002T140000
DTEND;TZID=Europe/Brussels:20251002T170000
DTSTAMP:20260425T013145
CREATED:20250812T140550Z
LAST-MODIFIED:20250916T091135Z
UID:10619449-1759413600-1759424400@zorggroep-orion.be
SUMMARY:DANSEN EN SJANSEN MET EDJE PUNK @ Albert
DESCRIPTION:HERFSTBAL BIJ ALBERT VAN DYCK \nOm deze maand alvast plezierig te beginnen\, gooien we onze beentjes los. Gewoon dansen en sjansen\, gezellig samenzijn in leuk gezelschap\, meer moet het niet zijn. \nNodig alvast je vrienden\, vriendinnen\, buren of familie uit en beleef een gezellig\, amusante namiddag. Uiteraard kan je ook gewoon genieten van een lekker drankje in ons cafetaria of restaurant. Onze deuren staan open voor alle leeftijden. \nVoor de muzikale noot nodigen we uit: EDJE PUNK met zang en zijn gitaar! \nHartelijk Welkom. \n 
URL:https://zorggroep-orion.be/activiteit/dansen-en-sjansen-met-edje-punk-albert/
LOCATION:Dienstencentrum Albert Van Dyck\, Albert Van Dyckstraat 10\, Turnhout\, Antwerpen\, 2300\, Belgium
CATEGORIES:Muziek
ATTACH;FMTTYPE=image/png:https://zorggroep-orion.be/wp-content/uploads/2025/08/DANSEN-EN-SJANSEN-EDJE-PUNK-OKT-LDC-AVD-2025.png
END:VEVENT
BEGIN:VEVENT
DTSTART;TZID=Europe/Brussels:20251001T090000
DTEND;TZID=Europe/Brussels:20251001T170000
DTSTAMP:20260425T013145
CREATED:20250918T073245Z
LAST-MODIFIED:20250918T073245Z
UID:10619764-1759309200-1759338000@zorggroep-orion.be
SUMMARY:DAG VAN DE OUDEREN @ Albert
DESCRIPTION:Laat je inspireren om stil te staan bij het ouder worden.\nJe kan je ouders en/of grootouders verrassen met een bezoek en hen waarderen om wie ze zijn.\nEen manier om deze bijzondere dag te vieren\, kan door tijd door te brengen met je grootouders\, een oudere buurman of gewoon een oudere vriend.\nIn ons centrum hebben we een kast vol gezelschapsspelen van A tot Z. Rummicub\, scrabble\, schaken\, dammen\, mens erger je niet …. gewoon teveel om op te noemen.\nNodig hen uit en kom gezellig langs\, maak er samen een leuke namiddag van.\n(sleutel kan je vragen aan een vrijwilliger in ons cafetaria)
URL:https://zorggroep-orion.be/activiteit/dag-van-de-ouderen-albert/
LOCATION:Dienstencentrum Albert Van Dyck\, Albert Van Dyckstraat 10\, Turnhout\, Antwerpen\, 2300\, Belgium
CATEGORIES:Goed om weten
ATTACH;FMTTYPE=image/png:https://zorggroep-orion.be/wp-content/uploads/2025/09/1.png
END:VEVENT
END:VCALENDAR