BEGIN:VCALENDAR
VERSION:2.0
PRODID:-//Zorggroep Orion - ECPv6.15.17.1//NONSGML v1.0//EN
CALSCALE:GREGORIAN
METHOD:PUBLISH
X-ORIGINAL-URL:https://zorggroep-orion.be
X-WR-CALDESC:Evenementen voor Zorggroep Orion
REFRESH-INTERVAL;VALUE=DURATION:PT1H
X-Robots-Tag:noindex
X-PUBLISHED-TTL:PT1H
BEGIN:VTIMEZONE
TZID:Europe/Brussels
BEGIN:DAYLIGHT
TZOFFSETFROM:+0100
TZOFFSETTO:+0200
TZNAME:CEST
DTSTART:20250330T010000
END:DAYLIGHT
BEGIN:STANDARD
TZOFFSETFROM:+0200
TZOFFSETTO:+0100
TZNAME:CET
DTSTART:20251026T010000
END:STANDARD
BEGIN:DAYLIGHT
TZOFFSETFROM:+0100
TZOFFSETTO:+0200
TZNAME:CEST
DTSTART:20260329T010000
END:DAYLIGHT
BEGIN:STANDARD
TZOFFSETFROM:+0200
TZOFFSETTO:+0100
TZNAME:CET
DTSTART:20261025T010000
END:STANDARD
BEGIN:DAYLIGHT
TZOFFSETFROM:+0100
TZOFFSETTO:+0200
TZNAME:CEST
DTSTART:20270328T010000
END:DAYLIGHT
BEGIN:STANDARD
TZOFFSETFROM:+0200
TZOFFSETTO:+0100
TZNAME:CET
DTSTART:20271031T010000
END:STANDARD
END:VTIMEZONE
BEGIN:VEVENT
DTSTART;TZID=Europe/Brussels:20260126T163000
DTEND;TZID=Europe/Brussels:20260126T163000
DTSTAMP:20260425T022109
CREATED:20241216T154444Z
LAST-MODIFIED:20251217T091722Z
UID:10611647-1769445000-1769445000@zorggroep-orion.be
SUMMARY:SMULACTIVITEIT VERLOREN MAANDAG @ Albert
DESCRIPTION:BETER LAAT DAN NOOIT \nWij serveren Worstenbrood en/of appelbollen in ons restaurant\, uiteraard na inschrijving kan ook jij mee genieten van deze lekkernij. \nWij doen ’t hier gewoon en jouw oven blijft lekker schoon! \nAanschuiven zou ik zeggen\, maak uw keuze bij inschrijving\, max. 2 stuks per persoon. Inschrijven vanaf VRIJDAG 2 JAN 2026 – 9u ! \n 
URL:https://zorggroep-orion.be/activiteit/verloren-maandag-albert-3/
LOCATION:Dienstencentrum Albert Van Dyck\, Albert Van Dyckstraat 10\, Turnhout\, Antwerpen\, 2300\, Belgium
CATEGORIES:Feest
ATTACH;FMTTYPE=image/png:https://zorggroep-orion.be/wp-content/uploads/2023/11/Kopie-van-act202401-verloren-maandag.png
END:VEVENT
BEGIN:VEVENT
DTSTART;TZID=Europe/Brussels:20260123T140000
DTEND;TZID=Europe/Brussels:20260123T160000
DTSTAMP:20260425T022109
CREATED:20251218T092758Z
LAST-MODIFIED:20251218T092758Z
UID:10620434-1769176800-1769184000@zorggroep-orion.be
SUMMARY:LEER\, ONTDEK EN GROEI JIJ MEE IN DE DIGITALE WERELD @ Albert
DESCRIPTION:Infosessie door Bob Devisscher \nTHEMA VAN DE MAAND : VEILIG OP HET INTERNET \nWat is phishing? Wat is een link? Welk zijn beveiligde site’s? Hoe oplichting voorkomen? …. \nStap voor stap gaan we door de wondere wereld van de technologie\, in een duidelijk\, rustig tempo én in verstaanbare taal. \nVrije inloop voor verdere vragen 7 jan 14-16 u en 26 jan 10-12 u
URL:https://zorggroep-orion.be/activiteit/leer-ontdek-en-groei-jij-mee-in-de-digitale-wereld-albert-3/
LOCATION:Dienstencentrum Albert Van Dyck\, Albert Van Dyckstraat 10\, Turnhout\, Antwerpen\, 2300\, Belgium
CATEGORIES:Infosessie
ATTACH;FMTTYPE=image/png:https://zorggroep-orion.be/wp-content/uploads/2025/10/11-DIGITALE-WERELD-LDC-AVD.png
END:VEVENT
BEGIN:VEVENT
DTSTART;TZID=Europe/Brussels:20260122T140000
DTEND;TZID=Europe/Brussels:20260122T160000
DTSTAMP:20260425T022109
CREATED:20251217T102727Z
LAST-MODIFIED:20251217T102727Z
UID:10620422-1769090400-1769097600@zorggroep-orion.be
SUMMARY:PRAATCAFE DEMENTIE
DESCRIPTION:OKRA Turnhout in samenwerking met dementievriendelijk Turnhout \nInfo namiddag: ‘Wat is dementie?’ met als gastspreker: Medewerker van ECD Tandem die hier graag meer uitleg over geeft.  \nInschrijving verplicht wegens beperkte capaciteit tot en met 19 januari 2026! \n\n\n\n\nRonny Vaneygen T 0495 77 55 66 vaneygen.ronny@telenet.be of Dorien Bevers T 014 28 40 70 albertvandyck@zorggroep-orion.be
URL:https://zorggroep-orion.be/activiteit/praatcafe-dementie-2/
LOCATION:Dienstencentrum Albert Van Dyck\, Albert Van Dyckstraat 10\, Turnhout\, Antwerpen\, 2300\, Belgium
CATEGORIES:Infosessie
ATTACH;FMTTYPE=image/png:https://zorggroep-orion.be/wp-content/uploads/2025/12/LDC-AVD-Praatcafe-dementie-06-mei-2025-affiche-Jongdementie-Presentatie-1.png
END:VEVENT
BEGIN:VEVENT
DTSTART;TZID=Europe/Brussels:20260121T140000
DTEND;TZID=Europe/Brussels:20260121T140000
DTSTAMP:20260425T022109
CREATED:20251217T090224Z
LAST-MODIFIED:20251217T091321Z
UID:10620421-1769004000-1769004000@zorggroep-orion.be
SUMMARY:MIA's SOEP @ Albert
DESCRIPTION:Vanaf 14 u zet Mia de potten op het vuur\, en wees gerust – ’t is niet duur – gewoon als 4-uurtje kan je genieten van een heerlijk VERS KOPJE SOEP met brood! \nMaandelijks een ander smaakje.  \nJij komt toch ook proeven?  \nMia heet jullie hartelijk welkom in ons cafetaria en OP = OP. (NIET om af te halen) \n 
URL:https://zorggroep-orion.be/activiteit/mias-soep-albert-13/
LOCATION:Dienstencentrum Albert Van Dyck\, Albert Van Dyckstraat 10\, Turnhout\, Antwerpen\, 2300\, Belgium
CATEGORIES:Workshop
ATTACH;FMTTYPE=image/png:https://zorggroep-orion.be/wp-content/uploads/2025/12/SOEP-JAN-LDC-AVD-2026.png
END:VEVENT
BEGIN:VEVENT
DTSTART;TZID=Europe/Brussels:20260119T140000
DTEND;TZID=Europe/Brussels:20260119T140000
DTSTAMP:20260425T022109
CREATED:20251217T142546Z
LAST-MODIFIED:20251217T142935Z
UID:10620430-1768831200-1768831200@zorggroep-orion.be
SUMMARY:KLEUREN VOOR VOLWASSENEN @ Albert
DESCRIPTION:✨ Nieuw bij ons!Even ontspannen en toch creatief bezig zijn? Doe mee met Kleuren voor Volwassenen. Laat de drukte los en geef kleur aan je dag. Geniet van een rustgevend moment voor jezelf\, gezellig en zelfs zonder ervaring kan je hieraan deelnemen. \nHartelijk welkom!
URL:https://zorggroep-orion.be/activiteit/kleuren-voor-volwassenen-albert/
LOCATION:Dienstencentrum Albert Van Dyck\, Albert Van Dyckstraat 10\, Turnhout\, Antwerpen\, 2300\, Belgium
CATEGORIES:Workshop
ATTACH;FMTTYPE=image/png:https://zorggroep-orion.be/wp-content/uploads/2025/12/KLEUREN-VOOR-VOLWASSENEN-JAN-LDC-AVD-2026.png
END:VEVENT
BEGIN:VEVENT
DTSTART;TZID=Europe/Brussels:20260115T093000
DTEND;TZID=Europe/Brussels:20260115T120000
DTSTAMP:20260425T022109
CREATED:20251217T085117Z
LAST-MODIFIED:20251217T085117Z
UID:10620420-1768469400-1768478400@zorggroep-orion.be
SUMMARY:FILM @ Albert
DESCRIPTION:Je kan hier maandelijks in alle rust genieten van een film: romantiek\, actie\, thriller\, familie …. uw vraagt\, wij draaien.  Waarom nog twijfelen? Géén was\, géén plas\, maar een donderdag genieten in goed gezelschap. Van Harte Welkom! Prijs € 2 incl. koffie\, thee of water. \nTelkens de 3e Donderdagvoormiddag!
URL:https://zorggroep-orion.be/activiteit/film-albert-25/
LOCATION:Dienstencentrum Albert Van Dyck\, Albert Van Dyckstraat 10\, Turnhout\, Antwerpen\, 2300\, Belgium
CATEGORIES:Recreatie
ATTACH;FMTTYPE=image/png:https://zorggroep-orion.be/wp-content/uploads/2025/09/FILM-OKT-LDC-AVD-2025.png
END:VEVENT
BEGIN:VEVENT
DTSTART;TZID=Europe/Brussels:20260113T090000
DTEND;TZID=Europe/Brussels:20260113T170000
DTSTAMP:20260425T022109
CREATED:20251217T082524Z
LAST-MODIFIED:20251217T082524Z
UID:10620419-1768294800-1768323600@zorggroep-orion.be
SUMMARY:OPRUIMEN KERSTDECORATIE @ Albert
DESCRIPTION:Ook hier is werk aan de winkel! Na driekoningen mag alles weer netjes in de kast en maken we ons klaar voor de volgende festiviteiten. \nHeb jij een gaatje op deze dinsdag en kom je graag een handje toesteken? Dan ben je van harte welkom in Dienstencentrum Albert Van Dyck. \nVanaf 9 u verzamelen we bij de koffie en gebak!
URL:https://zorggroep-orion.be/activiteit/opruimen-kerstdecoratie-albert/
LOCATION:Dienstencentrum Albert Van Dyck\, Albert Van Dyckstraat 10\, Turnhout\, Antwerpen\, 2300\, Belgium
CATEGORIES:Goed om weten
ATTACH;FMTTYPE=image/png:https://zorggroep-orion.be/wp-content/uploads/2025/12/OPRUIMEN-KERST-JAN-LDC-AVD-2026.png
END:VEVENT
BEGIN:VEVENT
DTSTART;TZID=Europe/Brussels:20260112T140000
DTEND;TZID=Europe/Brussels:20260112T140000
DTSTAMP:20260425T022109
CREATED:20241217T150649Z
LAST-MODIFIED:20251217T082930Z
UID:10611658-1768226400-1768226400@zorggroep-orion.be
SUMMARY:ZANGKOOR DE GREGORIANEN @ Albert
DESCRIPTION:Ja hoor\, ook mannen kunnen zingen! Een 15 tal mannen die samen als koor ‘DE GREGORIANEN UIT RETIE’ vormen\, zullen deze namiddag laten klinken en galmen in gans ons centrum.  Zij houden het zeer luchtig dus jij kan alvast meezingen of gewoon genieten in het bijzijn van leuk gezelschap? \nInschrijven vanaf Vrijdag 2 jan. 9 u. \nPrijs incl. glaasje cava en klein hapje.
URL:https://zorggroep-orion.be/activiteit/nieuwjaarsconcert-albert/
LOCATION:Dienstencentrum Albert Van Dyck\, Albert Van Dyckstraat 10\, Turnhout\, Antwerpen\, 2300\, Belgium
CATEGORIES:Muziek
ATTACH;FMTTYPE=image/png:https://zorggroep-orion.be/wp-content/uploads/2024/12/ZANGKOOR-LDC-AVD-16-JAN-2025-.png
END:VEVENT
BEGIN:VEVENT
DTSTART;TZID=Europe/Brussels:20260112T133000
DTEND;TZID=Europe/Brussels:20260112T133000
DTSTAMP:20260425T022109
CREATED:20251217T075332Z
LAST-MODIFIED:20251219T062659Z
UID:10620418-1768224600-1768224600@zorggroep-orion.be
SUMMARY:WANDELINGEN @ Albert
DESCRIPTION:Voor de gevorderde onder ons\, maken we een gezellige Winterse-wandeling van ong. 5 à 6 km. \nDeze maand: “Het Geheul” in Zondereigen.                                                    ” \nJef \,vrijwilliger van dienst weet jullie telkens op een andere locatie te begeleiden. Dit onder het motto: Bewegen is en blijft gezond.  \nVertrek om 13.30u bij onze hoofdingang. \nDeelname € 2 (incl. verzekering/ koffie\, thee of water)
URL:https://zorggroep-orion.be/activiteit/wandelingen-albert-23/
LOCATION:Dienstencentrum Albert Van Dyck\, Albert Van Dyckstraat 10\, Turnhout\, Antwerpen\, 2300\, Belgium
CATEGORIES:Bewegen
ATTACH;FMTTYPE=image/png:https://zorggroep-orion.be/wp-content/uploads/2025/12/WANDELEN-5-KM-HET-GEHEUL-JAN-LDC-AVD-2026.png
END:VEVENT
BEGIN:VEVENT
DTSTART;TZID=Europe/Brussels:20260112T093000
DTEND;TZID=Europe/Brussels:20260112T123000
DTSTAMP:20260425T022109
CREATED:20251216T171527Z
LAST-MODIFIED:20251216T171527Z
UID:10620417-1768210200-1768221000@zorggroep-orion.be
SUMMARY:KOKEN @ Albert
DESCRIPTION:Workshop koken – Deze maand op het menu: WINTERKOST!  \nMet een groepje van max. 12 personen zorgt Christine voor een heerlijk gerecht. \nVoor maar liefst € 13 ! INSCHRIJVEN vanaf vrijdag 2 januari – 9 u. \nHartelijk welkom in de keuken van Christine! \n 
URL:https://zorggroep-orion.be/activiteit/koken-albert-26/
LOCATION:Dienstencentrum Albert Van Dyck\, Albert Van Dyckstraat 10\, Turnhout\, Antwerpen\, 2300\, Belgium
CATEGORIES:Workshop
ATTACH;FMTTYPE=image/png:https://zorggroep-orion.be/wp-content/uploads/2025/12/KOKEN-JAN-LDC-AVD-2026-1.png
END:VEVENT
BEGIN:VEVENT
DTSTART;VALUE=DATE:20260108
DTEND;VALUE=DATE:20260109
DTSTAMP:20260425T022109
CREATED:20251219T064230Z
LAST-MODIFIED:20251219T064230Z
UID:10620416-1767830400-1767916799@zorggroep-orion.be
SUMMARY:HAKEN @ Albert
DESCRIPTION:HAKEN – FILET HAKEN in ons centrum.  \nBijna wekelijks in ons centrum kan je in gezelschap komen haken. (behalve als de maand 5 weken telt en niet op zon- en feestdagen) \nDit telkens met begeleiding door Gerda of Leentje\, in de namiddag of vroege avond. Dus iedereen krijgt de kans hier aan deel te nemen. We maken allerhande leuke gadgets\, handtassen\, diertjes\, …. \nFILET HAKEN met Leentje. \nMEEBRENGEN: eigen materialen (kan uiteraard besproken worden met de begeleider). \nVolgende data: \n\n8 JAN 18 u\n15 JAN 14 u\n22 JAN 18 u\n29 JAN 14 u\n\nLocatie: Restaurant Albert Van Dyck – Albert Van Dyckstraat 10 \nGraag voor 18 u binnen zijn (deuren vergrendelen na 18 u) – ben je later kan je langs WZC De Wending binnenkomen Albert Van Dyckstraat 18. 
URL:https://zorggroep-orion.be/activiteit/haken-albert-8/
LOCATION:Dienstencentrum Albert Van Dyck\, Albert Van Dyckstraat 10\, Turnhout\, Antwerpen\, 2300\, Belgium
CATEGORIES:Workshop
ATTACH;FMTTYPE=image/png:https://zorggroep-orion.be/wp-content/uploads/2025/02/HAKEN-LDC-AVD-2025.png
END:VEVENT
BEGIN:VEVENT
DTSTART;TZID=Europe/Brussels:20260106T140000
DTEND;TZID=Europe/Brussels:20260106T170000
DTSTAMP:20260425T022109
CREATED:20251216T164500Z
LAST-MODIFIED:20251216T164500Z
UID:10620414-1767708000-1767718800@zorggroep-orion.be
SUMMARY:BORRELKAR @ Albert
DESCRIPTION:Driekoningen is het moment\, dat iedereen elkaar hier weer kent.Neem een borrel\, blijf even staan\, zo maken we samen het samenzijn spontaan. \nGezelligheid kent géén tijd\, hartelijk welkom in ons centrum.
URL:https://zorggroep-orion.be/activiteit/borrelkar-albert/
LOCATION:Dienstencentrum Albert Van Dyck\, Albert Van Dyckstraat 10\, Turnhout\, Antwerpen\, 2300\, Belgium
CATEGORIES:Feest
ATTACH;FMTTYPE=image/png:https://zorggroep-orion.be/wp-content/uploads/2025/12/BORRELKAR-LDC-AVD-2026.png
END:VEVENT
BEGIN:VEVENT
DTSTART;TZID=Europe/Brussels:20260104T140000
DTEND;TZID=Europe/Brussels:20260104T170000
DTSTAMP:20260425T022109
CREATED:20251217T152021Z
LAST-MODIFIED:20251217T152021Z
UID:10620413-1767535200-1767546000@zorggroep-orion.be
SUMMARY:VERWEN KOFFIE @ Albert
DESCRIPTION:Heb jij al de kans gehad het Nieuwe Jaar goed in te zetten? \nNiet getreurd\, kom er gezellig bij en geniet van ne lekkere verwen koffie à democratische prijs in ons cafetaria. \nOnze vrijwilligers ontvangen jullie met open armen en samen omarmen we het Nieuwe Jaar! Hartelijk welkom.
URL:https://zorggroep-orion.be/activiteit/verwen-koffie-albert/
LOCATION:Dienstencentrum Albert Van Dyck\, Albert Van Dyckstraat 10\, Turnhout\, Antwerpen\, 2300\, Belgium
CATEGORIES:Feest
ATTACH;FMTTYPE=image/png:https://zorggroep-orion.be/wp-content/uploads/2025/12/VERWEN-KOFFIE-JAN-LDC-AVD-2026.png
END:VEVENT
BEGIN:VEVENT
DTSTART;TZID=Europe/Brussels:20260102T090000
DTEND;TZID=Europe/Brussels:20260102T120000
DTSTAMP:20260425T022109
CREATED:20251216T161522Z
LAST-MODIFIED:20251216T161551Z
UID:10620412-1767344400-1767355200@zorggroep-orion.be
SUMMARY:INSCHRIJVEN @ Albert
DESCRIPTION:Vanaf vrijdag 2 januari 2026 kan je inschrijven voor ons ruim aanbod aan activiteiten in ons centrum.  \nDagelijks valt er ook hier wat te beleven voor jong en oud. Voel je vrij om een kijkje te komen nemen: in ons centrum of op onze site. Er zit vast iets leuks tussen om je dag zinvol in te vullen. Ook al is het gewoon maar om de sfeer op te snuiven in leuk gezelschap. \nAlvast hartelijk welkom.  \nKijk je mee: https://zorggroep-orion.be/dienstencentrum/lokaal-dienstencentrum-albert-van-dyck/ \n 
URL:https://zorggroep-orion.be/activiteit/inschrijven-albert-9/
LOCATION:Dienstencentrum Albert Van Dyck\, Albert Van Dyckstraat 10\, Turnhout\, Antwerpen\, 2300\, Belgium
CATEGORIES:Goed om weten
ATTACH;FMTTYPE=image/png:https://zorggroep-orion.be/wp-content/uploads/2025/12/LDC-AVD-1-JAN-2026-.png
END:VEVENT
END:VCALENDAR