BEGIN:VCALENDAR
VERSION:2.0
PRODID:-//Zorggroep Orion - ECPv6.15.17.1//NONSGML v1.0//EN
CALSCALE:GREGORIAN
METHOD:PUBLISH
X-ORIGINAL-URL:https://zorggroep-orion.be
X-WR-CALDESC:Evenementen voor Zorggroep Orion
REFRESH-INTERVAL;VALUE=DURATION:PT1H
X-Robots-Tag:noindex
X-PUBLISHED-TTL:PT1H
BEGIN:VTIMEZONE
TZID:Europe/Brussels
BEGIN:DAYLIGHT
TZOFFSETFROM:+0100
TZOFFSETTO:+0200
TZNAME:CEST
DTSTART:20230326T010000
END:DAYLIGHT
BEGIN:STANDARD
TZOFFSETFROM:+0200
TZOFFSETTO:+0100
TZNAME:CET
DTSTART:20231029T010000
END:STANDARD
BEGIN:DAYLIGHT
TZOFFSETFROM:+0100
TZOFFSETTO:+0200
TZNAME:CEST
DTSTART:20240331T010000
END:DAYLIGHT
BEGIN:STANDARD
TZOFFSETFROM:+0200
TZOFFSETTO:+0100
TZNAME:CET
DTSTART:20241027T010000
END:STANDARD
BEGIN:DAYLIGHT
TZOFFSETFROM:+0100
TZOFFSETTO:+0200
TZNAME:CEST
DTSTART:20250330T010000
END:DAYLIGHT
BEGIN:STANDARD
TZOFFSETFROM:+0200
TZOFFSETTO:+0100
TZNAME:CET
DTSTART:20251026T010000
END:STANDARD
BEGIN:DAYLIGHT
TZOFFSETFROM:+0100
TZOFFSETTO:+0200
TZNAME:CEST
DTSTART:20260329T010000
END:DAYLIGHT
BEGIN:STANDARD
TZOFFSETFROM:+0200
TZOFFSETTO:+0100
TZNAME:CET
DTSTART:20261025T010000
END:STANDARD
END:VTIMEZONE
BEGIN:VEVENT
DTSTART;TZID=Europe/Brussels:20250630T100000
DTEND;TZID=Europe/Brussels:20250630T110000
DTSTAMP:20260424T233952
CREATED:20240422T140453Z
LAST-MODIFIED:20240516T093735Z
UID:10608883-1751277600-1751281200@zorggroep-orion.be
SUMMARY:Ontmoet je buur @ De Schoor
DESCRIPTION:Onder het motto ‘Ontmoet je buren’ komen we elke maandagvoormiddag samen in het café van De Schoor.\nHeb jij ook nood aan een babbel\, ontmoeting\, sociaal contact\, …? Dan ben je meer dan welkom! \nKom gerust eens langs en voor zij die willen staat er een tasje koffie of thee klaar voor €1. \n 
URL:https://zorggroep-orion.be/activiteit/ontmoet-je-buur-de-schoor-2/2025-06-30/
LOCATION:Dienstencentrum De Schoor\, Schorvoortstraat 53\, Turnhout\, 2300
CATEGORIES:Recreatie
ATTACH;FMTTYPE=image/jpeg:https://zorggroep-orion.be/wp-content/uploads/2024/03/ontmoet-je-buren.jpg
END:VEVENT
BEGIN:VEVENT
DTSTART;TZID=Europe/Brussels:20240624T190000
DTEND;TZID=Europe/Brussels:20240624T200000
DTSTAMP:20260424T233952
CREATED:20240516T094131Z
LAST-MODIFIED:20240516T094131Z
UID:10608884-1719255600-1719259200@zorggroep-orion.be
SUMMARY:Lees(v)uurtje
DESCRIPTION:Het is bewezen dat 6 minuten lezen per dag al stressverlagend werkt. Mensen die dertig minuten per dag lezen\, hebben minder last van sombere gevoelens. Met ons ‘lees(v)uurtje’ willen we op regelmatige basis samenkomen om een gezamenlijk boek te bespreken. Iedereen is welkom!
URL:https://zorggroep-orion.be/activiteit/leesvuurtje-2/
LOCATION:Dienstencentrum De Schoor\, Schorvoortstraat 53\, Turnhout\, 2300
CATEGORIES:Recreatie
ATTACH;FMTTYPE=image/jpeg:https://zorggroep-orion.be/wp-content/uploads/2023/09/act202310-leesvuurtje.jpg
END:VEVENT
BEGIN:VEVENT
DTSTART;TZID=Europe/Brussels:20240621T090000
DTEND;TZID=Europe/Brussels:20240621T103000
DTSTAMP:20260424T233952
CREATED:20240528T091005Z
LAST-MODIFIED:20240528T091005Z
UID:10608898-1718960400-1718965800@zorggroep-orion.be
SUMMARY:Dag van de Mantelzorger - ontbijt
DESCRIPTION:Heb jij een hart van goud en sta je altijd klaar als mantelzorger? Of word jij juist omringd door de liefdevolle zorg van een mantelzorger en wil je die bijzondere persoon eens extra in de bloemetjes zetten? Goed nieuws! Stad Turnhout en Zorggroep Orion nodigen alle mantelzorgers uit voor een heerlijk ontbijt ter ere van Dag van de Mantelzorger! \nOp vrijdag 21 juni verwelkomen we alle mantelzorgers voor een gezellig gratis ontbijt in LDC De Schoor. \nLukt voor jou ontbijten op locatie niet? Geen nood\, wij zorgen voor een leuke verrassing aan huis voor de mantelzorgers die niet ter plaatse geraken. \nInschrijven vóór 7 juni via Tel. 014 28 43 37 \nOf mail mantelzorg@zorggroep-orion.be (naam\, adres\, aantal pers.\, met de melding op locatie of thuis) \nLocatie: De Schoor – Schorvoortstraat 53 te Turnhout. \n 
URL:https://zorggroep-orion.be/activiteit/dag-van-de-mantelzorger-ontbijt/
LOCATION:Dienstencentrum De Schoor\, Schorvoortstraat 53\, Turnhout\, 2300
CATEGORIES:Eten & Drinken
ATTACH;FMTTYPE=image/png:https://zorggroep-orion.be/wp-content/uploads/2024/05/Dag-van-de-mantelzorger-06-2024.png
END:VEVENT
BEGIN:VEVENT
DTSTART;TZID=Europe/Brussels:20240619T133000
DTEND;TZID=Europe/Brussels:20240619T170000
DTSTAMP:20260424T233952
CREATED:20240528T091522Z
LAST-MODIFIED:20240528T091522Z
UID:10608899-1718803800-1718816400@zorggroep-orion.be
SUMMARY:Blokjesfestival Antennepunt 7Donk
DESCRIPTION:KWB Sint-Pieter en KWB Zevendonk organiseren het blokjesfestival in ons antennepunt.\nKom jij mee gezellig bouwen met de 150kg legoblokjes? Groot en klein\, jong en oud welkom!
URL:https://zorggroep-orion.be/activiteit/blokjesfestival-antennepunt-7donk/
LOCATION:Dienstencentrum De Schoor\, Schorvoortstraat 53\, Turnhout\, 2300
CATEGORIES:Recreatie
ATTACH;FMTTYPE=image/png:https://zorggroep-orion.be/wp-content/uploads/2023/03/act-202306-Legofestival.png
END:VEVENT
BEGIN:VEVENT
DTSTART;TZID=Europe/Brussels:20240618T170000
DTEND;TZID=Europe/Brussels:20240618T190000
DTSTAMP:20260424T233952
CREATED:20240516T141441Z
LAST-MODIFIED:20240516T141441Z
UID:10608895-1718730000-1718737200@zorggroep-orion.be
SUMMARY:Paella @ De Schoor
DESCRIPTION:Kom mee genieten van een gezellige zomerse avond. We serveren een lekkere paella en glaasje sangria (of een mocktail). \nInschrijven kan vanaf maandag 27 mei tot en met 11 juni of tot de plaatsen volzet zijn.
URL:https://zorggroep-orion.be/activiteit/paella-de-schoor/
LOCATION:Dienstencentrum De Schoor\, Schorvoortstraat 53\, Turnhout\, 2300
CATEGORIES:Eten & Drinken
ATTACH;FMTTYPE=image/png:https://zorggroep-orion.be/wp-content/uploads/2023/05/SMUL.-PAeLLA-LDC-AVD-2023.png
END:VEVENT
BEGIN:VEVENT
DTSTART;TZID=Europe/Brussels:20240613T133000
DTEND;TZID=Europe/Brussels:20240613T170000
DTSTAMP:20260424T233952
CREATED:20231214T124653Z
LAST-MODIFIED:20240528T084711Z
UID:10607907-1718285400-1718298000@zorggroep-orion.be
SUMMARY:Muziek met DJ Staf
DESCRIPTION:DJ Staf komt ons elke tweede donderdag van de maand verwennen met de leukste plaatjes. Hij draait verschillende klassiekers\, maar je kan ook altijd liedjes aanvragen.
URL:https://zorggroep-orion.be/activiteit/muziek-met-dj-staf-4/
LOCATION:Dienstencentrum De Schoor\, Schorvoortstraat 53\, Turnhout\, 2300
ATTACH;FMTTYPE=image/png:https://zorggroep-orion.be/wp-content/uploads/2023/03/2101act-Dj-Staf.png
END:VEVENT
BEGIN:VEVENT
DTSTART;TZID=Europe/Brussels:20240612T133000
DTEND;TZID=Europe/Brussels:20240612T153000
DTSTAMP:20260424T233952
CREATED:20231020T125641Z
LAST-MODIFIED:20240516T092147Z
UID:10604884-1718199000-1718206200@zorggroep-orion.be
SUMMARY:'Bijbeenles' lijndansen voor beginners
DESCRIPTION:Ook voor niet-leden.\nGratis.
URL:https://zorggroep-orion.be/activiteit/linedance-voor-beginners-4/
LOCATION:Dienstencentrum De Schoor\, Schorvoortstraat 53\, Turnhout\, 2300
CATEGORIES:Bewegen
ATTACH;FMTTYPE=image/jpeg:https://zorggroep-orion.be/wp-content/uploads/2023/07/act202307-Linedance.jpg
END:VEVENT
BEGIN:VEVENT
DTSTART;TZID=Europe/Brussels:20240605T140000
DTEND;TZID=Europe/Brussels:20240605T160000
DTSTAMP:20260424T233952
CREATED:20240422T102750Z
LAST-MODIFIED:20240516T143554Z
UID:10608772-1717596000-1717603200@zorggroep-orion.be
SUMMARY:Brusselse wafel in Antennepunt 7Donk
DESCRIPTION:Kom jij ook mee genieten van een lekkere Brusselse wafel\, gebakken door onze vrijwilliger Guy? Iedereen welkom op woensdag 5 juni!
URL:https://zorggroep-orion.be/activiteit/brusselse-wafel-in-de-schoor/
LOCATION:Dienstencentrum De Schoor\, Schorvoortstraat 53\, Turnhout\, 2300
CATEGORIES:Eten & Drinken
ATTACH;FMTTYPE=image/png:https://zorggroep-orion.be/wp-content/uploads/2024/04/act202405-Brusselse-wafels.png
END:VEVENT
BEGIN:VEVENT
DTSTART;TZID=Europe/Brussels:20240605T133000
DTEND;TZID=Europe/Brussels:20240605T143000
DTSTAMP:20260424T233952
CREATED:20240516T144056Z
LAST-MODIFIED:20240516T144056Z
UID:10608896-1717594200-1717597800@zorggroep-orion.be
SUMMARY:Infosessie: kleine hulpmiddelen om langer thuis te blijven wonen
DESCRIPTION:Een hulpmiddelenadviseur van CM laat je kennis maken met verschillende kleine hulpmiddelen die het mogelijk maken om langer zelfstandig thuis te wonen. \nGelieve in te schrijven.
URL:https://zorggroep-orion.be/activiteit/infosessie-kleine-hulpmiddelen-om-langer-thuis-te-blijven-wonen/
LOCATION:Dienstencentrum De Schoor\, Schorvoortstraat 53\, Turnhout\, 2300
CATEGORIES:Dienstverlening
ATTACH;FMTTYPE=image/png:https://zorggroep-orion.be/wp-content/uploads/2024/05/images.png
END:VEVENT
END:VCALENDAR