BEGIN:VCALENDAR
VERSION:2.0
PRODID:-//Zorggroep Orion - ECPv6.15.17.1//NONSGML v1.0//EN
CALSCALE:GREGORIAN
METHOD:PUBLISH
X-ORIGINAL-URL:https://zorggroep-orion.be
X-WR-CALDESC:Evenementen voor Zorggroep Orion
REFRESH-INTERVAL;VALUE=DURATION:PT1H
X-Robots-Tag:noindex
X-PUBLISHED-TTL:PT1H
BEGIN:VTIMEZONE
TZID:Europe/Brussels
BEGIN:DAYLIGHT
TZOFFSETFROM:+0100
TZOFFSETTO:+0200
TZNAME:CEST
DTSTART:20240331T010000
END:DAYLIGHT
BEGIN:STANDARD
TZOFFSETFROM:+0200
TZOFFSETTO:+0100
TZNAME:CET
DTSTART:20241027T010000
END:STANDARD
BEGIN:DAYLIGHT
TZOFFSETFROM:+0100
TZOFFSETTO:+0200
TZNAME:CEST
DTSTART:20250330T010000
END:DAYLIGHT
BEGIN:STANDARD
TZOFFSETFROM:+0200
TZOFFSETTO:+0100
TZNAME:CET
DTSTART:20251026T010000
END:STANDARD
BEGIN:DAYLIGHT
TZOFFSETFROM:+0100
TZOFFSETTO:+0200
TZNAME:CEST
DTSTART:20260329T010000
END:DAYLIGHT
BEGIN:STANDARD
TZOFFSETFROM:+0200
TZOFFSETTO:+0100
TZNAME:CET
DTSTART:20261025T010000
END:STANDARD
END:VTIMEZONE
BEGIN:VEVENT
DTSTART;TZID=Europe/Brussels:20250328T133000
DTEND;TZID=Europe/Brussels:20250328T170000
DTSTAMP:20260425T044945
CREATED:20250122T105317Z
LAST-MODIFIED:20250122T105317Z
UID:10615525-1743168600-1743181200@zorggroep-orion.be
SUMMARY:Nieuwe tentoonstelling in De Schoor
DESCRIPTION:Vanaf zondag 2 februari kunnen jullie de nieuwe tentoonstelling komen bewonderen. Deze keer stellen Jakke Jacobs en Marc Vanhellemont tentoon. Iedereen welkom tijdens de openingsuren van het dienstencentrum.
URL:https://zorggroep-orion.be/activiteit/nieuwe-tentoonstelling-in-de-schoor/2025-03-28/
LOCATION:Dienstencentrum De Schoor\, Schorvoortstraat 53\, Turnhout\, 2300
CATEGORIES:Tentoonstelling
ATTACH;FMTTYPE=image/png:https://zorggroep-orion.be/wp-content/uploads/2025/01/act.-202502-nieuwe-tentoonstelling.png
END:VEVENT
BEGIN:VEVENT
DTSTART;TZID=Europe/Brussels:20250214T133000
DTEND;TZID=Europe/Brussels:20250214T170000
DTSTAMP:20260425T044946
CREATED:20250122T142218Z
LAST-MODIFIED:20250122T142218Z
UID:10615585-1739539800-1739552400@zorggroep-orion.be
SUMMARY:Valentijnsgebakje met koffie in De Schoor
DESCRIPTION:Met Valentijn kan je in de namiddag een lekker gebakje krijgen met een tasje koffie tijdens de openingsuren van ons café. Wil je zeker zijn van jouw stukje\, reserveer het dan bij de medewerkers.
URL:https://zorggroep-orion.be/activiteit/valentijnsgebakje-met-koffie-in-de-schoor/
LOCATION:Dienstencentrum De Schoor\, Schorvoortstraat 53\, Turnhout\, 2300
CATEGORIES:Eten & Drinken
ATTACH;FMTTYPE=image/jpeg:https://zorggroep-orion.be/wp-content/uploads/2025/01/Valentijnsgebakje-02-2025.jpg
END:VEVENT
BEGIN:VEVENT
DTSTART;TZID=Europe/Brussels:20250214T120000
DTEND;TZID=Europe/Brussels:20250214T133000
DTSTAMP:20260425T044946
CREATED:20250122T095643Z
LAST-MODIFIED:20250122T095643Z
UID:10615470-1739534400-1739539800@zorggroep-orion.be
SUMMARY:Frikadellen met krieken en brood
DESCRIPTION:Kom genieten van lekkere frikadellen met krieken en brood in ons dienstencentrum.\nInschrijven vanaf maandag 27 januari tot woensdag 12 februari (of tot de plaatsen volzet zijn). 
URL:https://zorggroep-orion.be/activiteit/frikadellen-met-krieken-en-brood/
LOCATION:Dienstencentrum De Schoor\, Schorvoortstraat 53\, Turnhout\, 2300
CATEGORIES:Eten & Drinken
ATTACH;FMTTYPE=image/png:https://zorggroep-orion.be/wp-content/uploads/2023/03/act-202306-balletjes-met-krieken.png
END:VEVENT
BEGIN:VEVENT
DTSTART;TZID=Europe/Brussels:20250212T100000
DTEND;TZID=Europe/Brussels:20250212T170000
DTSTAMP:20260425T044946
CREATED:20250124T084732Z
LAST-MODIFIED:20250124T084732Z
UID:10615588-1739354400-1739379600@zorggroep-orion.be
SUMMARY:1 jaar Antennepunt 7Donk
DESCRIPTION:Woensdag 12 februari is iedereen welkom in ons antennepunt van 10u tot 17u.\nJe kan inschrijven voor onze resto ’s middags. Dit kan je tot ten laatste maandag 12u.\nElke bezoeker krijgt die dag een gratis stukje taart.
URL:https://zorggroep-orion.be/activiteit/1-jaar-antennepunt-7donk/
LOCATION:Dienstencentrum De Schoor\, Schorvoortstraat 53\, Turnhout\, 2300
CATEGORIES:Feest
ATTACH;FMTTYPE=image/png:https://zorggroep-orion.be/wp-content/uploads/2025/01/1-jaar-antennepunt.png
END:VEVENT
END:VCALENDAR