BEGIN:VCALENDAR
VERSION:2.0
PRODID:-//Zorggroep Orion - ECPv6.15.17.1//NONSGML v1.0//EN
CALSCALE:GREGORIAN
METHOD:PUBLISH
X-ORIGINAL-URL:https://zorggroep-orion.be
X-WR-CALDESC:Evenementen voor Zorggroep Orion
REFRESH-INTERVAL;VALUE=DURATION:PT1H
X-Robots-Tag:noindex
X-PUBLISHED-TTL:PT1H
BEGIN:VTIMEZONE
TZID:Europe/Brussels
BEGIN:DAYLIGHT
TZOFFSETFROM:+0100
TZOFFSETTO:+0200
TZNAME:CEST
DTSTART:20240331T010000
END:DAYLIGHT
BEGIN:STANDARD
TZOFFSETFROM:+0200
TZOFFSETTO:+0100
TZNAME:CET
DTSTART:20241027T010000
END:STANDARD
BEGIN:DAYLIGHT
TZOFFSETFROM:+0100
TZOFFSETTO:+0200
TZNAME:CEST
DTSTART:20250330T010000
END:DAYLIGHT
BEGIN:STANDARD
TZOFFSETFROM:+0200
TZOFFSETTO:+0100
TZNAME:CET
DTSTART:20251026T010000
END:STANDARD
BEGIN:DAYLIGHT
TZOFFSETFROM:+0100
TZOFFSETTO:+0200
TZNAME:CEST
DTSTART:20260329T010000
END:DAYLIGHT
BEGIN:STANDARD
TZOFFSETFROM:+0200
TZOFFSETTO:+0100
TZNAME:CET
DTSTART:20261025T010000
END:STANDARD
END:VTIMEZONE
BEGIN:VEVENT
DTSTART;TZID=Europe/Brussels:20250925T133000
DTEND;TZID=Europe/Brussels:20250925T170000
DTSTAMP:20260424T221705
CREATED:20250820T121943Z
LAST-MODIFIED:20250820T121943Z
UID:10619459-1758807000-1758819600@zorggroep-orion.be
SUMMARY:Crea: porseleinen potjes maken met marmerlook
DESCRIPTION:Deze keer maakt onze crea porseleinen potjes die ze dan afwerken met een marmerlook. Zin om mee te komen knutselen? Iedereen welkom! \n11/9 & 25/9 \n+- €5/stuk
URL:https://zorggroep-orion.be/activiteit/crea-porseleinen-potjes-maken-met-marmerlook/
LOCATION:Dienstencentrum De Schoor\, Schorvoortstraat 53\, Turnhout\, 2300
CATEGORIES:Workshop
ATTACH;FMTTYPE=image/jpeg:https://zorggroep-orion.be/wp-content/uploads/2025/01/crea-potje.jpg
END:VEVENT
BEGIN:VEVENT
DTSTART;TZID=Europe/Brussels:20250924T133000
DTEND;TZID=Europe/Brussels:20250924T160000
DTSTAMP:20260424T221705
CREATED:20250418T103032Z
LAST-MODIFIED:20250820T111424Z
UID:10617760-1758720600-1758729600@zorggroep-orion.be
SUMMARY:Rummikub in Antennepunt 7donk
DESCRIPTION:Kom elke woensdag (uitgezonderd tijdens de Bingo of Sing-Along) rummikubben in ons Antennepunt in Zevendonk. \nSchuif gezellig mee aan.  IEDEREEN WELKOM!
URL:https://zorggroep-orion.be/activiteit/rummikub-in-antennepunt-7donk-4/
LOCATION:Dienstencentrum De Schoor\, Schorvoortstraat 53\, Turnhout\, 2300
CATEGORIES:Recreatie
ATTACH;FMTTYPE=image/jpeg:https://zorggroep-orion.be/wp-content/uploads/2024/09/act202410-rummikub-antennepunt.jpg
END:VEVENT
BEGIN:VEVENT
DTSTART;TZID=Europe/Brussels:20250911T133000
DTEND;TZID=Europe/Brussels:20250911T170000
DTSTAMP:20260424T221705
CREATED:20250122T125646Z
LAST-MODIFIED:20250820T121910Z
UID:10615526-1757597400-1757610000@zorggroep-orion.be
SUMMARY:Crea: porseleinen potjes maken met marmerlook
DESCRIPTION:Deze keer maakt onze crea porseleinen potjes die ze dan afwerken met een marmerlook. Zin om mee te komen knutselen? Iedereen welkom! \n11/9 & 25/9 \n+- €5/stuk
URL:https://zorggroep-orion.be/activiteit/crea-broodmandjes-maken/
LOCATION:Dienstencentrum De Schoor\, Schorvoortstraat 53\, Turnhout\, 2300
CATEGORIES:Workshop
ATTACH;FMTTYPE=image/jpeg:https://zorggroep-orion.be/wp-content/uploads/2025/01/crea-potje.jpg
END:VEVENT
BEGIN:VEVENT
DTSTART;TZID=Europe/Brussels:20250910T130000
DTEND;TZID=Europe/Brussels:20250910T140000
DTSTAMP:20260424T221705
CREATED:20250820T120813Z
LAST-MODIFIED:20250820T120813Z
UID:10619457-1757509200-1757512800@zorggroep-orion.be
SUMMARY:Inschrijfmoment seniorenraad in Antennepunt 7donk
DESCRIPTION:Een verantwoordelijke van de seniorenraad komt naar ons antennepunt in Zevendonk zodat je je kan inschrijven voor hun daguitstap.
URL:https://zorggroep-orion.be/activiteit/inschrijfmoment-seniorenraad-in-antennepunt-7donk/
CATEGORIES:Dienstverlening
END:VEVENT
BEGIN:VEVENT
DTSTART;TZID=Europe/Brussels:20250907T133000
DTEND;TZID=Europe/Brussels:20250907T170000
DTSTAMP:20260424T221705
CREATED:20250820T121429Z
LAST-MODIFIED:20250820T121429Z
UID:10619458-1757251800-1757264400@zorggroep-orion.be
SUMMARY:Afsluiten zomervakantie + prijsuitreiking fotozoektocht
DESCRIPTION:Kom langs tijdens deze gezellige zondagnamiddag.\nWe sluiten de zomervakantie af met swingende muziek van Cisco en we reiken de prijzen uit van onze fotozoektocht.\nDe hele namiddag kan je genieten van de lekkere wafels met slagroom (€3) en/of een bolletje ijs (€4) die worden gebakken door onze vrijwilliger Guy.
URL:https://zorggroep-orion.be/activiteit/afsluiten-zomervakantie-prijsuitreiking-fotozoektocht/
LOCATION:Dienstencentrum De Schoor\, Schorvoortstraat 53\, Turnhout\, 2300
CATEGORIES:Feest
ATTACH;FMTTYPE=image/png:https://zorggroep-orion.be/wp-content/uploads/2024/05/CISCO-06-2024-1.png
END:VEVENT
BEGIN:VEVENT
DTSTART;TZID=Europe/Brussels:20250129T093000
DTEND;TZID=Europe/Brussels:20250129T120000
DTSTAMP:20260424T221705
CREATED:20240215T125722Z
LAST-MODIFIED:20250820T115123Z
UID:10608551-1738143000-1738152000@zorggroep-orion.be
SUMMARY:Cursus kalligrafie
DESCRIPTION:Tijdens deze lessenreeks van 6 lessen leer je de\nbasisprincipes van het kalligraferen. Het materiaal dat je\nnodig hebt zit mee inbegrepen in de prijs (je moet enkel\neen onderlegger en eventueel een schort meebrengen).\nLessen: 17/9\, 1/10\, 15/10\, 29/10\, 12/11 en 26/11.
URL:https://zorggroep-orion.be/activiteit/cursus-kalligrafie-7/
LOCATION:Dienstencentrum De Schoor\, Schorvoortstraat 53\, Turnhout\, 2300
CATEGORIES:Leren
ATTACH;FMTTYPE=image/jpeg:https://zorggroep-orion.be/wp-content/uploads/2023/07/act202307-Kalligrafie.jpg
END:VEVENT
END:VCALENDAR