BEGIN:VCALENDAR
VERSION:2.0
PRODID:-//Zorggroep Orion - ECPv6.15.17.1//NONSGML v1.0//EN
CALSCALE:GREGORIAN
METHOD:PUBLISH
X-ORIGINAL-URL:https://zorggroep-orion.be
X-WR-CALDESC:Evenementen voor Zorggroep Orion
REFRESH-INTERVAL;VALUE=DURATION:PT1H
X-Robots-Tag:noindex
X-PUBLISHED-TTL:PT1H
BEGIN:VTIMEZONE
TZID:Europe/Brussels
BEGIN:DAYLIGHT
TZOFFSETFROM:+0100
TZOFFSETTO:+0200
TZNAME:CEST
DTSTART:20240331T010000
END:DAYLIGHT
BEGIN:STANDARD
TZOFFSETFROM:+0200
TZOFFSETTO:+0100
TZNAME:CET
DTSTART:20241027T010000
END:STANDARD
BEGIN:DAYLIGHT
TZOFFSETFROM:+0100
TZOFFSETTO:+0200
TZNAME:CEST
DTSTART:20250330T010000
END:DAYLIGHT
BEGIN:STANDARD
TZOFFSETFROM:+0200
TZOFFSETTO:+0100
TZNAME:CET
DTSTART:20251026T010000
END:STANDARD
BEGIN:DAYLIGHT
TZOFFSETFROM:+0100
TZOFFSETTO:+0200
TZNAME:CEST
DTSTART:20260329T010000
END:DAYLIGHT
BEGIN:STANDARD
TZOFFSETFROM:+0200
TZOFFSETTO:+0100
TZNAME:CET
DTSTART:20261025T010000
END:STANDARD
BEGIN:DAYLIGHT
TZOFFSETFROM:+0100
TZOFFSETTO:+0200
TZNAME:CEST
DTSTART:20270328T010000
END:DAYLIGHT
BEGIN:STANDARD
TZOFFSETFROM:+0200
TZOFFSETTO:+0100
TZNAME:CET
DTSTART:20271031T010000
END:STANDARD
END:VTIMEZONE
BEGIN:VEVENT
DTSTART;TZID=Europe/Brussels:20251230T170000
DTEND;TZID=Europe/Brussels:20251230T190000
DTSTAMP:20260425T055200
CREATED:20251127T122356Z
LAST-MODIFIED:20251127T122356Z
UID:10620410-1767114000-1767121200@zorggroep-orion.be
SUMMARY:Eindejaarsdiner
DESCRIPTION:Om het jaar af te sluiten organiseren we een gezellig eindejaarsdiner. \n\nGlaasje cava of fruitsap\nTomatenroomsoep met balletjes\nKalkoengebraad met druivensaus\, romanesco en pommes duchesse\nBiscuit met fruit en koffie\n\nInschrijven kan bij de medewerkers of via 014 28 40 72 / deschoor@zorggroep-orion.be. Inschrijven kan tot en met 21 december.
URL:https://zorggroep-orion.be/activiteit/eindejaarsdiner/
LOCATION:Dienstencentrum De Schoor\, Schorvoortstraat 53\, Turnhout\, 2300
CATEGORIES:Eten & Drinken
ATTACH;FMTTYPE=image/jpeg:https://zorggroep-orion.be/wp-content/uploads/2023/11/Act-202312-feestmenu.jpg
END:VEVENT
BEGIN:VEVENT
DTSTART;VALUE=DATE:20251224
DTEND;VALUE=DATE:20260102
DTSTAMP:20260425T055200
CREATED:20251127T095537Z
LAST-MODIFIED:20251127T095537Z
UID:10620409-1766534400-1767311999@zorggroep-orion.be
SUMMARY:Openingsuren De Schoor tijdens de feestdagen
DESCRIPTION:Hieronder lijsten we graag even de openingsuren van ons dienstencentrum op tijdens de feestdagen. \n\nwoensdag 24 december: het kantoor en het café zijn open. Het café is open van 13u30 tot 22u. Onze vrijwilligers voorzien iets lekkers voor elke bezoeker.\ndonderdag 25 december: het kantoor is gesloten. Ons café is open van 13u30 tot 17u00.\nwoensdag 31 december: het kantoor en het café zijn open. Het café is open van 13u30 tot 22u. Onze vrijwilligers voorzien iets lekkers voor elke bezoeker.\ndonderdag 1 januari: het kantoor is gesloten. Ons café is open van 13u30 tot 17u00.
URL:https://zorggroep-orion.be/activiteit/openingsuren-de-schoor-tijdens-de-feestdagen/
LOCATION:Dienstencentrum De Schoor\, Schorvoortstraat 53\, Turnhout\, 2300
CATEGORIES:Goed om weten
ATTACH;FMTTYPE=image/png:https://zorggroep-orion.be/wp-content/uploads/2025/11/KERSTSFEER-LDC-AVD-2025.png
END:VEVENT
BEGIN:VEVENT
DTSTART;TZID=Europe/Brussels:20251219T140000
DTEND;TZID=Europe/Brussels:20251219T150000
DTSTAMP:20260425T055200
CREATED:20251127T090318Z
LAST-MODIFIED:20251127T090318Z
UID:10620408-1766152800-1766156400@zorggroep-orion.be
SUMMARY:Sing-along kerstliedjes door het vijfde leerjaar
DESCRIPTION:Het vijfde leerjaar van de basisschool Sint-Franciscus komt hun mooiste kerstliedjes zingen in ons café. Iedereen welkom om uit volle borst mee te doen of om te komen luisteren!
URL:https://zorggroep-orion.be/activiteit/sing-along-kerstliedjes-door-het-vijfde-leerjaar/
LOCATION:Dienstencentrum De Schoor\, Schorvoortstraat 53\, Turnhout\, 2300
CATEGORIES:Feest
ATTACH;FMTTYPE=image/png:https://zorggroep-orion.be/wp-content/uploads/2025/11/zingen-dec.png
END:VEVENT
BEGIN:VEVENT
DTSTART;TZID=Europe/Brussels:20251213T133000
DTEND;TZID=Europe/Brussels:20251213T170000
DTSTAMP:20260425T055200
CREATED:20251112T154729Z
LAST-MODIFIED:20251127T084953Z
UID:10620002-1765632600-1765645200@zorggroep-orion.be
SUMMARY:KERSTMARKT @ DE SCHOOR
DESCRIPTION:Op zaterdag 13 december dompelen we De Schoor onder in een gezellige kerstsfeer.  \nKom langs en geniet van een sfeervolle namiddag vol lichtjes\, muziek en gezelligheid. \nIn onze cafetaria kan je terecht voor heerlijke snacks en lekkere (winterse) drankjes. \nDaarnaast is er van alles te beleven: \n\neen optreden dat voor de juiste kerstsfeer zorgt\nbezoek van de kerstman\neen activiteitenmarkt met ons aanbod én leuke externe standhouders\n\nKortom: warmte\, sfeer en gezelligheid verzekerd! \nZet het alvast in je agenda\, want dit wil je niet missen!
URL:https://zorggroep-orion.be/activiteit/save-the-date-kerstmarkt-de-schoor/
LOCATION:Dienstencentrum De Schoor\, Schorvoortstraat 53\, Turnhout\, 2300
CATEGORIES:Feest
ATTACH;FMTTYPE=image/jpeg:https://zorggroep-orion.be/wp-content/uploads/2025/10/Save-the-date-kerstmarkt-122025.jpg
END:VEVENT
BEGIN:VEVENT
DTSTART;TZID=Europe/Brussels:20251210T133000
DTEND;TZID=Europe/Brussels:20251210T160000
DTSTAMP:20260425T055200
CREATED:20251017T113551Z
LAST-MODIFIED:20251127T083935Z
UID:10619853-1765373400-1765382400@zorggroep-orion.be
SUMMARY:Rummikub in Antennepunt 7donk
DESCRIPTION:Kom elke woensdag (uitgezonderd tijdens de bingo of sing-along) rummikubben in ons Antennepunt. \nIedereen welkom!
URL:https://zorggroep-orion.be/activiteit/rummikub-in-antennepunt-7donk-8/
LOCATION:Dienstencentrum De Schoor\, Schorvoortstraat 53\, Turnhout\, 2300
ATTACH;FMTTYPE=image/jpeg:https://zorggroep-orion.be/wp-content/uploads/2024/09/act202410-rummikub-antennepunt.jpg
END:VEVENT
BEGIN:VEVENT
DTSTART;TZID=Europe/Brussels:20251204T133000
DTEND;TZID=Europe/Brussels:20251204T170000
DTSTAMP:20260425T055200
CREATED:20251017T114521Z
LAST-MODIFIED:20251127T084141Z
UID:10619856-1764855000-1764867600@zorggroep-orion.be
SUMMARY:Crea: kerstdeco
DESCRIPTION:De crea-groep gaat de houten kerstboom installeren. Zin om mee te komen helpen? Iedereen welkom!
URL:https://zorggroep-orion.be/activiteit/crea-kerstdeco/
LOCATION:Dienstencentrum De Schoor\, Schorvoortstraat 53\, Turnhout\, 2300
CATEGORIES:Workshop
ATTACH;FMTTYPE=image/png:https://zorggroep-orion.be/wp-content/uploads/2025/04/202511-crea-kerst.png
END:VEVENT
BEGIN:VEVENT
DTSTART;TZID=Europe/Brussels:20251203T133000
DTEND;TZID=Europe/Brussels:20251203T160000
DTSTAMP:20260425T055200
CREATED:20251017T113630Z
LAST-MODIFIED:20251127T083840Z
UID:10619854-1764768600-1764777600@zorggroep-orion.be
SUMMARY:Rummikub in Antennepunt 7donk
DESCRIPTION:Kom elke woensdag (uitgezonderd tijdens de bingo of sing-along) rummikubben in ons Antennepunt. \nIedereen welkom!
URL:https://zorggroep-orion.be/activiteit/rummikub-in-antennepunt-7donk-9/
LOCATION:Dienstencentrum De Schoor\, Schorvoortstraat 53\, Turnhout\, 2300
ATTACH;FMTTYPE=image/jpeg:https://zorggroep-orion.be/wp-content/uploads/2024/09/act202410-rummikub-antennepunt.jpg
END:VEVENT
END:VCALENDAR