BEGIN:VCALENDAR
VERSION:2.0
PRODID:-//Zorggroep Orion - ECPv6.15.17.1//NONSGML v1.0//EN
CALSCALE:GREGORIAN
METHOD:PUBLISH
X-ORIGINAL-URL:https://zorggroep-orion.be
X-WR-CALDESC:Evenementen voor Zorggroep Orion
REFRESH-INTERVAL;VALUE=DURATION:PT1H
X-Robots-Tag:noindex
X-PUBLISHED-TTL:PT1H
BEGIN:VTIMEZONE
TZID:Europe/Brussels
BEGIN:DAYLIGHT
TZOFFSETFROM:+0100
TZOFFSETTO:+0200
TZNAME:CEST
DTSTART:20250330T010000
END:DAYLIGHT
BEGIN:STANDARD
TZOFFSETFROM:+0200
TZOFFSETTO:+0100
TZNAME:CET
DTSTART:20251026T010000
END:STANDARD
BEGIN:DAYLIGHT
TZOFFSETFROM:+0100
TZOFFSETTO:+0200
TZNAME:CEST
DTSTART:20260329T010000
END:DAYLIGHT
BEGIN:STANDARD
TZOFFSETFROM:+0200
TZOFFSETTO:+0100
TZNAME:CET
DTSTART:20261025T010000
END:STANDARD
BEGIN:DAYLIGHT
TZOFFSETFROM:+0100
TZOFFSETTO:+0200
TZNAME:CEST
DTSTART:20270328T010000
END:DAYLIGHT
BEGIN:STANDARD
TZOFFSETFROM:+0200
TZOFFSETTO:+0100
TZNAME:CET
DTSTART:20271031T010000
END:STANDARD
END:VTIMEZONE
BEGIN:VEVENT
DTSTART;TZID=Europe/Brussels:20260421T133000
DTEND;TZID=Europe/Brussels:20260421T163000
DTSTAMP:20260424T204638
CREATED:20260112T144309Z
LAST-MODIFIED:20260112T150443Z
UID:10623069-1776778200-1776789000@zorggroep-orion.be
SUMMARY:De Schoorse schilders
DESCRIPTION:Zin om creatief bezig te zijn in goed gezelschap? Bij De Schoorse Schilders kan je vrij schilderen en tekenen\, of je nu beginner bent of al ervaring hebt. Samen creëren we in een ontspannen sfeer en wisselen we ideeën uit. Natuurlijk sluiten we af met een gezellige koffiepauze.Elke dinsdag om 13u30 \n€2 (koffie inbegrepen)Iedereen is welkom om zijn creativiteit te laten spreken!
URL:https://zorggroep-orion.be/activiteit/de-schoorse-schilders/2026-04-21/
LOCATION:Dienstencentrum De Schoor\, Schorvoortstraat 53\, Turnhout\, 2300
CATEGORIES:Recreatie
ATTACH;FMTTYPE=image/jpeg:https://zorggroep-orion.be/wp-content/uploads/2023/06/act202309-Schilderen.jpg
END:VEVENT
BEGIN:VEVENT
DTSTART;TZID=Europe/Brussels:20260421T103000
DTEND;TZID=Europe/Brussels:20260421T120000
DTSTAMP:20260424T204638
CREATED:20260112T150159Z
LAST-MODIFIED:20260112T150347Z
UID:10623175-1776767400-1776772800@zorggroep-orion.be
SUMMARY:Spaanse les: conversatie-gevorderden
DESCRIPTION:Wil je vlotter Spaans spreken en je conversatievaardigheden verder aanscherpen?In de Spaanse les – conversatie voor gevorderden oefen je actief spreken in een ontspannen en gezellige sfeer. Ideaal voor wie al een goede basis heeft en graag blijft oefenen. Voor de les genieten we samen van een kop koffie.Elke dinsdag van 10u30 tot 12u \n€3 per les (koffie vóór de les inbegrepen)
URL:https://zorggroep-orion.be/activiteit/spaanse-les-conversatie-gevorderden/2026-04-21/
LOCATION:Dienstencentrum De Schoor\, Schorvoortstraat 53\, Turnhout\, 2300
CATEGORIES:Leren
ATTACH;FMTTYPE=image/jpeg:https://zorggroep-orion.be/wp-content/uploads/2023/08/act-spaans-092023.jpg
END:VEVENT
BEGIN:VEVENT
DTSTART;TZID=Europe/Brussels:20260420T133000
DTEND;TZID=Europe/Brussels:20260420T160000
DTSTAMP:20260424T204638
CREATED:20241017T121530Z
LAST-MODIFIED:20260112T141123Z
UID:10622963-1776691800-1776700800@zorggroep-orion.be
SUMMARY:Digidak inloopmoment
DESCRIPTION:Heb je vragen i.v.m. je computer\, laptop\, tablet of GSM? Kom dan zeker eens langs tijdens het inloopmoment van Digidak in ons dienstencentrum. Een medewerker van Digidak helpt je verder met al je vragen.
URL:https://zorggroep-orion.be/activiteit/digidak-inloopmoment-antennepunt-7donk-2/2026-04-20/
LOCATION:Dienstencentrum De Schoor\, Schorvoortstraat 53\, Turnhout\, 2300
CATEGORIES:Dienstverlening
ATTACH;FMTTYPE=image/jpeg:https://zorggroep-orion.be/wp-content/uploads/2023/07/act-202310-Digidak-smartphone.jpg
END:VEVENT
BEGIN:VEVENT
DTSTART;TZID=Europe/Brussels:20260420T130000
DTEND;TZID=Europe/Brussels:20260420T140000
DTSTAMP:20260424T204638
CREATED:20260112T134851Z
LAST-MODIFIED:20260112T134851Z
UID:10622750-1776690000-1776693600@zorggroep-orion.be
SUMMARY:Linedance voor beginners
DESCRIPTION:Zin in beweging én plezier? Doe mee met Linedance voor beginners! Op een ontspannen manier leer je de basispassen\, helemaal op jouw tempo. Geen ervaring nodig\, iedereen kan meedoen. Na de les genieten we samen van een gezellige kop koffie. \nElke maandag om 13u – €2 per les (koffie inbegrepen). Kom meedansen!
URL:https://zorggroep-orion.be/activiteit/linedance-voor-beginners/2026-04-20/
LOCATION:Dienstencentrum De Schoor\, Schorvoortstraat 53\, Turnhout\, 2300
CATEGORIES:Bewegen
ATTACH;FMTTYPE=image/png:https://zorggroep-orion.be/wp-content/uploads/2026/01/linedance.png
END:VEVENT
BEGIN:VEVENT
DTSTART;TZID=Europe/Brussels:20260226T193000
DTEND;TZID=Europe/Brussels:20260226T210000
DTSTAMP:20260424T204638
CREATED:20260119T150358Z
LAST-MODIFIED:20260119T150844Z
UID:10623690-1772134200-1772139600@zorggroep-orion.be
SUMMARY:Infoavond Mobiliteitsstudie Schorvoort
DESCRIPTION:De voorbije jaren heeft Stad Turnhout verschillende inspraakmomenten georganiseerd rond mobiliteit in Schorvoort. \nHet project lag even stil\, maar wordt nu verdergezet \nAlle inwoners van Schorvoort zijn welkom op deze informatieavond. \nInwoners van Schorvoort krijgen nog een uitnodiging per post van Stad Turnhout met meer info over de avond.
URL:https://zorggroep-orion.be/activiteit/infoavond-mobiliteitsstudie-schorvoort/
LOCATION:Dienstencentrum De Schoor\, Schorvoortstraat 53\, Turnhout\, 2300
CATEGORIES:Infosessie
ATTACH;FMTTYPE=image/jpeg:https://zorggroep-orion.be/wp-content/uploads/2025/10/Stad-Turnhout-logo-112025.jpg
END:VEVENT
BEGIN:VEVENT
DTSTART;TZID=Europe/Brussels:20260216T190000
DTEND;TZID=Europe/Brussels:20260216T210000
DTSTAMP:20260424T204638
CREATED:20251009T094852Z
LAST-MODIFIED:20260113T141952Z
UID:10619841-1771268400-1771275600@zorggroep-orion.be
SUMMARY:Genieten van een luistermoment in stilte
DESCRIPTION:Het vocaal ensemble Cantat komt repeteren in De Schoor. Luisteraars zijn welkom – gratis.
URL:https://zorggroep-orion.be/activiteit/genieten-van-een-luistermoment-in-stilte-2/
LOCATION:Dienstencentrum De Schoor\, Schorvoortstraat 53\, Turnhout\, 2300
CATEGORIES:Muziek
ATTACH;FMTTYPE=image/png:https://zorggroep-orion.be/wp-content/uploads/2023/03/act-202306-cantat.png
END:VEVENT
BEGIN:VEVENT
DTSTART;TZID=Europe/Brussels:20260215T140000
DTEND;TZID=Europe/Brussels:20260215T170000
DTSTAMP:20260424T204638
CREATED:20260113T141507Z
LAST-MODIFIED:20260113T141507Z
UID:10623229-1771164000-1771174800@zorggroep-orion.be
SUMMARY:Muzieknamiddag met Berritta
DESCRIPTION:Berritta komt ons café opvrolijken met livemuziek. \nDeze sympathieke zangeres\, woonachtig in Mol\, is zeker geen onbekende in de Vlaamse showbizz.Al meer dan 40 jaar staat ze op het podium en regelmatig brengt ze toffe nieuwe liedjes uit. Gekenmerkt door haar eigen vrolijke stijl weet ze van elk optreden een feest te maken. \nDe Schoor is open vanaf 13u30\, het optreden is van 14u tot 17u \nIEDEREEN WELKOM!
URL:https://zorggroep-orion.be/activiteit/muzieknamiddag-met-berritta/
LOCATION:Dienstencentrum De Schoor\, Schorvoortstraat 53\, Turnhout\, 2300
CATEGORIES:Muziek
ATTACH;FMTTYPE=image/png:https://zorggroep-orion.be/wp-content/uploads/2026/01/Schermafbeelding-2026-01-13-151351.png
END:VEVENT
BEGIN:VEVENT
DTSTART;TZID=Europe/Brussels:20260212T120000
DTEND;TZID=Europe/Brussels:20260212T170000
DTSTAMP:20260424T204638
CREATED:20260113T134819Z
LAST-MODIFIED:20260113T134819Z
UID:10623228-1770897600-1770915600@zorggroep-orion.be
SUMMARY:Showmatinée met Celien Hermans en Patrick Onzia in GC't Heilaar te Beerse
DESCRIPTION:Van harte welkom dus bij onze 2e nostalgische shownamiddag vol muziek\, plezier en ontspanning! Het wordt een unieke namiddag boordevol entertainment\, sociale verbinding en positieve ervaringen. De voorstelling is rolstoeltoegankelijk. \nVertrek om 12u15 aan De Schoor \n€28 per persoon \n€8 per persoon met UITPAS \n(incl. vervoer\, koffie en gebak) \nInschrijven bij de medewerkers tot 28/01/2026 of zolang er plaatsen zijn.
URL:https://zorggroep-orion.be/activiteit/showmatinee-met-celien-hermans-en-patrick-onzia-in-gct-heilaar-te-beerse/
LOCATION:Dienstencentrum De Schoor\, Schorvoortstraat 53\, Turnhout\, 2300
CATEGORIES:Muziek,Uitstap
ATTACH;FMTTYPE=image/jpeg:https://zorggroep-orion.be/wp-content/uploads/2026/01/8812.jpg
END:VEVENT
BEGIN:VEVENT
DTSTART;TZID=Europe/Brussels:20260211T103000
DTEND;TZID=Europe/Brussels:20260211T120000
DTSTAMP:20260424T204638
CREATED:20260113T112301Z
LAST-MODIFIED:20260116T113517Z
UID:10623227-1770805800-1770811200@zorggroep-orion.be
SUMMARY:Workshop "Doe Maar Mee!" Antwerp Symphony Orchestra & bewegingscoach
DESCRIPTION:Ter voorbereiding op een bijzonder bewegingsproject met het Antwerp Symphony Orchestra\, is er in De Schoor een workshop met 2 bewegingscoaches en een vijftal muzikanten. \nGelieve je interesse en eventuele deelname door te geven aan Monique Van Deun: \n📧 monique@parkindezon.be \n📞 0479 48 20 49 \n(Max. 30 deelnemers) \nVerder is ook IEDEREEN WELKOM om gewoon te komen kijken!
URL:https://zorggroep-orion.be/activiteit/workshop-doe-maar-mee-antwerp-symphony-orchestra-beweginscoach/
LOCATION:Dienstencentrum De Schoor\, Schorvoortstraat 53\, Turnhout\, 2300
CATEGORIES:Workshop
ATTACH;FMTTYPE=image/png:https://zorggroep-orion.be/wp-content/uploads/2026/01/Schermafbeelding-2026-01-13-121517.png
END:VEVENT
BEGIN:VEVENT
DTSTART;TZID=Europe/Brussels:20260211T090000
DTEND;TZID=Europe/Brussels:20260211T120000
DTSTAMP:20260424T204638
CREATED:20260113T090149Z
LAST-MODIFIED:20260113T090149Z
UID:10623217-1770800400-1770811200@zorggroep-orion.be
SUMMARY:Digidak les E-Mail
DESCRIPTION:Je leert hoe je e-mails verstuurt\, ontvangt en organiseert. Ook ontdek je hoe je bijlagen toevoegt en je mailbox overzichtelijk houdt. Na deze cursus kan je vlot e-mailen. \nLessen zijn gratis. Vooraf inschrijven is verplicht en kan\nTijdens vrije inloop (LDC De Schoor elke maandag 13u30 – 16u) – www.digidak.be/locaties\nPer mail: turnhout@digidak.be\nTelefonisch 014 41 82 18 (9u-12u)
URL:https://zorggroep-orion.be/activiteit/digidak-les-e-mail/
LOCATION:Dienstencentrum De Schoor\, Schorvoortstraat 53\, Turnhout\, 2300
CATEGORIES:Leren
ATTACH;FMTTYPE=image/png:https://zorggroep-orion.be/wp-content/uploads/2023/03/act-202305-digidak.png
END:VEVENT
BEGIN:VEVENT
DTSTART;TZID=Europe/Brussels:20260205T133000
DTEND;TZID=Europe/Brussels:20260205T170000
DTSTAMP:20260424T204638
CREATED:20260115T144236Z
LAST-MODIFIED:20260115T144604Z
UID:10623510-1770298200-1770310800@zorggroep-orion.be
SUMMARY:Crea @ De Schoor
DESCRIPTION:Deze keer maakt onze creagroep decoratie in het thema Valentijn \nIedereen welkom!
URL:https://zorggroep-orion.be/activiteit/crea-de-schoor-2/
LOCATION:Dienstencentrum De Schoor\, Schorvoortstraat 53\, Turnhout\, 2300
CATEGORIES:Recreatie
ATTACH;FMTTYPE=image/jpeg:https://zorggroep-orion.be/wp-content/uploads/2025/01/Valentijnsgebakje-02-2025.jpg
END:VEVENT
BEGIN:VEVENT
DTSTART;TZID=Europe/Brussels:20260204T190000
DTEND;TZID=Europe/Brussels:20260204T210000
DTSTAMP:20260424T204638
CREATED:20260113T102242Z
LAST-MODIFIED:20260113T102242Z
UID:10623222-1770231600-1770238800@zorggroep-orion.be
SUMMARY:Adviesraad De Schoor
DESCRIPTION:De adviesraad van ons lokaal dienstencentrum is een groep van vertegenwoordigers\, vaak bestaande uit bezoekers\, buurtbewoners\, verenigingen\, professionals en andere belanghebbenden\, die advies geeft over de diensten en activiteiten van het dienstencentrum. \nZe helpen bij het identificeren van behoeften in de gemeenschap\, geven feedback op bestaande diensten en dragen bij aan de ontwikkeling van nieuwe initiatieven om de buurt en zijn bewoners beter te ondersteunen. \nHet uiteindelijk doel is om de kwaliteit en relevantie van de aangeboden diensten en activiteiten te waarborgen. \nIedereen die constructief mee wil denken is welkom! \nGeef bij de medewerkers aan dat je zal aansluiten zodat we alles kunnen voorzien. \nHopelijk tot dan.
URL:https://zorggroep-orion.be/activiteit/adviesraad-de-schoor/
CATEGORIES:Infosessie
ATTACH;FMTTYPE=image/jpeg:https://zorggroep-orion.be/wp-content/uploads/2022/05/Kopie-van-FB-welkom-in-De-Schoor.jpg
END:VEVENT
BEGIN:VEVENT
DTSTART;TZID=Europe/Brussels:20260204T090000
DTEND;TZID=Europe/Brussels:20260204T120000
DTSTAMP:20260424T204638
CREATED:20260113T085912Z
LAST-MODIFIED:20260113T085912Z
UID:10623216-1770195600-1770206400@zorggroep-orion.be
SUMMARY:Digidak les internet
DESCRIPTION:Je leert veilig surfen\, websites bezoeken en informatie zoeken. Na deze cursus kan je het internet vlot gebruiken voor je dagelijkse activiteiten. \nLessen zijn gratis. Vooraf inschrijven is verplicht en kan\nTijdens vrije inloop (LDC De Schoor elke maandag 13u30 – 16u) – www.digidak.be/locaties\nPer mail: turnhout@digidak.be\nTelefonisch 014 41 82 18 (9u-12u)
URL:https://zorggroep-orion.be/activiteit/digidak-les-internet/
LOCATION:Dienstencentrum De Schoor\, Schorvoortstraat 53\, Turnhout\, 2300
CATEGORIES:Leren
ATTACH;FMTTYPE=image/png:https://zorggroep-orion.be/wp-content/uploads/2023/03/act-202305-digidak.png
END:VEVENT
BEGIN:VEVENT
DTSTART;TZID=Europe/Brussels:20260204T090000
DTEND;TZID=Europe/Brussels:20260204T120000
DTSTAMP:20260424T204638
CREATED:20231124T075134Z
LAST-MODIFIED:20260113T100750Z
UID:10607579-1770195600-1770206400@zorggroep-orion.be
SUMMARY:'t Schrijverke
DESCRIPTION:Een oefensessie kalligrafie voor zij die reeds een cursus gevolgd hebben.
URL:https://zorggroep-orion.be/activiteit/t-schrijverke-3/
LOCATION:Dienstencentrum De Schoor\, Schorvoortstraat 53\, Turnhout\, 2300
CATEGORIES:Recreatie
ATTACH;FMTTYPE=image/jpeg:https://zorggroep-orion.be/wp-content/uploads/2023/07/act202307-Kalligrafie.jpg
END:VEVENT
BEGIN:VEVENT
DTSTART;TZID=Europe/Brussels:20260203T130000
DTEND;TZID=Europe/Brussels:20260203T170000
DTSTAMP:20260424T204638
CREATED:20250321T121953Z
LAST-MODIFIED:20260112T132917Z
UID:10615851-1770123600-1770138000@zorggroep-orion.be
SUMMARY:Demo Victoria juwelen
DESCRIPTION:Valentijn gluurt alweer om de hoek! Bij Magda’s mini shop in de Foyer van De Schoor vind je alles wat je hartje begeert om deze bijzondere dag een vleugje magie te geven. En ja\, ook de heren worden niet vergeten! \nIEDEREEN IS WELKOM \nJe hoeft niets te kopen als je dat niet wilt! \nKom gezellig langs en laat je inspireren. 🌹❤️
URL:https://zorggroep-orion.be/activiteit/demo-victoria-juwelen/
LOCATION:Dienstencentrum De Schoor\, Schorvoortstraat 53\, Turnhout\, 2300
CATEGORIES:Recreatie
ATTACH;FMTTYPE=image/png:https://zorggroep-orion.be/wp-content/uploads/2024/10/11-VICTORIA-LDC-AVD-2024.png
END:VEVENT
BEGIN:VEVENT
DTSTART;TZID=Europe/Brussels:20260202T160000
DTEND;TZID=Europe/Brussels:20260202T190000
DTSTAMP:20260424T204638
CREATED:20260112T121522Z
LAST-MODIFIED:20260112T121522Z
UID:10622738-1770048000-1770058800@zorggroep-orion.be
SUMMARY:Pannenkoeken ter ere van Maria-Lichtmis
DESCRIPTION:Met Maria-Lichtmis vieren we de komst van het licht! De donkerste dagen zijn eindelijk voorbij en de lente klopt al vrolijk op de deur. Traditioneel laten we ons op deze dag verwennen met heerlijke pannenkoeken. Smullen maar!
URL:https://zorggroep-orion.be/activiteit/pannenkoeken-ter-ere-van-maria-lichtmis/
LOCATION:Dienstencentrum De Schoor\, Schorvoortstraat 53\, Turnhout\, 2300
CATEGORIES:Eten & Drinken
ATTACH;FMTTYPE=image/png:https://zorggroep-orion.be/wp-content/uploads/2026/01/pannenkoeken.png
END:VEVENT
END:VCALENDAR