BEGIN:VCALENDAR
VERSION:2.0
PRODID:-//Zorggroep Orion - ECPv6.15.17.1//NONSGML v1.0//EN
CALSCALE:GREGORIAN
METHOD:PUBLISH
X-WR-CALNAME:Zorggroep Orion
X-ORIGINAL-URL:https://zorggroep-orion.be
X-WR-CALDESC:Evenementen voor Zorggroep Orion
REFRESH-INTERVAL;VALUE=DURATION:PT1H
X-Robots-Tag:noindex
X-PUBLISHED-TTL:PT1H
BEGIN:VTIMEZONE
TZID:Europe/Brussels
BEGIN:DAYLIGHT
TZOFFSETFROM:+0100
TZOFFSETTO:+0200
TZNAME:CEST
DTSTART:20250330T010000
END:DAYLIGHT
BEGIN:STANDARD
TZOFFSETFROM:+0200
TZOFFSETTO:+0100
TZNAME:CET
DTSTART:20251026T010000
END:STANDARD
BEGIN:DAYLIGHT
TZOFFSETFROM:+0100
TZOFFSETTO:+0200
TZNAME:CEST
DTSTART:20260329T010000
END:DAYLIGHT
BEGIN:STANDARD
TZOFFSETFROM:+0200
TZOFFSETTO:+0100
TZNAME:CET
DTSTART:20261025T010000
END:STANDARD
BEGIN:DAYLIGHT
TZOFFSETFROM:+0100
TZOFFSETTO:+0200
TZNAME:CEST
DTSTART:20270328T010000
END:DAYLIGHT
BEGIN:STANDARD
TZOFFSETFROM:+0200
TZOFFSETTO:+0100
TZNAME:CET
DTSTART:20271031T010000
END:STANDARD
END:VTIMEZONE
BEGIN:VEVENT
DTSTART;TZID=Europe/Brussels:20260427T190000
DTEND;TZID=Europe/Brussels:20260427T210000
DTSTAMP:20260424T170955
CREATED:20251009T094122Z
LAST-MODIFIED:20260312T093943Z
UID:10619840-1777316400-1777323600@zorggroep-orion.be
SUMMARY:Poëziegroep
DESCRIPTION:We bespreken hier verschillende soorten poëzie\, wat het met je doet\, waar je aan denkt\, …\nSpreekt dit jou aan? Kom zeker eens langs en geef ons groepje mee vorm.
URL:https://zorggroep-orion.be/activiteit/poeziegroep/
LOCATION:Dienstencentrum De Schoor\, Schorvoortstraat 53\, Turnhout\, 2300
CATEGORIES:Recreatie
ATTACH;FMTTYPE=image/jpeg:https://zorggroep-orion.be/wp-content/uploads/2023/09/act202310-poezieclubje.jpg
END:VEVENT
BEGIN:VEVENT
DTSTART;TZID=Europe/Brussels:20260427T190000
DTEND;TZID=Europe/Brussels:20260427T210000
DTSTAMP:20260424T170955
CREATED:20260312T093849Z
LAST-MODIFIED:20260312T093849Z
UID:10626598-1777316400-1777323600@zorggroep-orion.be
SUMMARY:Genieten van een luistermoment in stilte
DESCRIPTION:Het vocaal ensemble CANTAT komt repeteren in De Schoor. \nLuisteraars zijn welkom\, ons Café is open. \nGRATIS
URL:https://zorggroep-orion.be/activiteit/genieten-van-een-luistermoment-in-stilte-7/
LOCATION:Dienstencentrum De Schoor\, Schorvoortstraat 53\, Turnhout\, 2300
CATEGORIES:Muziek
ATTACH;FMTTYPE=image/png:https://zorggroep-orion.be/wp-content/uploads/2023/03/act-202306-cantat.png
END:VEVENT
BEGIN:VEVENT
DTSTART;TZID=Europe/Brussels:20260430T143000
DTEND;TZID=Europe/Brussels:20260430T160000
DTSTAMP:20260424T170955
CREATED:20250418T104658Z
LAST-MODIFIED:20260312T102525Z
UID:10618018-1777559400-1777564800@zorggroep-orion.be
SUMMARY:'CANTAT Matinee Musicale'
DESCRIPTION:Cantat komt jullie verwennen met een prachtige greep uit hun repertoire! Onder de vakkundige begeleiding van pianiste Lotte Bayens belooft het een muzikale namiddag vol sfeer en emotie te worden. \nHet concert start om 14u30 en loopt tot 15u\, gevolgd door een gezellige pauze van 30 minuten. Daarna laten de koorleden je opnieuw genieten van 15u30 tot 16u met een tweede deel vol mooie en ontroerende muziek. \nKom luisteren\, laat je meevoeren in de klanken en geniet in alle stilte… of zing gerust uit volle borst mee als je het repertoire kent!
URL:https://zorggroep-orion.be/activiteit/cantat-matinee-musicale-brusselse-wafels-met-slagroom/
LOCATION:Dienstencentrum De Schoor\, Schorvoortstraat 53\, Turnhout\, 2300
CATEGORIES:Muziek
ATTACH;FMTTYPE=image/png:https://zorggroep-orion.be/wp-content/uploads/2025/04/Schermafbeelding-2026-03-12-112451.png
END:VEVENT
END:VCALENDAR