BEGIN:VCALENDAR
VERSION:2.0
PRODID:-//Zorggroep Orion - ECPv6.15.17.1//NONSGML v1.0//EN
CALSCALE:GREGORIAN
METHOD:PUBLISH
X-ORIGINAL-URL:https://zorggroep-orion.be
X-WR-CALDESC:Evenementen voor Zorggroep Orion
REFRESH-INTERVAL;VALUE=DURATION:PT1H
X-Robots-Tag:noindex
X-PUBLISHED-TTL:PT1H
BEGIN:VTIMEZONE
TZID:Europe/Brussels
BEGIN:DAYLIGHT
TZOFFSETFROM:+0100
TZOFFSETTO:+0200
TZNAME:CEST
DTSTART:20250330T010000
END:DAYLIGHT
BEGIN:STANDARD
TZOFFSETFROM:+0200
TZOFFSETTO:+0100
TZNAME:CET
DTSTART:20251026T010000
END:STANDARD
BEGIN:DAYLIGHT
TZOFFSETFROM:+0100
TZOFFSETTO:+0200
TZNAME:CEST
DTSTART:20260329T010000
END:DAYLIGHT
BEGIN:STANDARD
TZOFFSETFROM:+0200
TZOFFSETTO:+0100
TZNAME:CET
DTSTART:20261025T010000
END:STANDARD
BEGIN:DAYLIGHT
TZOFFSETFROM:+0100
TZOFFSETTO:+0200
TZNAME:CEST
DTSTART:20270328T010000
END:DAYLIGHT
BEGIN:STANDARD
TZOFFSETFROM:+0200
TZOFFSETTO:+0100
TZNAME:CET
DTSTART:20271031T010000
END:STANDARD
END:VTIMEZONE
BEGIN:VEVENT
DTSTART;TZID=Europe/Brussels:20260424T120000
DTEND;TZID=Europe/Brussels:20260424T170000
DTSTAMP:20260424T183647
CREATED:20260311T140345Z
LAST-MODIFIED:20260311T140345Z
UID:10626539-1777032000-1777050000@zorggroep-orion.be
SUMMARY:Caféwerking Nautica
DESCRIPTION:Elke vrijdag (uitgezonderd vakanties) komen de leerlingen van Nautica ons café open houden.\nZin in iets lekkers? Kom genieten van een kom verse soep met brood of een lekker croque bereid door de leerlingen van Nautica. \nIedereen is welkom\, inschrijven is niet nodig!
URL:https://zorggroep-orion.be/activiteit/cafewerking-nautica-5/2026-04-24/
LOCATION:Dienstencentrum De Schoor\, Schorvoortstraat 53\, Turnhout\, 2300
CATEGORIES:Eten & Drinken
ATTACH;FMTTYPE=image/png:https://zorggroep-orion.be/wp-content/uploads/2025/12/NAUTICA.png
END:VEVENT
BEGIN:VEVENT
DTSTART;TZID=Europe/Brussels:20260421T123000
DTEND;TZID=Europe/Brussels:20260421T133000
DTSTAMP:20260424T183648
CREATED:20260312T093006Z
LAST-MODIFIED:20260312T093112Z
UID:10626596-1776774600-1776778200@zorggroep-orion.be
SUMMARY:Vogelnestjes in tomatensaus en puree
DESCRIPTION:We genieten van een warme\, smaakvolle klassieker in fijn gezelschap. Samen eten\, bijpraten en vooral lekker smullen staan centraal. \nInschrijven (tot 13 april of zolang er plaatsen zijn) kan bij de medewerkers van De Schoor: \ndeschoor@zorggroep-orion.be of 014 28 40 72 of door binnen te springen.
URL:https://zorggroep-orion.be/activiteit/vogelnestjes-in-tomatensaus-en-puree/
LOCATION:Dienstencentrum De Schoor\, Schorvoortstraat 53\, Turnhout\, 2300
CATEGORIES:Eten & Drinken
ATTACH;FMTTYPE=image/png:https://zorggroep-orion.be/wp-content/uploads/2026/03/Schermafbeelding-2026-03-12-102935.png
END:VEVENT
BEGIN:VEVENT
DTSTART;TZID=Europe/Brussels:20260420T190000
DTEND;TZID=Europe/Brussels:20260420T220000
DTSTAMP:20260424T183648
CREATED:20260311T150808Z
LAST-MODIFIED:20260311T151041Z
UID:10626595-1776711600-1776722400@zorggroep-orion.be
SUMMARY:Film musical The pirate Queen
DESCRIPTION:Rebecca\, medewerker van De Schoor\, speelde vorig jaar mee in de indrukwekkende musical The Pirate Queen van Stichting NoNonsense. Deze productie is gebaseerd op het leven van de Ierse piratenkoningin Grace O’Malley. \nHet verhaal over de strijd tussen de Ierse piraten en de Engelse koningin Elizabeth I vormde het decor voor een voorstelling vol prachtige zang\, energieke Ierse dans en indrukwekkend wapengekletter. Met een enorm gedreven en enthousiaste cast wist Stichting NoNonsense het publiek mee te nemen naar het Ierland van de 16e eeuw. \nBenieuwd hoe Rebecca het ervan afbrengt op het scherm? Kom dan zeker kijken!
URL:https://zorggroep-orion.be/activiteit/film-musical-the-pirate-queen/
LOCATION:Dienstencentrum De Schoor\, Schorvoortstraat 53\, Turnhout\, 2300
CATEGORIES:Muziek
ATTACH;FMTTYPE=image/png:https://zorggroep-orion.be/wp-content/uploads/2026/03/ChatGPT-Image-5-mrt-2026-09_46_21-e1773241828167.png
END:VEVENT
BEGIN:VEVENT
DTSTART;TZID=Europe/Brussels:20260414T140000
DTEND;TZID=Europe/Brussels:20260414T160000
DTSTAMP:20260424T183648
CREATED:20260311T144816Z
LAST-MODIFIED:20260311T145345Z
UID:10626594-1776175200-1776182400@zorggroep-orion.be
SUMMARY:Kinderkaroké
DESCRIPTION:Kom meezingen met de leukste liedjes van Studio 100\, #LikeMe\, Disney en nog veel meer! Alle kinderen zijn welkom om hun favoriete nummers te zingen en plezier te maken. Papa’s\, mama’s\, oma’s en opa’s: kom gezellig mee supporteren\, meezingen mag natuurlijk ook! \nIedereen welkom voor een vrolijke namiddag vol muziek en plezier!
URL:https://zorggroep-orion.be/activiteit/kinderkaroke/
LOCATION:Dienstencentrum De Schoor\, Schorvoortstraat 53\, Turnhout\, 2300
CATEGORIES:Muziek
ATTACH;FMTTYPE=image/png:https://zorggroep-orion.be/wp-content/uploads/2026/03/Schermafbeelding-2026-03-11-153019.png
END:VEVENT
BEGIN:VEVENT
DTSTART;TZID=Europe/Brussels:20260414T090000
DTEND;TZID=Europe/Brussels:20260414T150000
DTSTAMP:20260424T183648
CREATED:20260311T143047Z
LAST-MODIFIED:20260311T143047Z
UID:10626592-1776157200-1776178800@zorggroep-orion.be
SUMMARY:Uitstap Japanse tuinen Hasselt
DESCRIPTION:Kom mee naar de Japanse Tuin in Hasselt en geniet van de prachtige kersenbloesems\, een bijzonder moment waarop de tuin op zijn mooist is. Terwijl de zachte roze bloesems de bomen vullen\, wandelen we samen door de serene paden en ervaren we de rust en schoonheid van de Japanse natuur en cultuur. \nInschrijven tot 9 april bij de medewerkers van De Schoor: deschoor@zorggroep-orion.be of 014 28 40 72 of door binnen te springen.
URL:https://zorggroep-orion.be/activiteit/uitstap-japanse-tuinen-hasselt/
LOCATION:Dienstencentrum De Schoor\, Schorvoortstraat 53\, Turnhout\, 2300
CATEGORIES:Uitstap
ATTACH;FMTTYPE=image/png:https://zorggroep-orion.be/wp-content/uploads/2026/03/Schermafbeelding-2026-03-11-153003.png
END:VEVENT
BEGIN:VEVENT
DTSTART;TZID=Europe/Brussels:20260413T190000
DTEND;TZID=Europe/Brussels:20260413T210000
DTSTAMP:20260424T183648
CREATED:20260311T142615Z
LAST-MODIFIED:20260311T142615Z
UID:10626591-1776106800-1776114000@zorggroep-orion.be
SUMMARY:Genieten van een luistermoment in stilte
DESCRIPTION:Het vocaal ensemble CANTAT komt repeteren in De Schoor. \nLuisteraars zijn welkom\, ons Café is open. \nGRATIS
URL:https://zorggroep-orion.be/activiteit/genieten-van-een-luistermoment-in-stilte-5/
LOCATION:Dienstencentrum De Schoor\, Schorvoortstraat 53\, Turnhout\, 2300
CATEGORIES:Muziek
ATTACH;FMTTYPE=image/png:https://zorggroep-orion.be/wp-content/uploads/2023/03/act-202306-cantat.png
END:VEVENT
BEGIN:VEVENT
DTSTART;TZID=Europe/Brussels:20260412T140000
DTEND;TZID=Europe/Brussels:20260412T163000
DTSTAMP:20260424T183648
CREATED:20260311T142237Z
LAST-MODIFIED:20260311T142237Z
UID:10626589-1776002400-1776011400@zorggroep-orion.be
SUMMARY:Meezingen met Jos
DESCRIPTION:Zin in een gezellige namiddag vol live muziek? \nDan ben je bij Jos Truyens aan het juiste adres! \nMet zijn warme stem en jarenlange podiumervaring zorgt hij voor een sfeervol optreden vol ambiance. Van mooie oldies en Nederlandstalige klassiekers tot tijdloze internationale hits: herkenbare muziek om van te genieten\, mee te zingen en zelfs een dansje te wagen. \nEen namiddag vol muziek\, gezelligheid en plezier voor jong en minder jong. \nIEDEREEN WELKOM!
URL:https://zorggroep-orion.be/activiteit/meezingen-met-jos/
LOCATION:Dienstencentrum De Schoor\, Schorvoortstraat 53\, Turnhout\, 2300
CATEGORIES:Muziek
ATTACH;FMTTYPE=image/png:https://zorggroep-orion.be/wp-content/uploads/2026/03/Schermafbeelding-2026-03-11-152211.png
END:VEVENT
BEGIN:VEVENT
DTSTART;TZID=Europe/Brussels:20260409T133000
DTEND;TZID=Europe/Brussels:20260409T170000
DTSTAMP:20260424T183648
CREATED:20260311T141858Z
LAST-MODIFIED:20260312T092515Z
UID:10626588-1775741400-1775754000@zorggroep-orion.be
SUMMARY:Muziek- en dansnamiddag met DJ Staf
DESCRIPTION:DJ Staf komt ons elke tweede donderdag van de maand verwennen met de leukste plaatjes. Hij draait verschillende klassiekers\, maar je kan ook altijd liedjes aanvragen. \nIEDEREEN WEKOM! \nBrusselse wafels verkrijgbaar aan €2/st
URL:https://zorggroep-orion.be/activiteit/muziek-en-dansnamiddag-met-dj-staf-2/
LOCATION:Dienstencentrum De Schoor\, Schorvoortstraat 53\, Turnhout\, 2300
CATEGORIES:Muziek
ATTACH;FMTTYPE=image/png:https://zorggroep-orion.be/wp-content/uploads/2024/08/act202411-dans-en-muzieknamiddag-dj-staf.png
END:VEVENT
BEGIN:VEVENT
DTSTART;TZID=Europe/Brussels:20260403T093000
DTEND;TZID=Europe/Brussels:20260403T120000
DTSTAMP:20260424T183648
CREATED:20260311T135530Z
LAST-MODIFIED:20260311T135530Z
UID:10626473-1775208600-1775217600@zorggroep-orion.be
SUMMARY:Plusvriendcirkels
DESCRIPTION:PlusVriend is een initiatief voor mensen met een spychische kwetsbaarheid die eenzaam zijn en/of het moeilijk vinden om contacten te leggen. Tijdens de PlusVriendCirkels leren de deelnemers elkaar beter kennen op een laagdrempelige manier. Er worden ook suggesties meegegeven voor soicale en culturele activiteiten in de regio. Nadien kan je eventueel samen verder op stap gaan. Dit op eigen tempo en met ondersteunig vanuit UilenSpiegel. \nInschrijven is verplicht en kan via plusvriend.kempen@uitlenspiegel.net
URL:https://zorggroep-orion.be/activiteit/plusvriendcirkels/
LOCATION:Dienstencentrum De Schoor\, Schorvoortstraat 53\, Turnhout\, 2300
CATEGORIES:Recreatie
ATTACH;FMTTYPE=image/png:https://zorggroep-orion.be/wp-content/uploads/2026/03/Schermafbeelding-2026-03-11-145504.png
END:VEVENT
BEGIN:VEVENT
DTSTART;TZID=Europe/Brussels:20260402T140000
DTEND;TZID=Europe/Brussels:20260402T150000
DTSTAMP:20260424T183648
CREATED:20260317T103301Z
LAST-MODIFIED:20260317T103301Z
UID:10626756-1775138400-1775142000@zorggroep-orion.be
SUMMARY:Kom van dat gat af!
DESCRIPTION:De VRT-campagne “Kom van dat gat af” stimuleert iedereen om minder stil te zitten en meer te bewegen. Ook wij doen mee! \nBij ons kan je komen turnen! LDC De Schoor organiseert een gezellige sessie voor iedereen om 9.30 uur of 14 uur. Inschrijven is niet nodig. gewoon langskomen en meedoen! \n€2 INCLUSIEF KOFFIE OF THEE NA AFLOOP
URL:https://zorggroep-orion.be/activiteit/kom-van-dat-gat-af-2/
LOCATION:Dienstencentrum De Schoor\, Schorvoortstraat 53\, Turnhout\, 2300
CATEGORIES:Bewegen
ATTACH;FMTTYPE=image/jpeg:https://zorggroep-orion.be/wp-content/uploads/2026/03/KVDGA-logo.jpg
END:VEVENT
BEGIN:VEVENT
DTSTART;TZID=Europe/Brussels:20260402T133000
DTEND;TZID=Europe/Brussels:20260402T170000
DTSTAMP:20260424T183648
CREATED:20260115T144844Z
LAST-MODIFIED:20260311T135105Z
UID:10623512-1775136600-1775149200@zorggroep-orion.be
SUMMARY:Crea @ De Schoor
DESCRIPTION:Deze keer maakt onze creagroep paasdecoratie. \nIedereen welkom!
URL:https://zorggroep-orion.be/activiteit/crea-de-schoor-3/
LOCATION:Dienstencentrum De Schoor\, Schorvoortstraat 53\, Turnhout\, 2300
ATTACH;FMTTYPE=image/png:https://zorggroep-orion.be/wp-content/uploads/2026/01/Schermafbeelding-2026-03-11-145038.png
END:VEVENT
BEGIN:VEVENT
DTSTART;TZID=Europe/Brussels:20260402T093000
DTEND;TZID=Europe/Brussels:20260402T093000
DTSTAMP:20260424T183648
CREATED:20260317T103141Z
LAST-MODIFIED:20260317T103141Z
UID:10626755-1775122200-1775122200@zorggroep-orion.be
SUMMARY:Kom van dat gat af!
DESCRIPTION:De VRT-campagne “Kom van dat gat af” stimuleert iedereen om minder stil te zitten en meer te bewegen. Ook wij doen mee! \nBij ons kan je komen turnen! LDC De Schoor organiseert een gezellige sessie voor iedereen om 9.30 uur of 14 uur. Inschrijven is niet nodig. gewoon langskomen en meedoen! \n€2 INCLUSIEF KOFFIE OF THEE NA AFLOOP
URL:https://zorggroep-orion.be/activiteit/kom-van-dat-gat-af/
LOCATION:Dienstencentrum De Schoor\, Schorvoortstraat 53\, Turnhout\, 2300
CATEGORIES:Bewegen
ATTACH;FMTTYPE=image/jpeg:https://zorggroep-orion.be/wp-content/uploads/2026/03/KVDGA-logo.jpg
END:VEVENT
END:VCALENDAR