BEGIN:VCALENDAR
VERSION:2.0
PRODID:-//Zorggroep Orion - ECPv6.15.17.1//NONSGML v1.0//EN
CALSCALE:GREGORIAN
METHOD:PUBLISH
X-ORIGINAL-URL:https://zorggroep-orion.be
X-WR-CALDESC:Evenementen voor Zorggroep Orion
REFRESH-INTERVAL;VALUE=DURATION:PT1H
X-Robots-Tag:noindex
X-PUBLISHED-TTL:PT1H
BEGIN:VTIMEZONE
TZID:Europe/Brussels
BEGIN:DAYLIGHT
TZOFFSETFROM:+0100
TZOFFSETTO:+0200
TZNAME:CEST
DTSTART:20230326T010000
END:DAYLIGHT
BEGIN:STANDARD
TZOFFSETFROM:+0200
TZOFFSETTO:+0100
TZNAME:CET
DTSTART:20231029T010000
END:STANDARD
BEGIN:DAYLIGHT
TZOFFSETFROM:+0100
TZOFFSETTO:+0200
TZNAME:CEST
DTSTART:20240331T010000
END:DAYLIGHT
BEGIN:STANDARD
TZOFFSETFROM:+0200
TZOFFSETTO:+0100
TZNAME:CET
DTSTART:20241027T010000
END:STANDARD
BEGIN:DAYLIGHT
TZOFFSETFROM:+0100
TZOFFSETTO:+0200
TZNAME:CEST
DTSTART:20250330T010000
END:DAYLIGHT
BEGIN:STANDARD
TZOFFSETFROM:+0200
TZOFFSETTO:+0100
TZNAME:CET
DTSTART:20251026T010000
END:STANDARD
END:VTIMEZONE
BEGIN:VEVENT
DTSTART;TZID=Europe/Brussels:20240531T180000
DTEND;TZID=Europe/Brussels:20240531T220000
DTSTAMP:20260425T131746
CREATED:20240419T100140Z
LAST-MODIFIED:20240419T100140Z
UID:10608762-1717178400-1717192800@zorggroep-orion.be
SUMMARY:DAG VAN DE BUREN: KAAS- EN WIJNAVOND@DE WISSEL
DESCRIPTION:31 mei 2024 is het Dag Van De Buren. Graag willen we op deze dag kennis maken met onze buren. Daarom organiseren we in samenwerking met de buurtbewoners van Niefhout een kaas- en wijnavond. \nPraktisch \n\nWe vragen aan ieder om zelf een hapje en wijntje mee te brengen\nAndere dranken zijn verkrijgbaar in De Wissel aan democratische prijzen\nWie niet gek is van kaas\, mag gerust andere lekkernijen meebrengen!\nWaar? café van LDC De Wissel (Pioniersgebouw)
URL:https://zorggroep-orion.be/activiteit/dag-van-de-buren-kaas-en-wijnavondde-wissel/
LOCATION:Dienstencentrum De Wissel\, Dokter Nand Peetersstraat 33\, Turnhout\, Antwerpen\, 2300\, Belgium
CATEGORIES:Feest
ATTACH;FMTTYPE=image/jpeg:https://zorggroep-orion.be/wp-content/uploads/2024/04/act202405-Dag-van-de-buren.jpg
END:VEVENT
BEGIN:VEVENT
DTSTART;TZID=Europe/Brussels:20240523T120000
DTEND;TZID=Europe/Brussels:20240523T133000
DTSTAMP:20260425T131746
CREATED:20240419T095246Z
LAST-MODIFIED:20240424T063309Z
UID:10608761-1716465600-1716471000@zorggroep-orion.be
SUMMARY:HARINGBAK@DE MEERLOOP
DESCRIPTION:Het is weer tijd voor onze jaarlijkse haringbak. Op het menu staat lekkere bakharing met ajuinsaus en brood. Kom jij ook mee genieten? \nDeze activiteit zal doorgaan in De Meerloop! \nPraktisch: \n\nInschrijven kan vanaf 1 mei 2024\nSchrijf je in via De Wissel: 014 28 40 71 of dewissel@zorggroep-orion.be
URL:https://zorggroep-orion.be/activiteit/haringbakde-meerloop/
LOCATION:Antwerpen
CATEGORIES:Feest
ATTACH;FMTTYPE=image/jpeg:https://zorggroep-orion.be/wp-content/uploads/2024/04/act202405-haringbak.jpg
END:VEVENT
BEGIN:VEVENT
DTSTART;VALUE=DATE:20240520
DTEND;VALUE=DATE:20240521
DTSTAMP:20260425T131746
CREATED:20240422T094235Z
LAST-MODIFIED:20240422T114201Z
UID:10608769-1716163200-1716249599@zorggroep-orion.be
SUMMARY:PINKSTERMAANDAG @ Albert
DESCRIPTION:Cafetaria open vanaf 11.30 u \n\nMet optreden vanaf 14 u – Zingen met Annick en Rethino.\n\nRestaurant open vanaf 12 u. \nKantoren gesloten!
URL:https://zorggroep-orion.be/activiteit/pinkstermaandag-albert/
LOCATION:Dienstencentrum Albert Van Dyck\, Albert Van Dyckstraat 10\, Turnhout\, Antwerpen\, 2300\, Belgium
CATEGORIES:Goed om weten
ATTACH;FMTTYPE=image/png:https://zorggroep-orion.be/wp-content/uploads/2024/04/cafetaria-LDC-AVD.png
END:VEVENT
BEGIN:VEVENT
DTSTART;VALUE=DATE:20240520
DTEND;VALUE=DATE:20240521
DTSTAMP:20260425T131746
CREATED:20240419T094223Z
LAST-MODIFIED:20240419T094223Z
UID:10608760-1716163200-1716249599@zorggroep-orion.be
SUMMARY:PINKSTERMAANDAG @ De Wissel
DESCRIPTION:Op maandag 20 mei is LDC De Wissel gesloten.
URL:https://zorggroep-orion.be/activiteit/pinkstermaandag-de-wissel/
LOCATION:Dienstencentrum De Wissel\, Dokter Nand Peetersstraat 33\, Turnhout\, Antwerpen\, 2300\, Belgium
CATEGORIES:Goed om weten
ATTACH;FMTTYPE=image/jpeg:https://zorggroep-orion.be/wp-content/uploads/2023/06/gesloten-2023.jpg
END:VEVENT
BEGIN:VEVENT
DTSTART;VALUE=DATE:20240509
DTEND;VALUE=DATE:20240510
DTSTAMP:20260425T131746
CREATED:20240417T101426Z
LAST-MODIFIED:20240417T101426Z
UID:10608743-1715212800-1715299199@zorggroep-orion.be
SUMMARY:HEMELVAARTSDAG @ De Wissel
DESCRIPTION:Op donderdag 9 mei is LDC De Wissel gesloten.
URL:https://zorggroep-orion.be/activiteit/hemelvaartsdag-de-wissel/
LOCATION:Dienstencentrum De Wissel\, Dokter Nand Peetersstraat 33\, Turnhout\, Antwerpen\, 2300\, Belgium
CATEGORIES:Goed om weten
ATTACH;FMTTYPE=image/jpeg:https://zorggroep-orion.be/wp-content/uploads/2023/06/gesloten-2023.jpg
END:VEVENT
BEGIN:VEVENT
DTSTART;VALUE=DATE:20240501
DTEND;VALUE=DATE:20240502
DTSTAMP:20260425T131746
CREATED:20240417T100514Z
LAST-MODIFIED:20240417T101509Z
UID:10608742-1714521600-1714607999@zorggroep-orion.be
SUMMARY:DAG VAN DE ARBEID @ De Wissel
DESCRIPTION:Op woensdag 1 mei is LDC De Wissel gesloten.
URL:https://zorggroep-orion.be/activiteit/dag-van-de-arbeid-de-wissel/
LOCATION:Dienstencentrum De Wissel\, Dokter Nand Peetersstraat 33\, Turnhout\, Antwerpen\, 2300\, Belgium
CATEGORIES:Goed om weten
ATTACH;FMTTYPE=image/jpeg:https://zorggroep-orion.be/wp-content/uploads/2023/06/gesloten-2023.jpg
END:VEVENT
END:VCALENDAR