BEGIN:VCALENDAR
VERSION:2.0
PRODID:-//Zorggroep Orion - ECPv6.15.17.1//NONSGML v1.0//EN
CALSCALE:GREGORIAN
METHOD:PUBLISH
X-ORIGINAL-URL:https://zorggroep-orion.be
X-WR-CALDESC:Evenementen voor Zorggroep Orion
REFRESH-INTERVAL;VALUE=DURATION:PT1H
X-Robots-Tag:noindex
X-PUBLISHED-TTL:PT1H
BEGIN:VTIMEZONE
TZID:Europe/Brussels
BEGIN:DAYLIGHT
TZOFFSETFROM:+0100
TZOFFSETTO:+0200
TZNAME:CEST
DTSTART:20240331T010000
END:DAYLIGHT
BEGIN:STANDARD
TZOFFSETFROM:+0200
TZOFFSETTO:+0100
TZNAME:CET
DTSTART:20241027T010000
END:STANDARD
BEGIN:DAYLIGHT
TZOFFSETFROM:+0100
TZOFFSETTO:+0200
TZNAME:CEST
DTSTART:20250330T010000
END:DAYLIGHT
BEGIN:STANDARD
TZOFFSETFROM:+0200
TZOFFSETTO:+0100
TZNAME:CET
DTSTART:20251026T010000
END:STANDARD
BEGIN:DAYLIGHT
TZOFFSETFROM:+0100
TZOFFSETTO:+0200
TZNAME:CEST
DTSTART:20260329T010000
END:DAYLIGHT
BEGIN:STANDARD
TZOFFSETFROM:+0200
TZOFFSETTO:+0100
TZNAME:CET
DTSTART:20261025T010000
END:STANDARD
END:VTIMEZONE
BEGIN:VEVENT
DTSTART;TZID=Europe/Brussels:20250522T140000
DTEND;TZID=Europe/Brussels:20250522T170000
DTSTAMP:20260425T132733
CREATED:20250423T122918Z
LAST-MODIFIED:20250423T122918Z
UID:10618034-1747922400-1747933200@zorggroep-orion.be
SUMMARY:DANSEN MET HILDE
DESCRIPTION:Laat je meevoeren door de muziek en kom dansen met Hilde! Deze enthousiaste nieuwkomer in ons dienstencentrum brengt een energiek optreden met zowel Nederlandstalige als Engelstalige hits die we allemaal kennen en graag meezingen. \nOf je nu wilt dansen of gewoon genieten van de muziek\, het belooft een gezellig en sfeervol moment te worden voor jong en oud. Mis dit leuke optreden niet!
URL:https://zorggroep-orion.be/activiteit/dansen-met-hilde/
LOCATION:Dienstencentrum De Wissel\, Dokter Nand Peetersstraat 33\, Turnhout\, Antwerpen\, 2300\, Belgium
CATEGORIES:Feest
ATTACH;FMTTYPE=image/jpeg:https://zorggroep-orion.be/wp-content/uploads/2025/04/Dansen-met-Hilde-052025.jpg
END:VEVENT
BEGIN:VEVENT
DTSTART;TZID=Europe/Brussels:20250522T133000
DTEND;TZID=Europe/Brussels:20250522T170000
DTSTAMP:20260425T132733
CREATED:20250423T122302Z
LAST-MODIFIED:20250423T122303Z
UID:10609542-1747920600-1747933200@zorggroep-orion.be
SUMMARY:IJSJES@DE WISSEL
DESCRIPTION:Kom genieten van een heerlijke coupe aardbei tijdens de openingsuren van onze cafetaria. Hier wil je toch ook van komen smullen? \nIedereen is welkom\, inschrijven is niet nodig!
URL:https://zorggroep-orion.be/activiteit/ijsjesde-wissel-3/
LOCATION:Dienstencentrum De Wissel\, Dokter Nand Peetersstraat 33\, Turnhout\, Antwerpen\, 2300\, Belgium
CATEGORIES:Eten & Drinken
ATTACH;FMTTYPE=image/jpeg:https://zorggroep-orion.be/wp-content/uploads/2024/06/act202407-ijsjes.jpg
END:VEVENT
BEGIN:VEVENT
DTSTART;TZID=Europe/Brussels:20250515T140000
DTEND;TZID=Europe/Brussels:20250515T160000
DTSTAMP:20260425T132733
CREATED:20250423T121755Z
LAST-MODIFIED:20250423T121755Z
UID:10618033-1747317600-1747324800@zorggroep-orion.be
SUMMARY:WORKSHOP: ALTERNATIEVE BEHANDELINGSMETHODEN BIJ ACUTE PIJN
DESCRIPTION:Tijdens deze workshop krijgen de deelnemers diverse hulpmiddelen aangereikt die zij kunnen uitproberen voordat zij eventueel overstappen op pijnmedicatie zoals paracetamol. \nPraktisch: \n\nInschrijven kan vanaf dinsdag 29 april 2025\nSchrijf je in via De Wissel: 014 28 40 71 of dewissel@zorggroep-orion.be
URL:https://zorggroep-orion.be/activiteit/workshop-alternatieve-behandelingsmethoden-bij-acute-pijn/
LOCATION:Dienstencentrum De Wissel\, Dokter Nand Peetersstraat 33\, Turnhout\, Antwerpen\, 2300\, Belgium
CATEGORIES:Infosessie
ATTACH;FMTTYPE=image/jpeg:https://zorggroep-orion.be/wp-content/uploads/2025/04/Workshop-alternatieve-behandelingsmethoden-bij-acute-pijn-052025.jpg
END:VEVENT
BEGIN:VEVENT
DTSTART;TZID=Europe/Brussels:20250514T120000
DTEND;TZID=Europe/Brussels:20250514T133000
DTSTAMP:20260425T132733
CREATED:20250423T121522Z
LAST-MODIFIED:20250423T121522Z
UID:10618032-1747224000-1747229400@zorggroep-orion.be
SUMMARY:BEULING MET APPELMOES
DESCRIPTION:Zin in een smakelijke activiteit? Kom samen met ons genieten van beuling met appelmoes en brood bij LDC De Wissel. \nPraktisch: \n\nInschrijven kan vanaf dinsdag 29 april 2025\nSchrijf je in via De Wissel: 014 28 40 71 of dewissel@zorggroep-orion.be\nPrijs: €8\,00
URL:https://zorggroep-orion.be/activiteit/beuling-met-appelmoes-2/
LOCATION:Dienstencentrum De Wissel\, Dokter Nand Peetersstraat 33\, Turnhout\, Antwerpen\, 2300\, Belgium
CATEGORIES:Eten & Drinken
ATTACH;FMTTYPE=image/jpeg:https://zorggroep-orion.be/wp-content/uploads/2025/04/Beuling-met-appelmoes-052025.jpg
END:VEVENT
BEGIN:VEVENT
DTSTART;TZID=Europe/Brussels:20250513T140000
DTEND;TZID=Europe/Brussels:20250513T160000
DTSTAMP:20260425T132733
CREATED:20250423T121211Z
LAST-MODIFIED:20250423T121211Z
UID:10618031-1747144800-1747152000@zorggroep-orion.be
SUMMARY:LEZING: OOG VOOR EENZAAMHEID
DESCRIPTION:Bijna iedereen kent momenten van eenzaamheid en dat is oké. Maar wanneer dat gevoel blijft aanhouden\, kan je lichaam reageren en dan wordt eenzaamheid minder onschuldig. Het risico bestaat dat je in een neerwaartse spiraal belandt waar je moeilijk zelf uit komt.. \nTijdens deze workshop brengen we kennis en inzichten samen\, maar ook ruimte voor uitwisseling. Met nieuwe vaardigheden in je rugzak verdwijnt de leegte misschien niet meteen\, maar je leert wel relativeren. De grootste uitdaging? Uit je cocon komen en op zoek gaan naar wat jou en anderen goed doet. \nPraktisch: \n\nInschrijven kan vanaf dinsdag 29 april 2025\nSchrijf je in via De Wissel: 014 28 40 71 of dewissel@zorggroep-orion.be\nPrijs: €2\,00 inclusief koffie
URL:https://zorggroep-orion.be/activiteit/lezing-oog-voor-eenzaamheid/
LOCATION:Dienstencentrum De Wissel\, Dokter Nand Peetersstraat 33\, Turnhout\, Antwerpen\, 2300\, Belgium
CATEGORIES:Infosessie
ATTACH;FMTTYPE=image/jpeg:https://zorggroep-orion.be/wp-content/uploads/2025/04/Lezing-oog-voor-eenzaamheid-052025-1.jpg
END:VEVENT
BEGIN:VEVENT
DTSTART;TZID=Europe/Brussels:20250505T140000
DTEND;TZID=Europe/Brussels:20250505T160000
DTSTAMP:20260425T132733
CREATED:20250423T120339Z
LAST-MODIFIED:20250423T120339Z
UID:10618030-1746453600-1746460800@zorggroep-orion.be
SUMMARY:INFOSESSIE PHISHING
DESCRIPTION:Hoe kan je weerbaarder worden en minder snel in de val van phishing trappen? \nAgent Bart Geuens werpt een blik op de mogelijke valkuilen die je kan ervaren.
URL:https://zorggroep-orion.be/activiteit/infosessie-phishing/
LOCATION:Dienstencentrum De Wissel\, Dokter Nand Peetersstraat 33\, Turnhout\, Antwerpen\, 2300\, Belgium
CATEGORIES:Infosessie
ATTACH;FMTTYPE=image/jpeg:https://zorggroep-orion.be/wp-content/uploads/2025/04/Infosessie-phishing-052025.jpg
END:VEVENT
END:VCALENDAR