BEGIN:VCALENDAR
VERSION:2.0
PRODID:-//Zorggroep Orion - ECPv6.15.17.1//NONSGML v1.0//EN
CALSCALE:GREGORIAN
METHOD:PUBLISH
X-ORIGINAL-URL:https://zorggroep-orion.be
X-WR-CALDESC:Evenementen voor Zorggroep Orion
REFRESH-INTERVAL;VALUE=DURATION:PT1H
X-Robots-Tag:noindex
X-PUBLISHED-TTL:PT1H
BEGIN:VTIMEZONE
TZID:Europe/Brussels
BEGIN:DAYLIGHT
TZOFFSETFROM:+0100
TZOFFSETTO:+0200
TZNAME:CEST
DTSTART:20240331T010000
END:DAYLIGHT
BEGIN:STANDARD
TZOFFSETFROM:+0200
TZOFFSETTO:+0100
TZNAME:CET
DTSTART:20241027T010000
END:STANDARD
BEGIN:DAYLIGHT
TZOFFSETFROM:+0100
TZOFFSETTO:+0200
TZNAME:CEST
DTSTART:20250330T010000
END:DAYLIGHT
BEGIN:STANDARD
TZOFFSETFROM:+0200
TZOFFSETTO:+0100
TZNAME:CET
DTSTART:20251026T010000
END:STANDARD
BEGIN:DAYLIGHT
TZOFFSETFROM:+0100
TZOFFSETTO:+0200
TZNAME:CEST
DTSTART:20260329T010000
END:DAYLIGHT
BEGIN:STANDARD
TZOFFSETFROM:+0200
TZOFFSETTO:+0100
TZNAME:CET
DTSTART:20261025T010000
END:STANDARD
END:VTIMEZONE
BEGIN:VEVENT
DTSTART;TZID=Europe/Brussels:20250625T120000
DTEND;TZID=Europe/Brussels:20250625T133000
DTSTAMP:20260425T055108
CREATED:20250515T074153Z
LAST-MODIFIED:20250515T131424Z
UID:10618360-1750852800-1750858200@zorggroep-orion.be
SUMMARY:SPAGHETTI MET BROOD @ DE WISSEL
DESCRIPTION:Kom mee genieten van heerlijke\, zelfgemaakte spaghetti met vers brood bij LDC De Wissel! Onze fantastische vrijwilligers staan met veel liefde en enthousiasme in de keuken om deze maaltijd voor jullie klaar te maken. \nBreng familie\, vrienden of buren mee en schuif gezellig aan! \nPraktisch: \n\nInschrijven kan vanaf woensdag 21 mei 2025\nSchrijf je in via De Wissel: 014 28 40 71 of dewissel@zorggroep-orion.be
URL:https://zorggroep-orion.be/activiteit/spaghetti-met-brood-de-wissel/
LOCATION:Dienstencentrum De Wissel\, Dokter Nand Peetersstraat 33\, Turnhout\, Antwerpen\, 2300\, Belgium
CATEGORIES:Eten & Drinken
ATTACH;FMTTYPE=image/jpeg:https://zorggroep-orion.be/wp-content/uploads/2025/05/Spaghetti-met-brood-062025.jpg
END:VEVENT
BEGIN:VEVENT
DTSTART;TZID=Europe/Brussels:20250618T140000
DTEND;TZID=Europe/Brussels:20250618T160000
DTSTAMP:20260425T055108
CREATED:20250515T073104Z
LAST-MODIFIED:20250515T073104Z
UID:10618359-1750255200-1750262400@zorggroep-orion.be
SUMMARY:INNOVATIECAFE: WEGWIJS IN JOUW ONLINE GEZONDHEID
DESCRIPTION:Zie je door het digitale gezondheidsbos de bomen niet meer? myhealthviewer\, myNexuzhealth\, Helena-care… zoveel websites en apps waar jouw medische gegevens bewaard worden. \nTijdens het innovatiecafé op 18 juni gidst zorgproeftuin LiCalab je door de digitale wereld van gezondheid. Je krijgt handige tips om betrouwbare info te vinden\, ontdekt apps die je gezondheid ondersteunen én leert hoe je goed voorbereid naar je arts gaat. \nLiCalab (Living & Care Lab)\, een onderzoeksgroep van Thomas More\, onderzoekt samen met burgers en zorgverleners hoe innovatieve zorgproducten gebruiksvriendelijker kunnen. In samenwerking met Zorggroep Orion organiseren ze innovatiecafé’s in dienstencentrum De Wissel. \nVan harte welkom in dit innovatiecafé waar er tijd is voor informatie\, vragen en interessante babbels!
URL:https://zorggroep-orion.be/activiteit/innovatiecafe-wegwijs-in-jouw-online-gezondheid/
LOCATION:Dienstencentrum De Wissel\, Dokter Nand Peetersstraat 33\, Turnhout\, Antwerpen\, 2300\, Belgium
CATEGORIES:Infosessie
ATTACH;FMTTYPE=image/jpeg:https://zorggroep-orion.be/wp-content/uploads/2025/05/Innovatiecafe-062025.jpg
END:VEVENT
BEGIN:VEVENT
DTSTART;VALUE=DATE:20250609
DTEND;VALUE=DATE:20250610
DTSTAMP:20260425T055108
CREATED:20250321T144321Z
LAST-MODIFIED:20250515T071623Z
UID:10616113-1749427200-1749513599@zorggroep-orion.be
SUMMARY:Pinkstermaandag: LDC De Wissel is gesloten
DESCRIPTION:Op maandag 9 juni is LDC De Wissel gesloten!
URL:https://zorggroep-orion.be/activiteit/paasmaandag-de-wissel-is-gesloten/
LOCATION:Dienstencentrum De Wissel\, Dokter Nand Peetersstraat 33\, Turnhout\, Antwerpen\, 2300\, Belgium
CATEGORIES:Goed om weten
ATTACH;FMTTYPE=image/jpeg:https://zorggroep-orion.be/wp-content/uploads/2023/06/gesloten-2023.jpg
END:VEVENT
BEGIN:VEVENT
DTSTART;TZID=Europe/Brussels:20250604T120000
DTEND;TZID=Europe/Brussels:20250604T133000
DTSTAMP:20260425T055108
CREATED:20240419T102803Z
LAST-MODIFIED:20250515T065331Z
UID:10608763-1749038400-1749043800@zorggroep-orion.be
SUMMARY:HARINGBAK@DE MEERLOOP
DESCRIPTION:Het is weer tijd voor onze jaarlijkse haringbak. Op het menu staat lekkere bakharing met ajuinsaus en brood. \nKom jij ook mee genieten? \nDeze activiteit zal doorgaan in De Meerloop! \nPraktisch: \n\nInschrijven kan vanaf woensdag 21 mei 2025\nSchrijf je in via De Wissel: 014 28 40 71 of dewissel@zorggroep-orion.be
URL:https://zorggroep-orion.be/activiteit/haringbakde-meerloop-2/
LOCATION:Dienstencentrum De Wissel\, Dokter Nand Peetersstraat 33\, Turnhout\, Antwerpen\, 2300\, Belgium
CATEGORIES:Feest
ATTACH;FMTTYPE=image/jpeg:https://zorggroep-orion.be/wp-content/uploads/2024/04/act202405-haringbak.jpg
END:VEVENT
BEGIN:VEVENT
DTSTART;TZID=Europe/Brussels:20250602T100000
DTEND;TZID=Europe/Brussels:20250602T120000
DTSTAMP:20260425T055108
CREATED:20250515T063947Z
LAST-MODIFIED:20250515T131355Z
UID:10618357-1748858400-1748865600@zorggroep-orion.be
SUMMARY:WORKSHOP CONFITUUR MAKEN
DESCRIPTION:Altijd al willen weten hoe je zelf heerlijke confituur maakt? Grijp dan nu je kans! Tijdens onze workshop leer je stap voor stap hoe je van fruit de lekkerste potjes confituur maakt. Geen ervaring nodig – alleen goesting om iets lekkers te creëren! \nPraktisch: \n\nInschrijven kan vanaf woensdag 21 mei 2025\nSchrijf je in via De Wissel: 014 28 40 71 of dewissel@zorggroep-orion.be
URL:https://zorggroep-orion.be/activiteit/workshop-confituur-maken/
LOCATION:Dienstencentrum De Wissel\, Dokter Nand Peetersstraat 33\, Turnhout\, Antwerpen\, 2300\, Belgium
CATEGORIES:Workshop
ATTACH;FMTTYPE=image/jpeg:https://zorggroep-orion.be/wp-content/uploads/2025/05/Workshop-confituur-maken-062025.jpg
END:VEVENT
END:VCALENDAR