BEGIN:VCALENDAR
VERSION:2.0
PRODID:-//Zorggroep Orion - ECPv6.15.17.1//NONSGML v1.0//EN
CALSCALE:GREGORIAN
METHOD:PUBLISH
X-ORIGINAL-URL:https://zorggroep-orion.be
X-WR-CALDESC:Evenementen voor Zorggroep Orion
REFRESH-INTERVAL;VALUE=DURATION:PT1H
X-Robots-Tag:noindex
X-PUBLISHED-TTL:PT1H
BEGIN:VTIMEZONE
TZID:Europe/Brussels
BEGIN:DAYLIGHT
TZOFFSETFROM:+0100
TZOFFSETTO:+0200
TZNAME:CEST
DTSTART:20240331T010000
END:DAYLIGHT
BEGIN:STANDARD
TZOFFSETFROM:+0200
TZOFFSETTO:+0100
TZNAME:CET
DTSTART:20241027T010000
END:STANDARD
BEGIN:DAYLIGHT
TZOFFSETFROM:+0100
TZOFFSETTO:+0200
TZNAME:CEST
DTSTART:20250330T010000
END:DAYLIGHT
BEGIN:STANDARD
TZOFFSETFROM:+0200
TZOFFSETTO:+0100
TZNAME:CET
DTSTART:20251026T010000
END:STANDARD
BEGIN:DAYLIGHT
TZOFFSETFROM:+0100
TZOFFSETTO:+0200
TZNAME:CEST
DTSTART:20260329T010000
END:DAYLIGHT
BEGIN:STANDARD
TZOFFSETFROM:+0200
TZOFFSETTO:+0100
TZNAME:CET
DTSTART:20261025T010000
END:STANDARD
END:VTIMEZONE
BEGIN:VEVENT
DTSTART;TZID=Europe/Brussels:20251025T123000
DTEND;TZID=Europe/Brussels:20251025T180000
DTSTAMP:20260424T220211
CREATED:20250925T133034Z
LAST-MODIFIED:20250925T133034Z
UID:10619822-1761395400-1761415200@zorggroep-orion.be
SUMMARY:DANS & DINER @ DE WISSEL
DESCRIPTION:Geniet van een heerlijke 3-gangenlunch\, een fijne dansnamiddag en een sfeervolle show in aangenaam gezelschap. Iedereen welkom! \nProgramma: \n\n12u30: deuren open\n13u00: 3-gangenmenu\n14u30: start show\n18u00: einde\n\nOp het menu: \n\nGroentesoep\nWortelpuree met worst\nStukje vlaai\n\nPraktisch: \n\nInschrijven kan vanaf maandag 06/10/2025\nSchrijf je in via De Wissel: 014 28 40 71 of dewissel@zorggroep-orion.be\nPrijs: €13\,50 voor show inclusief 3-gangenmenu / €6\,00 voor show alleen (geen menu)
URL:https://zorggroep-orion.be/activiteit/dans-diner-de-wissel-2/
LOCATION:Dienstencentrum De Wissel\, Dokter Nand Peetersstraat 33\, Turnhout\, Antwerpen\, 2300\, Belgium
CATEGORIES:Feest
ATTACH;FMTTYPE=image/jpeg:https://zorggroep-orion.be/wp-content/uploads/2025/05/Dans-en-diner-062025.jpg
END:VEVENT
BEGIN:VEVENT
DTSTART;TZID=Europe/Brussels:20251022T140000
DTEND;TZID=Europe/Brussels:20251022T160000
DTSTAMP:20260424T220211
CREATED:20250925T132805Z
LAST-MODIFIED:20250925T132805Z
UID:10619820-1761141600-1761148800@zorggroep-orion.be
SUMMARY:INNOVATIECAFE - PARKINSON
DESCRIPTION:Thema: innovatieve hulpmiddelen voor personen met Parkinson: waar staat het onderzoek? \nZorgproeftuin LiCalab is een onderzoeksgroep van Thomas More hogeschool. In hun onderzoek bekijken ze hoe hulpmiddelen zoals een rollator\, een handige app of een speciale schoenzool het dagelijks leven van mensen met Parkinson kunnen verbeteren. Ze testen deze vernieuwende producten samen met gebruikers zodat ze echt begrijpen wat werkt en wat niet. Zo zorgen ze ervoor dat nieuwe oplossingen bruikbaar en comfortabel worden. \nKom luisteren en denk mee! \nTijdens deze infosessie vertelt LiCalab meer over het onderzoek en de ervaringen van mensen die al met deze hulpmiddelen gewerkt hebben. Welke innovatieve hulpmiddelen worden vandaag onderzocht? Heb je zelf ideeën\, vragen of gewoon interesse? Dan ben je van harte welkom. \nWe organiseren het innovatiecafé in samenwerking met Licalab. \nDeelname is gratis. \nInschrijven is niet nodig.
URL:https://zorggroep-orion.be/activiteit/innovatiecafe-parkinson/
LOCATION:Dienstencentrum De Wissel\, Dokter Nand Peetersstraat 33\, Turnhout\, Antwerpen\, 2300\, Belgium
CATEGORIES:Infosessie
ATTACH;FMTTYPE=image/jpeg:https://zorggroep-orion.be/wp-content/uploads/2025/09/Innovatiecafe-102025-1.jpg
END:VEVENT
BEGIN:VEVENT
DTSTART;TZID=Europe/Brussels:20251016T140000
DTEND;TZID=Europe/Brussels:20251016T170000
DTSTAMP:20260424T220211
CREATED:20250925T131955Z
LAST-MODIFIED:20250925T131955Z
UID:10619818-1760623200-1760634000@zorggroep-orion.be
SUMMARY:SMOUTEBOLLENKRAAM @ DE WISSEL
DESCRIPTION:Opgelet smoutebollenliefhebbers! Maria komt weer naar LDC De Wissel met haar befaamde smoutebollen kraam. \nDe geur van vers gebakken smoutebollen zal je al van ver verwelkomen\, en je weet dat je bij het juiste kraam bent zodra je het binnenplein op stapt. \nKom langs\, proef\, en geniet van een gezellige tijd! \nPrijs: €6\,00 voor 6 smoutebollen
URL:https://zorggroep-orion.be/activiteit/smoutebollenkraam-de-wissel/
LOCATION:Dienstencentrum De Wissel\, Dokter Nand Peetersstraat 33\, Turnhout\, Antwerpen\, 2300\, Belgium
CATEGORIES:Eten & Drinken
ATTACH;FMTTYPE=image/jpeg:https://zorggroep-orion.be/wp-content/uploads/2025/09/Smoutebollenkraam-102025.jpg
END:VEVENT
BEGIN:VEVENT
DTSTART;TZID=Europe/Brussels:20251007T110000
DTEND;TZID=Europe/Brussels:20251007T120000
DTSTAMP:20260424T220211
CREATED:20250925T123216Z
LAST-MODIFIED:20250925T123216Z
UID:10619815-1759834800-1759838400@zorggroep-orion.be
SUMMARY:ENGELS: GEVORDERDEN
DESCRIPTION:In oktober starten we opnieuw met een nieuwe reeks van onze Engelse lessen voor gevorderden. \nOf je nu je spreekvaardigheid wil verfijnen\, vlotter gesprekken wil voeren of je kennis van de taal verder wil verdiepen – deze cursus is de perfecte stap vooruit. \nPrijs: €3\,00 per les inclusief koffie/thee.
URL:https://zorggroep-orion.be/activiteit/engels-gevorderden/
LOCATION:Dienstencentrum De Wissel\, Dokter Nand Peetersstraat 33\, Turnhout\, Antwerpen\, 2300\, Belgium
CATEGORIES:Hersenpan
ATTACH;FMTTYPE=image/jpeg:https://zorggroep-orion.be/wp-content/uploads/2023/08/act-202309-Engelse-conversatie.jpg
END:VEVENT
BEGIN:VEVENT
DTSTART;TZID=Europe/Brussels:20251007T090000
DTEND;TZID=Europe/Brussels:20251007T103000
DTSTAMP:20260424T220211
CREATED:20250925T123058Z
LAST-MODIFIED:20250925T123058Z
UID:10619814-1759827600-1759833000@zorggroep-orion.be
SUMMARY:ENGELS: BEGINNERS
DESCRIPTION:In oktober starten we opnieuw met een nieuwe reeks van onze Engelse lessen voor beginners. \nOf je nu je talenkennis wilt uitbreiden\, jezelf beter verstaanbaar wilt maken op reis\, of gewoon zin hebt om een nieuwe taal te leren – deze cursus is de perfecte start. \nPrijs: €3\,00 per les inclusief koffie/thee.
URL:https://zorggroep-orion.be/activiteit/engels-beginners/
LOCATION:Dienstencentrum De Wissel\, Dokter Nand Peetersstraat 33\, Turnhout\, Antwerpen\, 2300\, Belgium
CATEGORIES:Hersenpan
ATTACH;FMTTYPE=image/jpeg:https://zorggroep-orion.be/wp-content/uploads/2023/08/act-202309-Engelse-conversatie.jpg
END:VEVENT
BEGIN:VEVENT
DTSTART;TZID=Europe/Brussels:20251006T133000
DTEND;TZID=Europe/Brussels:20251006T160000
DTSTAMP:20260424T220211
CREATED:20250925T122420Z
LAST-MODIFIED:20250930T105447Z
UID:10619813-1759757400-1759766400@zorggroep-orion.be
SUMMARY:BEZOEK VILLA DES ROSES
DESCRIPTION:In september 2024 was het de officiële opening van Villa Des Roses\, waar de zorgcampus van Centrum Geestelijke Gezondheidszorg (CGG) gehuisvest is. \nDe doelstelling van het CGG is ambulante begeleiding/ behandeling bieden aan mensen met ernstige psychische\, psychosociale of een (verhoogd risico op) psychiatrische problematiek. \nHet ouderenteam van CGG Kempen richt zich tot mensen ouder dan 60 jaar. \nInvulling bezoek: \n\nVoorstelling van het ouderenteam van CGG Kempen\nVoorstelling van CGG Kempen\nRondleiding site\nAfronding met koffie en thee\n\nPraktisch: \n– Inschrijven kan vanaf maandag 22/09/2025 \n– Schrijf je in via De Wissel: 014 28 40 71 of dewissel@zorggroep-orion.be \n– Adres: Graatakker 106\, 2300 Turnhout
URL:https://zorggroep-orion.be/activiteit/bezoek-villa-des-roses/
LOCATION:Dienstencentrum De Wissel\, Dokter Nand Peetersstraat 33\, Turnhout\, Antwerpen\, 2300\, Belgium
CATEGORIES:Uitstap
ATTACH;FMTTYPE=image/jpeg:https://zorggroep-orion.be/wp-content/uploads/2025/09/Bezoek-Villa-Des-Roses-102025-1.jpg
END:VEVENT
BEGIN:VEVENT
DTSTART;TZID=Europe/Brussels:20251004T160000
DTEND;TZID=Europe/Brussels:20251004T210000
DTSTAMP:20260424T220211
CREATED:20250925T121821Z
LAST-MODIFIED:20250925T121821Z
UID:10619812-1759593600-1759611600@zorggroep-orion.be
SUMMARY:FRIETKRAAM @ DE WISSEL
DESCRIPTION:Zaterdag 4 oktober wordt het weer smullen én genieten bij De Wissel! \nOns frietkraam zorgt voor heerlijk knapperige frietjes en lekkere snacks\, en om de sfeer helemaal compleet te maken\, zorgt CISCO voor een spetterend optreden. Kom langs\, breng vrienden of buren mee en beleef samen met ons een gezellige zaterdag vol smaak en muziek! \nIedereen is van harte welkom! \nBonnetjes zijn verkrijgbaar aan de kassa! \nInschrijven is niet nodig. \nPrijs: €8\,00 voor friet inclusief 2 snacks
URL:https://zorggroep-orion.be/activiteit/frietkraam-de-wissel/
LOCATION:Dienstencentrum De Wissel\, Dokter Nand Peetersstraat 33\, Turnhout\, Antwerpen\, 2300\, Belgium
CATEGORIES:Feest
ATTACH;FMTTYPE=image/jpeg:https://zorggroep-orion.be/wp-content/uploads/2025/09/Frietkraam-@-De-Wissel-102025.jpg
END:VEVENT
BEGIN:VEVENT
DTSTART;TZID=Europe/Brussels:20251001T140000
DTEND;TZID=Europe/Brussels:20251001T170000
DTSTAMP:20260424T220211
CREATED:20250925T114929Z
LAST-MODIFIED:20250930T105220Z
UID:10619810-1759327200-1759338000@zorggroep-orion.be
SUMMARY:INFOSESSIE: POSITIEF DENKEN @ DE WISSEL
DESCRIPTION:Positief denken\, ook in moeilijke situaties\, kan je leren! \nProblemen en moeilijke situaties horen bij het leven. De situaties op zich kunnen we vaak niet veranderen. De manier waarop we er tegenaan kijken en hoe we ermee omgaan\, hebben we echter wel zelf in de hand. \nEr wordt tijdens deze infosessie gewerkt rond de volgende pijlers: \n\nKiezen voor positief denken\nHoe leren positief te denken? Welke denkfouten gebruiken we?\nPijlers van het positief denken\nHoe kan je klein geluk opmerken en een goede voedingsbodem zaaien?\n\nWas tot nu toe je glas soms ‘ half leeg’? Dan wensen we je na deze infosessie voortaan een ‘half vol’ glas toe! \nPraktisch: \n– Begeleiding infosessie door Myriam Bergmans \n– Inschrijven kan vanaf maandag 22/09/2025 \n– Schrijf je in via De Wissel: 014 28 40 71 of dewissel@zorggroep-orion.be \n-Prijs: €2\,00 inclusief koffie/thee
URL:https://zorggroep-orion.be/activiteit/infosessie-positief-denken-de-wissel/
LOCATION:Dienstencentrum De Wissel\, Dokter Nand Peetersstraat 33\, Turnhout\, Antwerpen\, 2300\, Belgium
CATEGORIES:Infosessie
ATTACH;FMTTYPE=image/jpeg:https://zorggroep-orion.be/wp-content/uploads/2025/09/Infosessie-positief-denken-102025-2.jpg
END:VEVENT
END:VCALENDAR