BEGIN:VCALENDAR
VERSION:2.0
PRODID:-//Zorggroep Orion - ECPv6.15.17.1//NONSGML v1.0//EN
CALSCALE:GREGORIAN
METHOD:PUBLISH
X-ORIGINAL-URL:https://zorggroep-orion.be
X-WR-CALDESC:Evenementen voor Zorggroep Orion
REFRESH-INTERVAL;VALUE=DURATION:PT1H
X-Robots-Tag:noindex
X-PUBLISHED-TTL:PT1H
BEGIN:VTIMEZONE
TZID:Europe/Brussels
BEGIN:DAYLIGHT
TZOFFSETFROM:+0100
TZOFFSETTO:+0200
TZNAME:CEST
DTSTART:20250330T010000
END:DAYLIGHT
BEGIN:STANDARD
TZOFFSETFROM:+0200
TZOFFSETTO:+0100
TZNAME:CET
DTSTART:20251026T010000
END:STANDARD
BEGIN:DAYLIGHT
TZOFFSETFROM:+0100
TZOFFSETTO:+0200
TZNAME:CEST
DTSTART:20260329T010000
END:DAYLIGHT
BEGIN:STANDARD
TZOFFSETFROM:+0200
TZOFFSETTO:+0100
TZNAME:CET
DTSTART:20261025T010000
END:STANDARD
BEGIN:DAYLIGHT
TZOFFSETFROM:+0100
TZOFFSETTO:+0200
TZNAME:CEST
DTSTART:20270328T010000
END:DAYLIGHT
BEGIN:STANDARD
TZOFFSETFROM:+0200
TZOFFSETTO:+0100
TZNAME:CET
DTSTART:20271031T010000
END:STANDARD
END:VTIMEZONE
BEGIN:VEVENT
DTSTART;TZID=Europe/Brussels:20260327T133000
DTEND;TZID=Europe/Brussels:20260327T163000
DTSTAMP:20260424T233939
CREATED:20260220T100702Z
LAST-MODIFIED:20260220T100702Z
UID:10626372-1774618200-1774629000@zorggroep-orion.be
SUMMARY:INLOOPHUIS DEMENTIE TURNHOUT @ DE WISSEL
DESCRIPTION:Het inloophuis is een informatiepunt en een ontmoetingsplaats voor mensen met (jong)dementie en hun familie\, mensen die hen ondersteunen en/of verzorgen. Er zijn steeds zorgprofessionals en vrijwilligers aanwezig. Zij luisteren naar ieders verhaal.\n\n\n\nNood aan een luisterend oor? Informatie nodig? Hopeloos verdwaald in het zorgaanbod? Of wil je gewoon even praten met lotgenoten? Kom dan zeker langs! Vanaf 13.30 uur staan onze deuren wagenwijd open voor iedereen!\n\n\n\nHet inloophuis is elke laatste vrijdag van de maand geopend van 13.30 tot 16.30 uur.\nLocatie: LDC DE WISSEL – Dr. Nandpeetersstraat 33 – 2300 TURNHOUT\n\n\n\nDit is een gezamenlijk initiatief van Alzheimer Liga Vlaanderen\, Zorggroep Orion\, AZ Turnhout\, Expertisecentrum Dementie Tandem en Stad Turnhout.
URL:https://zorggroep-orion.be/activiteit/inloophuis-dementie-turnhout-de-wissel-2/
LOCATION:Dienstencentrum De Wissel\, Dokter Nand Peetersstraat 33\, Turnhout\, Antwerpen\, 2300\, Belgium
CATEGORIES:Dienstverlening
ATTACH;FMTTYPE=image/png:https://zorggroep-orion.be/wp-content/uploads/2024/01/logo-inloophuis-dementie.png
END:VEVENT
BEGIN:VEVENT
DTSTART;TZID=Europe/Brussels:20260325T133000
DTEND;TZID=Europe/Brussels:20260325T163000
DTSTAMP:20260424T233939
CREATED:20260220T100514Z
LAST-MODIFIED:20260220T101041Z
UID:10626371-1774445400-1774456200@zorggroep-orion.be
SUMMARY:Karaoke met Guy@ De Wissel
DESCRIPTION:Zin om je zangtalent te laten horen of zin je liever gezellig mee vanop je stoel? \nKom dan op woensdag 25 maart naar de cafetaria van De Wissel voor een namiddag vol muziek en plezier!\nOf je nu een echt podiumbeest bent of gewoon komt genieten van de fijne sfeer en bekende meezingers: iedereen is welkom!
URL:https://zorggroep-orion.be/activiteit/karaoke-met-guy-de-wissel/
LOCATION:Dienstencentrum De Wissel\, Dokter Nand Peetersstraat 33\, Turnhout\, Antwerpen\, 2300\, Belgium
CATEGORIES:Muziek
ATTACH;FMTTYPE=image/jpeg:https://zorggroep-orion.be/wp-content/uploads/2026/02/guy.jpeg
END:VEVENT
BEGIN:VEVENT
DTSTART;TZID=Europe/Brussels:20260324T140000
DTEND;TZID=Europe/Brussels:20260324T160000
DTSTAMP:20260424T233939
CREATED:20260305T121733Z
LAST-MODIFIED:20260305T121733Z
UID:10626412-1774360800-1774368000@zorggroep-orion.be
SUMMARY:PANNENKOEKEN VIBO DE BREM @ DE WISSEL
DESCRIPTION:De leerlingen van VIBO De Brem trekken weer de keuken in en bakken verse\, pannenkoeken in onze dienstencentra. Deze keer is LDC De Wissel aan de beurt! \nInschrijven is niet nodig! \nPrijs: €3\,00 voor 2 pannenkoeken
URL:https://zorggroep-orion.be/activiteit/pannenkoeken-vibo-de-brem-de-wissel-4/
LOCATION:Dienstencentrum De Wissel\, Dokter Nand Peetersstraat 33\, Turnhout\, Antwerpen\, 2300\, Belgium
CATEGORIES:Eten & Drinken
ATTACH;FMTTYPE=image/png:https://zorggroep-orion.be/wp-content/uploads/2023/03/202301-pannenkoeken.png
END:VEVENT
BEGIN:VEVENT
DTSTART;TZID=Europe/Brussels:20260318T140000
DTEND;TZID=Europe/Brussels:20260318T153000
DTSTAMP:20260424T233939
CREATED:20260212T122908Z
LAST-MODIFIED:20260212T123011Z
UID:10626287-1773842400-1773847800@zorggroep-orion.be
SUMMARY:INNOVATIECAFE - Innovaties voor personen met dementie en hun omgeving
DESCRIPTION:Uitnodiging Innovatiecafé — Innovaties voor personen met dementie en hun omgeving \nHoe kunnen slimme ideeën en nieuwe technologie mensen met dementie helpen om zo lang mogelijk veilig\, zelfstandig en met meer levenskwaliteit thuis te wonen? En welke rol kunnen familie\, mantelzorgers en zorgverleners daarin spelen? \nZorgproeftuin LiCalab\, voluit Living & Care Lab\, is een onderzoeksgroep van Thomas More hogeschool. LiCalab onderzoekt samen met burgers\, mantelzorgers en zorgverleners hoe vernieuwende producten écht gebruikt worden. Tijdens dit innovatiecafé nemen we je mee in enkele inspirerende projecten rond dementie waar we recent aan werkten. Je ontdekt welke hulpmiddelen vandaag al bestaan\, wat er in ontwikkeling is\, en hoe technologie het verschil kan maken voor personen met dementie en hun omgeving. \nMaar dit innovatiecafé is meer dan luisteren alleen. We horen graag jouw ervaringen\, ideeën en vragen. Wat werkt? Wat ontbreekt nog? Wat heb jij nodig of wat zie jij in jouw omgeving? \nWelkom op 18 maart om 14:00 (tot 15:30) voor een namiddag vol inzichten\, uitwisseling en interessante babbels. Tot dan? \nDeelname is gratis. \nInschrijven is niet nodig.
URL:https://zorggroep-orion.be/activiteit/innovatiecafe-innovaties-voor-personen-met-dementie-en-hun-omgeving/
LOCATION:Dienstencentrum De Wissel\, Dokter Nand Peetersstraat 33\, Turnhout\, Antwerpen\, 2300\, Belgium
CATEGORIES:Infosessie
ATTACH;FMTTYPE=image/jpeg:https://zorggroep-orion.be/wp-content/uploads/2025/09/Innovatiecafe-102025-1.jpg
END:VEVENT
BEGIN:VEVENT
DTSTART;TZID=Europe/Brussels:20260316T120000
DTEND;TZID=Europe/Brussels:20260316T133000
DTSTAMP:20260424T233939
CREATED:20260220T095751Z
LAST-MODIFIED:20260220T095751Z
UID:10626370-1773662400-1773667800@zorggroep-orion.be
SUMMARY:POP-UP SOEP: VERSE SOEP OP MAANDAG @ DE WISSEL
DESCRIPTION:Onze enthousiaste vrijwilligers toveren hun kooktalenten weer tevoorschijn en verwennen jullie met dampende\, verse soep. Wij serveren deze heerlijke soep met brood. \nInschrijven is niet nodig\, dus schuif gezellig aan! \nDe opbrengst schenken we aan een goed doel! \nPrijs: €3\,00 voor soep met brood (inclusief 2 tassen soep)
URL:https://zorggroep-orion.be/activiteit/pop-up-soep-verse-soep-op-maandag-de-wissel-3/
LOCATION:Dienstencentrum De Wissel\, Dokter Nand Peetersstraat 33\, Turnhout\, Antwerpen\, 2300\, Belgium
CATEGORIES:Eten & Drinken
ATTACH;FMTTYPE=image/jpeg:https://zorggroep-orion.be/wp-content/uploads/2023/12/Soepdag.jpg
END:VEVENT
BEGIN:VEVENT
DTSTART;TZID=Europe/Brussels:20260315T100000
DTEND;TZID=Europe/Brussels:20260315T170000
DTSTAMP:20260424T233939
CREATED:20260204T124621Z
LAST-MODIFIED:20260310T194714Z
UID:10626138-1773568800-1773594000@zorggroep-orion.be
SUMMARY:DAG VAN DE ZORG @ Orion
DESCRIPTION:Ook wij zetten onze deuren om de 2 jaar open n.a.v. Dag van de Zorg. \n\n\n\n\n\n\n\n\n\n\n\n\n\n\n\n\n\n\n\n\n\n\n\n\n\n\n\nGewoonweg: Alles onder één dak / kom kennis maken met onze woonzorg\, kindzorg en thuiszorg.\n\n\n\n\nMet uiteraard randanimatie voor jong en oud. Food truck en lekkers in ’t Kaffee WZC DE WENDING en het Cafetaria in dienstencentrum Albert Van Dyck. \nOm 12 u is ons Restaurant gewoon open met dagelijkse keuzemenu’s. \nKijk hier ons volledig programma: https://www.dagvandezorg.be/organisatie/zorggroep-orion/ \n\n\n\n\nMEER INFO  014/28 40 00 secretariaat@zorggroep-orion.be of op onze Website
URL:https://zorggroep-orion.be/activiteit/dag-van-de-zorg-orion-2/
LOCATION:Dienstencentrum Albert Van Dyck\, Albert Van Dyckstraat 10\, Turnhout\, Antwerpen\, 2300\, Belgium
CATEGORIES:Goed om weten
ATTACH;FMTTYPE=image/png:https://zorggroep-orion.be/wp-content/uploads/2026/02/Kopie-van-NATUURGAARD-LDC-AVD.png
END:VEVENT
BEGIN:VEVENT
DTSTART;TZID=Europe/Brussels:20260313T150000
DTEND;TZID=Europe/Brussels:20260313T160000
DTSTAMP:20260424T233939
CREATED:20260220T095621Z
LAST-MODIFIED:20260310T202212Z
UID:10626369-1773414000-1773417600@zorggroep-orion.be
SUMMARY:WATER EN WELLNESS @ GielsBos
DESCRIPTION:Elke tweede vrijdag van de maand! \n\nWater en wellness is de perfecte ontspanning voor mensen met dementie.\nPersonen met dementie kunnen\, samen met hun begeleider\, elke maand genieten van een uurtje water en wellness in een aangepaste zwemomgeving\n\n\n\n\n€ 5 voor de persoon met dementie / begeleider zwemt gratis. \n€ 1 via kansentarief met UITpas.\n\n\nInschrijven kan via: www.turnhout.be/water-welness\n\n\nLocatie: Het GielsBos\nBelevingsbad Waterlelie\nVosselaarseweg 1 – 2275 GIERLE
URL:https://zorggroep-orion.be/activiteit/water-en-wellness-gielsbos-5/
LOCATION:Dienstencentrum Albert Van Dyck\, Albert Van Dyckstraat 10\, Turnhout\, Antwerpen\, 2300\, Belgium
CATEGORIES:Bewegen
ATTACH;FMTTYPE=image/png:https://zorggroep-orion.be/wp-content/uploads/2024/09/DEMENTIE-VRIENDELIJK-ZWEMMEN-LDCs.png
END:VEVENT
BEGIN:VEVENT
DTSTART;TZID=Europe/Brussels:20260313T133000
DTEND;TZID=Europe/Brussels:20260313T153000
DTSTAMP:20260424T233939
CREATED:20260220T095128Z
LAST-MODIFIED:20260220T095128Z
UID:10626368-1773408600-1773415800@zorggroep-orion.be
SUMMARY:DJ EDDY @ DE WISSEL
DESCRIPTION:Hou je van muziek\, luisteren in goed gezelschap\, je amuseren op de tonen van  Will Tura\, Frank Sinatra\, Elvis\, … en nog zoveel meer? Kom dan zeker langs! Heb je een verzoeknummer?  U vraagt\, Eddy draait ! \nEddy zal elke 2de vrijdag van de maand zijn DJ talenten komen tonen in De Wissel. \nIedereen is welkom!
URL:https://zorggroep-orion.be/activiteit/dj-eddy-de-wissel-3/
LOCATION:Dienstencentrum De Wissel\, Dokter Nand Peetersstraat 33\, Turnhout\, Antwerpen\, 2300\, Belgium
CATEGORIES:Muziek
ATTACH;FMTTYPE=image/jpeg:https://zorggroep-orion.be/wp-content/uploads/2025/02/DJ-Eddy-2025.jpg
END:VEVENT
BEGIN:VEVENT
DTSTART;TZID=Europe/Brussels:20260309T120000
DTEND;TZID=Europe/Brussels:20260309T133000
DTSTAMP:20260424T233939
CREATED:20260220T084547Z
LAST-MODIFIED:20260220T084547Z
UID:10626355-1773057600-1773063000@zorggroep-orion.be
SUMMARY:SPAGHETTI MET BROOD @ DE WISSEL
DESCRIPTION:Kom mee genieten van heerlijke\, zelfgemaakte spaghetti met vers brood bij LDC De Wissel! Onze fantastische vrijwilligers staan met veel liefde en enthousiasme in de keuken om deze maaltijd voor jullie klaar te maken. \nBreng familie\, vrienden of buren mee en schuif gezellig aan! \nPraktisch: \n\nInschrijven kan vanaf maandag 23/02 t.e.m 6/03  maar VOL=VOL\nSchrijf je in via De Wissel: 014 28 40 71 of dewissel@zorggroep-orion.be
URL:https://zorggroep-orion.be/activiteit/spaghetti-met-brood-de-wissel-2/
LOCATION:Dienstencentrum De Wissel\, Dokter Nand Peetersstraat 33\, Turnhout\, Antwerpen\, 2300\, Belgium
CATEGORIES:Eten & Drinken
ATTACH;FMTTYPE=image/jpeg:https://zorggroep-orion.be/wp-content/uploads/2025/05/Spaghetti-met-brood-062025.jpg
END:VEVENT
BEGIN:VEVENT
DTSTART;TZID=Europe/Brussels:20260303T140000
DTEND;TZID=Europe/Brussels:20260303T160000
DTSTAMP:20260424T233939
CREATED:20260220T094825Z
LAST-MODIFIED:20260220T094825Z
UID:10626366-1772546400-1772553600@zorggroep-orion.be
SUMMARY:PANNENKOEKEN VIBO DE BREM @ DE WISSEL
DESCRIPTION:De leerlingen van VIBO De Brem trekken weer de keuken in en bakken verse\, pannenkoeken in onze dienstencentra. Deze keer is LDC De Wissel aan de beurt! \nInschrijven is niet nodig! \nPrijs: €3\,00 voor 2 pannenkoeken
URL:https://zorggroep-orion.be/activiteit/pannenkoeken-vibo-de-brem-de-wissel-3/
LOCATION:Dienstencentrum De Wissel\, Dokter Nand Peetersstraat 33\, Turnhout\, Antwerpen\, 2300\, Belgium
CATEGORIES:Eten & Drinken
ATTACH;FMTTYPE=image/png:https://zorggroep-orion.be/wp-content/uploads/2023/03/202301-pannenkoeken.png
END:VEVENT
BEGIN:VEVENT
DTSTART;TZID=Europe/Brussels:20260302T090000
DTEND;TZID=Europe/Brussels:20260302T110000
DTSTAMP:20260424T233939
CREATED:20260220T094003Z
LAST-MODIFIED:20260220T094003Z
UID:10626361-1772442000-1772449200@zorggroep-orion.be
SUMMARY:CURSUS GENEALOGIE @ DE WISSEL
DESCRIPTION:Tijdens deze cursus krijg je de kans om de wereld van de familiekunde stap voor stap te ontdekken. Je leert hoe je aan je eigen stamboom begint\, welke historische bronnen je moet raadplegen\, je leert oud schrift lezen en hoe je het internet gebruikt voor je onderzoek. \nElke eerste en derde maandag van de maand!  \n\nmaandag 2 maart\nmaandag 16 maart
URL:https://zorggroep-orion.be/activiteit/cursus-genealogie-de-wissel-4/
LOCATION:Dienstencentrum De Wissel\, Dokter Nand Peetersstraat 33\, Turnhout\, Antwerpen\, 2300\, Belgium
CATEGORIES:Leren
ATTACH;FMTTYPE=image/jpeg:https://zorggroep-orion.be/wp-content/uploads/2023/03/act202307-Genealogie.jpg
END:VEVENT
END:VCALENDAR