BEGIN:VCALENDAR
VERSION:2.0
PRODID:-//Zorggroep Orion - ECPv6.15.17.1//NONSGML v1.0//EN
CALSCALE:GREGORIAN
METHOD:PUBLISH
X-ORIGINAL-URL:https://zorggroep-orion.be
X-WR-CALDESC:Evenementen voor Zorggroep Orion
REFRESH-INTERVAL;VALUE=DURATION:PT1H
X-Robots-Tag:noindex
X-PUBLISHED-TTL:PT1H
BEGIN:VTIMEZONE
TZID:Europe/Brussels
BEGIN:DAYLIGHT
TZOFFSETFROM:+0100
TZOFFSETTO:+0200
TZNAME:CEST
DTSTART:20250330T010000
END:DAYLIGHT
BEGIN:STANDARD
TZOFFSETFROM:+0200
TZOFFSETTO:+0100
TZNAME:CET
DTSTART:20251026T010000
END:STANDARD
BEGIN:DAYLIGHT
TZOFFSETFROM:+0100
TZOFFSETTO:+0200
TZNAME:CEST
DTSTART:20260329T010000
END:DAYLIGHT
BEGIN:STANDARD
TZOFFSETFROM:+0200
TZOFFSETTO:+0100
TZNAME:CET
DTSTART:20261025T010000
END:STANDARD
BEGIN:DAYLIGHT
TZOFFSETFROM:+0100
TZOFFSETTO:+0200
TZNAME:CEST
DTSTART:20270328T010000
END:DAYLIGHT
BEGIN:STANDARD
TZOFFSETFROM:+0200
TZOFFSETTO:+0100
TZNAME:CET
DTSTART:20271031T010000
END:STANDARD
END:VTIMEZONE
BEGIN:VEVENT
DTSTART;TZID=Europe/Brussels:20260529T090000
DTEND;TZID=Europe/Brussels:20260605T170000
DTSTAMP:20260424T225716
CREATED:20260420T070511Z
LAST-MODIFIED:20260420T185507Z
UID:10627137-1780045200-1780678800@zorggroep-orion.be
SUMMARY:FOTOZOEKTOCHT 'THUIS IN TURNHOUT' @ Dienstencentra
DESCRIPTION:Fotozoektocht voor iedereen!\nWij organiseren een leuke en toegankelijke fotozoektocht voor iedereen: jong en oud\, groot en klein\, mobiel en minder mobiel. Iedereen is welkom om deel te nemen!\nDe zoektocht speelt zich af tussen drie dienstencentra (Albert Van Dyck\, De Schoor en De Wissel). Onderweg kan je telkens even pauzeren en genieten van iets lekkers. \nJe kan kiezen tussen twee soorten fotozoektochten:\n\nWandel- of fietszoektocht: een traject tussen de drie dienstencentra\, met foto’s die je onderweg moet terugvinden.\n\nKorte fotozoektocht: deze vindt plaats aan en rond de drie dienstencentra.\n\n\nZo kan iedereen op zijn eigen tempo deelnemen en gezellig samen zoeken én genieten.\nPraktische info:\n\nVan vrijdag 29 mei t.e.m. vrijdag 5 juni\nElke namiddag tussen 14u en 17u\n\nDeelnameformulieren liggen klaar in elk lokaal dienstencentrum.\nHeb je vervoer nodig tussen de dienstencentra? Laat dit dan vooraf even weten (dag en uur)\, dan zorgen wij voor een oplossing.\n \nHet wordt een fijne samenwerking tussen:\nZorggroep Orion\nFotoclub Turnhout\nSeniorenraad Turnhout\nStad Turnhout (Thuis in Turnhout)
URL:https://zorggroep-orion.be/activiteit/fotozoektocht-thuis-in-turnhout-3-dienstencentra/
LOCATION:Dienstencentrum Albert Van Dyck\, Albert Van Dyckstraat 10\, Turnhout\, Antwerpen\, 2300\, Belgium
CATEGORIES:Recreatie
ATTACH;FMTTYPE=image/png:https://zorggroep-orion.be/wp-content/uploads/2026/04/FOTOZOEKTOCHT-MEI-LDC-s-2026.png
END:VEVENT
END:VCALENDAR