BEGIN:VCALENDAR
VERSION:2.0
PRODID:-//Zorggroep Orion - ECPv6.15.17.1//NONSGML v1.0//EN
CALSCALE:GREGORIAN
METHOD:PUBLISH
X-ORIGINAL-URL:https://zorggroep-orion.be
X-WR-CALDESC:Evenementen voor Zorggroep Orion
REFRESH-INTERVAL;VALUE=DURATION:PT1H
X-Robots-Tag:noindex
X-PUBLISHED-TTL:PT1H
BEGIN:VTIMEZONE
TZID:Europe/Brussels
BEGIN:DAYLIGHT
TZOFFSETFROM:+0100
TZOFFSETTO:+0200
TZNAME:CEST
DTSTART:20230326T010000
END:DAYLIGHT
BEGIN:STANDARD
TZOFFSETFROM:+0200
TZOFFSETTO:+0100
TZNAME:CET
DTSTART:20231029T010000
END:STANDARD
BEGIN:DAYLIGHT
TZOFFSETFROM:+0100
TZOFFSETTO:+0200
TZNAME:CEST
DTSTART:20240331T010000
END:DAYLIGHT
BEGIN:STANDARD
TZOFFSETFROM:+0200
TZOFFSETTO:+0100
TZNAME:CET
DTSTART:20241027T010000
END:STANDARD
BEGIN:DAYLIGHT
TZOFFSETFROM:+0100
TZOFFSETTO:+0200
TZNAME:CEST
DTSTART:20250330T010000
END:DAYLIGHT
BEGIN:STANDARD
TZOFFSETFROM:+0200
TZOFFSETTO:+0100
TZNAME:CET
DTSTART:20251026T010000
END:STANDARD
BEGIN:DAYLIGHT
TZOFFSETFROM:+0100
TZOFFSETTO:+0200
TZNAME:CEST
DTSTART:20260329T010000
END:DAYLIGHT
BEGIN:STANDARD
TZOFFSETFROM:+0200
TZOFFSETTO:+0100
TZNAME:CET
DTSTART:20261025T010000
END:STANDARD
END:VTIMEZONE
BEGIN:VEVENT
DTSTART;TZID=Europe/Brussels:20250604T140000
DTEND;TZID=Europe/Brussels:20250604T160000
DTSTAMP:20260425T145345
CREATED:20250522T095902Z
LAST-MODIFIED:20250522T095902Z
UID:10618638-1749045600-1749052800@zorggroep-orion.be
SUMMARY:Zitdag belastingen
DESCRIPTION:Luc Debondt komt ons helpen bij het invullen van onze belastingen.\nMeld je even aan bij de medewerkers. \nMeebrengen: Identiteitskaart (ben je gehuwd heb je de 2 kaarten nodig) en pincode \n 
URL:https://zorggroep-orion.be/activiteit/zitdag-belastingen/
LOCATION:Dienstencentrum De Schoor\, Schorvoortstraat 53\, Turnhout\, 2300
CATEGORIES:Dienstverlening
ATTACH;FMTTYPE=image/png:https://zorggroep-orion.be/wp-content/uploads/2024/05/BELASTINGEN-06-2024.png
END:VEVENT
BEGIN:VEVENT
DTSTART;TZID=Europe/Brussels:20250530T133000
DTEND;TZID=Europe/Brussels:20250530T170000
DTSTAMP:20260425T145345
CREATED:20250417T200152Z
LAST-MODIFIED:20250417T200152Z
UID:10617224-1748611800-1748624400@zorggroep-orion.be
SUMMARY:Ons Café is OPEN
DESCRIPTION:
URL:https://zorggroep-orion.be/activiteit/ons-cafe-is-open/
LOCATION:Dienstencentrum De Schoor\, Schorvoortstraat 53\, Turnhout\, 2300
CATEGORIES:Dienstverlening
ATTACH;FMTTYPE=image/png:https://zorggroep-orion.be/wp-content/uploads/2025/04/wij-zijn-open-2.png
END:VEVENT
BEGIN:VEVENT
DTSTART;TZID=Europe/Brussels:20250529T133000
DTEND;TZID=Europe/Brussels:20250529T170000
DTSTAMP:20260425T145345
CREATED:20250417T194533Z
LAST-MODIFIED:20250417T194953Z
UID:10617221-1748525400-1748538000@zorggroep-orion.be
SUMMARY:Ons Café is OPEN
DESCRIPTION:
URL:https://zorggroep-orion.be/activiteit/ons-cafe-is-open-2/
LOCATION:Dienstencentrum De Schoor\, Schorvoortstraat 53\, Turnhout\, 2300
CATEGORIES:Dienstverlening
ATTACH;FMTTYPE=image/png:https://zorggroep-orion.be/wp-content/uploads/2025/04/wij-zijn-open-1.png
END:VEVENT
BEGIN:VEVENT
DTSTART;TZID=Europe/Brussels:20250524T133000
DTEND;TZID=Europe/Brussels:20250524T170000
DTSTAMP:20260425T145345
CREATED:20250418T112658Z
LAST-MODIFIED:20250418T112658Z
UID:10618026-1748093400-1748106000@zorggroep-orion.be
SUMMARY:Dag van de Buren
DESCRIPTION:Speciaal op deze Dag van de Buren verkopen we buiten ons gebruikelijk assortiment ook \n\npotje Advocaat (met of zonder slagroom):             €2\nCoupe Vanille (met of zonder slagroom):               €3\nCoupe Dame Blanche (met of zonder slagroom): €3\n\nLaat je – samen met je buur(man/vrouw) – FOTOGRAFEREN en krijg een bonnetje voor een GRATIS coupe naar keuze. \nIn onze Foyer (inkomhal) kan je komen spelen met onze Sjoelbak of Cornhole Set. \nVan 14u tot 17u zullen de accordeonisten de boel muzikaal opvrolijken.
URL:https://zorggroep-orion.be/activiteit/dag-van-de-buren/
LOCATION:Dienstencentrum De Schoor\, Schorvoortstraat 53\, Turnhout\, 2300
CATEGORIES:Eten & Drinken,Feest
ATTACH;FMTTYPE=image/png:https://zorggroep-orion.be/wp-content/uploads/2025/04/Insectenhotel-4.png
END:VEVENT
BEGIN:VEVENT
DTSTART;TZID=Europe/Brussels:20250522T133000
DTEND;TZID=Europe/Brussels:20250522T170000
DTSTAMP:20260425T145345
CREATED:20250418T111427Z
LAST-MODIFIED:20250418T111427Z
UID:10618025-1747920600-1747933200@zorggroep-orion.be
SUMMARY:Standje van Imker Herman Sas uit Schorvoort
DESCRIPTION:Imker Herman uit Schorvoort zal aanwezig zijn met een beperkt infostandje voor iedereen die graag wat meer weet over de bijtjes en de lekkere honing die ze produceren. \nEr zal ook de mogelijkheid zijn om de honingen te kopen bij hem.
URL:https://zorggroep-orion.be/activiteit/standje-van-imker-herman-sas-uit-schorvoort/
LOCATION:Dienstencentrum De Schoor\, Schorvoortstraat 53\, Turnhout\, 2300
CATEGORIES:Dienstverlening,Infosessie
ATTACH;FMTTYPE=image/png:https://zorggroep-orion.be/wp-content/uploads/2025/04/Insectenhotel-3-e1744974845676.png
END:VEVENT
BEGIN:VEVENT
DTSTART;TZID=Europe/Brussels:20250522T133000
DTEND;TZID=Europe/Brussels:20250522T170000
DTSTAMP:20260425T145345
CREATED:20250417T212444Z
LAST-MODIFIED:20250417T213532Z
UID:10617756-1747920600-1747933200@zorggroep-orion.be
SUMMARY:Crea: Insectenhotel
DESCRIPTION:Vandaag werken we verder aan ons insectenhotel. \nZin om mee te komen doen?  IEDEREEN WELKOM! \nInschrijven bij de medewerkers van De Schoor: 014/28.40.72 of deschoor@zorggroep-orion.be \n€2/pers. Indien je 8/5 al deel nam\, moet je nu niet meer betalen.
URL:https://zorggroep-orion.be/activiteit/crea-insectenhotel-2/
LOCATION:Dienstencentrum De Schoor\, Schorvoortstraat 53\, Turnhout\, 2300
CATEGORIES:Workshop
ATTACH;FMTTYPE=image/png:https://zorggroep-orion.be/wp-content/uploads/2025/04/Insectenhotel.png
END:VEVENT
BEGIN:VEVENT
DTSTART;TZID=Europe/Brussels:20250521T190000
DTEND;TZID=Europe/Brussels:20250521T210000
DTSTAMP:20260425T145345
CREATED:20250417T205822Z
LAST-MODIFIED:20250417T205822Z
UID:10617753-1747854000-1747861200@zorggroep-orion.be
SUMMARY:Kennismakingsles - Werelddans
DESCRIPTION:Dansen voor het plezier\, maar wel met de nodige stijl\, is het motto van de Koninklijke Dansgroep Zonne. \nZe komen in de maand mei 3 kennismakingslessen geven in De Schoor; 7\, 14 en 21 mei. \nDoor de ruimte is het aantal deelnemers beperkt. \nInschrijven bij de medewerkers van De Schoor: 014/28.40.72 of deschoor@zorggroep-orion.be \n3€/persoon/les
URL:https://zorggroep-orion.be/activiteit/kennismakingsles-werelddans-2/
LOCATION:Dienstencentrum De Schoor\, Schorvoortstraat 53\, Turnhout\, 2300
CATEGORIES:Bewegen
ATTACH;FMTTYPE=image/png:https://zorggroep-orion.be/wp-content/uploads/2025/04/177ce60f-72a4-483f-9b1f-9680dc75bae1.png
END:VEVENT
BEGIN:VEVENT
DTSTART;TZID=Europe/Brussels:20250521T090000
DTEND;TZID=Europe/Brussels:20250521T120000
DTSTAMP:20260425T145345
CREATED:20250418T105352Z
LAST-MODIFIED:20250418T105758Z
UID:10618021-1747818000-1747828800@zorggroep-orion.be
SUMMARY:Peuterspeelpunt
DESCRIPTION:Een ontmoetingsruimte waar mama’s\, papa’s\, grootouders en begeleiders met jongen kinderen tot 3 jaar samen komen spelen en sporten. De kindjes kunnen in een speelpunt wennen aan andere kinderen\, een andere omgeving en andere volwassenen. Zo wordt de stap naar de kleuterschool kleiner. Ouders krijgen de kans om andere ouders te ontmoeten. Met vragen kan je terecht bij de begeleiders. \nDe kindjes krijgen een lekker stukje fruit en een glaasje water. Ouders\, grootouders en begeleiders krijgen koffie of thee. \n  \nTijdens vakanties zijn wij wat flexibeler met de leeftijdgrens.\nBroertjes en zusjes (kleuters tot 6 jaar) van onze bezoekers mogen dan mee naar het Peuterspeelpunt komen.
URL:https://zorggroep-orion.be/activiteit/peuterspeelpunt-2/
LOCATION:Dienstencentrum De Schoor\, Schorvoortstraat 53\, Turnhout\, 2300
CATEGORIES:Dienstverlening
ATTACH;FMTTYPE=image/jpeg:https://zorggroep-orion.be/wp-content/uploads/2023/07/act202307-Peuterspeelpunt.jpg
END:VEVENT
BEGIN:VEVENT
DTSTART;TZID=Europe/Brussels:20250519T120000
DTEND;TZID=Europe/Brussels:20250519T140000
DTSTAMP:20260425T145345
CREATED:20250418T102736Z
LAST-MODIFIED:20260407T115541Z
UID:10617758-1747656000-1747663200@zorggroep-orion.be
SUMMARY:Aspergesoep met (kruiden)stokbrood
DESCRIPTION:De tijd van de asperges is weer aangebroken. \nOnze vrijwilligster Mia maakt voor jullie haar lekkerste aspergesoep klaar.  We serveren deze met gewoon- of kruidenstokbrood. \n€5/pers.   De plaatsen zijn beperkt! \nInschrijven bij de medewerkers van De Schoor:014/28.40.72 of deschoor@zorggroep-orion.be
URL:https://zorggroep-orion.be/activiteit/aspergesoep-met-kruidenstokbrood/
LOCATION:Dienstencentrum De Schoor\, Schorvoortstraat 53\, Turnhout\, 2300
CATEGORIES:Eten & Drinken
ATTACH;FMTTYPE=image/png:https://zorggroep-orion.be/wp-content/uploads/2025/04/Insectenhotel-1-e1744972046499.png
END:VEVENT
BEGIN:VEVENT
DTSTART;TZID=Europe/Brussels:20250514T190000
DTEND;TZID=Europe/Brussels:20250514T210000
DTSTAMP:20260425T145345
CREATED:20250417T205744Z
LAST-MODIFIED:20250417T205744Z
UID:10617752-1747249200-1747256400@zorggroep-orion.be
SUMMARY:Kennismakingsles - Werelddans
DESCRIPTION:Dansen voor het plezier\, maar wel met de nodige stijl\, is het motto van de Koninklijke Dansgroep Zonne. \nZe komen in de maand mei 3 kennismakingslessen geven in De Schoor; 7\, 14 en 21 mei. \nDoor de ruimte is het aantal deelnemers beperkt. \nInschrijven bij de medewerkers van De Schoor: 014/28.40.72 of deschoor@zorggroep-orion.be \n3€/persoon/les
URL:https://zorggroep-orion.be/activiteit/kennismakingsles-werelddans/
LOCATION:Dienstencentrum De Schoor\, Schorvoortstraat 53\, Turnhout\, 2300
CATEGORIES:Bewegen
ATTACH;FMTTYPE=image/png:https://zorggroep-orion.be/wp-content/uploads/2025/04/177ce60f-72a4-483f-9b1f-9680dc75bae1.png
END:VEVENT
BEGIN:VEVENT
DTSTART;TZID=Europe/Brussels:20250514T090000
DTEND;TZID=Europe/Brussels:20250514T120000
DTSTAMP:20260425T145345
CREATED:20250418T110405Z
LAST-MODIFIED:20250418T110405Z
UID:10618023-1747213200-1747224000@zorggroep-orion.be
SUMMARY:Peuterspeelpunt
DESCRIPTION:Een ontmoetingsruimte waar mama’s\, papa’s\, grootouders en begeleiders met jongen kinderen tot 3 jaar samen komen spelen en sporten. De kindjes kunnen in een speelpunt wennen aan andere kinderen\, een andere omgeving en andere volwassenen. Zo wordt de stap naar de kleuterschool kleiner. Ouders krijgen de kans om andere ouders te ontmoeten. Met vragen kan je terecht bij de begeleiders. \nDe kindjes krijgen een lekker stukje fruit en een glaasje water. Ouders\, grootouders en begeleiders krijgen koffie of thee. \n  \nTijdens vakanties zijn wij wat flexibeler met de leeftijdgrens.\nBroertjes en zusjes (kleuters tot 6 jaar) van onze bezoekers mogen dan mee naar het Peuterspeelpunt komen.
URL:https://zorggroep-orion.be/activiteit/peuterspeelpunt-7/
LOCATION:Dienstencentrum De Schoor\, Schorvoortstraat 53\, Turnhout\, 2300
CATEGORIES:Dienstverlening
ATTACH;FMTTYPE=image/jpeg:https://zorggroep-orion.be/wp-content/uploads/2023/07/act202307-Peuterspeelpunt.jpg
END:VEVENT
BEGIN:VEVENT
DTSTART;TZID=Europe/Brussels:20250507T190000
DTEND;TZID=Europe/Brussels:20250507T210000
DTSTAMP:20260425T145345
CREATED:20250417T205550Z
LAST-MODIFIED:20250417T205550Z
UID:10617751-1746644400-1746651600@zorggroep-orion.be
SUMMARY:Kennismakingsles - Werelddans
DESCRIPTION:Dansen voor het plezier\, maar wel met de nodige stijl\, is het motto van de Koninklijke Dansgroep Zonne. \nZe komen in de maand mei 3 kennismakingslessen geven in De Schoor; 7\, 14 en 21 mei. \nDoor de ruimte is het aantal deelnemers beperkt. \nInschrijven bij de medewerkers van De Schoor: 014/28.40.72 of deschoor@zorggroep-orion.be \n3€/persoon/les
URL:https://zorggroep-orion.be/activiteit/kennismakingsles-werelddans-3/
LOCATION:Dienstencentrum De Schoor\, Schorvoortstraat 53\, Turnhout\, 2300
CATEGORIES:Bewegen
ATTACH;FMTTYPE=image/png:https://zorggroep-orion.be/wp-content/uploads/2025/04/177ce60f-72a4-483f-9b1f-9680dc75bae1.png
END:VEVENT
BEGIN:VEVENT
DTSTART;TZID=Europe/Brussels:20250507T090000
DTEND;TZID=Europe/Brussels:20250507T120000
DTSTAMP:20260425T145345
CREATED:20250418T110333Z
LAST-MODIFIED:20250418T110333Z
UID:10618022-1746608400-1746619200@zorggroep-orion.be
SUMMARY:Peuterspeelpunt
DESCRIPTION:Een ontmoetingsruimte waar mama’s\, papa’s\, grootouders en begeleiders met jongen kinderen tot 3 jaar samen komen spelen en sporten. De kindjes kunnen in een speelpunt wennen aan andere kinderen\, een andere omgeving en andere volwassenen. Zo wordt de stap naar de kleuterschool kleiner. Ouders krijgen de kans om andere ouders te ontmoeten. Met vragen kan je terecht bij de begeleiders. \nDe kindjes krijgen een lekker stukje fruit en een glaasje water. Ouders\, grootouders en begeleiders krijgen koffie of thee. \n  \nTijdens vakanties zijn wij wat flexibeler met de leeftijdgrens.\nBroertjes en zusjes (kleuters tot 6 jaar) van onze bezoekers mogen dan mee naar het Peuterspeelpunt komen.
URL:https://zorggroep-orion.be/activiteit/peuterspeelpunt/
LOCATION:Dienstencentrum De Schoor\, Schorvoortstraat 53\, Turnhout\, 2300
CATEGORIES:Dienstverlening
ATTACH;FMTTYPE=image/jpeg:https://zorggroep-orion.be/wp-content/uploads/2023/07/act202307-Peuterspeelpunt.jpg
END:VEVENT
BEGIN:VEVENT
DTSTART;TZID=Europe/Brussels:20250424T093000
DTEND;TZID=Europe/Brussels:20250424T113000
DTSTAMP:20260425T145345
CREATED:20240924T150026Z
LAST-MODIFIED:20250321T114904Z
UID:10611312-1745487000-1745494200@zorggroep-orion.be
SUMMARY:Infosessie: voorkom vallen door ARZO
DESCRIPTION:Voorkom vallen bij ouderen. \nEen op drie thuiswonende ouderen en meer dan de helft van de ouderen in woonzorgcentra valt minstens één keer per jaar. Nochtans kun je zelf veel doen om het risico op vallen te verminderen. \nErgotherapeut Kaat Van Roey gaat tijdens deze infosessie in op de belangrijkste risico’s voor vallen en geeft tips om valincidenten te voorkomen. Zelfredzaamheid en autonomie behouden en zo langer thuis blijven wonen vormen de rode draad doorheen deze infosessie. \nGratis en vrijblijvende infosessie (opgelet\, de plaatsen zijn beperkt) \nInschrijven via activiteiten@praktijkarzo.be
URL:https://zorggroep-orion.be/activiteit/infosessie-slaapcoach-i-s-m-arzo/
LOCATION:Dienstencentrum De Schoor\, Schorvoortstraat 53\, Turnhout\, 2300
CATEGORIES:Infosessie
ATTACH;FMTTYPE=image/png:https://zorggroep-orion.be/wp-content/uploads/2024/09/arzo-1.png
END:VEVENT
BEGIN:VEVENT
DTSTART;VALUE=DATE:20250421
DTEND;VALUE=DATE:20250422
DTSTAMP:20260425T145345
CREATED:20250321T110437Z
LAST-MODIFIED:20250321T110437Z
UID:10615844-1745193600-1745279999@zorggroep-orion.be
SUMMARY:Paasmaandag: De Schoor is gesloten
DESCRIPTION:Op feestdagen is De Schoor gesloten. \nDus geen café in de namiddag.
URL:https://zorggroep-orion.be/activiteit/paasmaandag-de-schoor-is-gesloten/
LOCATION:Dienstencentrum De Schoor\, Schorvoortstraat 53\, Turnhout\, 2300
CATEGORIES:Goed om weten
ATTACH;FMTTYPE=image/jpeg:https://zorggroep-orion.be/wp-content/uploads/2023/10/ACT-202311-GESLOTEN.jpg
END:VEVENT
BEGIN:VEVENT
DTSTART;TZID=Europe/Brussels:20250419T090000
DTEND;TZID=Europe/Brussels:20250426T170000
DTSTAMP:20260425T145345
CREATED:20240320T120618Z
LAST-MODIFIED:20250425T133602Z
UID:10615843-1745053200-1745686800@zorggroep-orion.be
SUMMARY:Paaseierenzoektocht
DESCRIPTION:Tijdens de paasvakantie organiseren we in De Schoor een gratis paaseierenzoektocht voor jong en oud! Zoek de paaseieren die verspreid zijn in en rond ons dienstencentrum. De zoekformulieren kan je verkrijgen bij de medewerkers of de vrijwilligers. Het ingevulde blad kan je komen omruilen voor een zakje lekkere paaseitjes. \nDe zoektocht loopt van maandag 7 april tot en met zaterdag 19 april tijdens de openingsuren van het dienstencentrum.
URL:https://zorggroep-orion.be/activiteit/paaseierenzoektocht/2025-04-19/
LOCATION:Dienstencentrum De Schoor\, Schorvoortstraat 53\, Turnhout\, 2300
CATEGORIES:Recreatie
ATTACH;FMTTYPE=image/jpeg:https://zorggroep-orion.be/wp-content/uploads/2024/03/act202404-paaszoektocht.jpg
END:VEVENT
BEGIN:VEVENT
DTSTART;TZID=Europe/Brussels:20250417T133000
DTEND;TZID=Europe/Brussels:20250417T170000
DTSTAMP:20260425T145345
CREATED:20250321T121711Z
LAST-MODIFIED:20250321T121711Z
UID:10615850-1744896600-1744909200@zorggroep-orion.be
SUMMARY:Crea: vogelhuisjes maken
DESCRIPTION:Vandaag maken we met de creagroep vogelhuisjes uit kurkenstoppen. Kom jij mee knutselen? \nGratis.
URL:https://zorggroep-orion.be/activiteit/crea-vogelhuisjes-maken/
LOCATION:Dienstencentrum De Schoor\, Schorvoortstraat 53\, Turnhout\, 2300
CATEGORIES:Workshop
ATTACH;FMTTYPE=image/png:https://zorggroep-orion.be/wp-content/uploads/2025/03/act.-202504-crea-vogelhuisjes.png
END:VEVENT
BEGIN:VEVENT
DTSTART;TZID=Europe/Brussels:20250330T100000
DTEND;TZID=Europe/Brussels:20250330T170000
DTSTAMP:20260425T145345
CREATED:20240215T083833Z
LAST-MODIFIED:20250224T183613Z
UID:10608545-1743328800-1743354000@zorggroep-orion.be
SUMMARY:Garageverkoop Schorvoort - Café hele dag open
DESCRIPTION:Zondag 30 maart is het in heel Schorvoort garageverkoop. Die dag kan je in ons café langskomen voor een drankje of voor een lekker tasje soep met brood (van 10u tot 17u) \nHeb je zelf geen garage/oprit om je spullen te verkopen? Reserveer dan je plaatsje aan De Schoor. \n 
URL:https://zorggroep-orion.be/activiteit/garageverkoop-schorvoort-cafe-hele-dag-open/
LOCATION:Dienstencentrum De Schoor\, Schorvoortstraat 53\, Turnhout\, 2300
CATEGORIES:Eten & Drinken
ATTACH;FMTTYPE=image/jpeg:https://zorggroep-orion.be/wp-content/uploads/2024/02/act202403-garageverkoop.jpg
END:VEVENT
BEGIN:VEVENT
DTSTART;TZID=Europe/Brussels:20250328T133000
DTEND;TZID=Europe/Brussels:20250328T170000
DTSTAMP:20260425T145345
CREATED:20250122T105317Z
LAST-MODIFIED:20250122T105317Z
UID:10615525-1743168600-1743181200@zorggroep-orion.be
SUMMARY:Nieuwe tentoonstelling in De Schoor
DESCRIPTION:Vanaf zondag 2 februari kunnen jullie de nieuwe tentoonstelling komen bewonderen. Deze keer stellen Jakke Jacobs en Marc Vanhellemont tentoon. Iedereen welkom tijdens de openingsuren van het dienstencentrum.
URL:https://zorggroep-orion.be/activiteit/nieuwe-tentoonstelling-in-de-schoor/2025-03-28/
LOCATION:Dienstencentrum De Schoor\, Schorvoortstraat 53\, Turnhout\, 2300
CATEGORIES:Tentoonstelling
ATTACH;FMTTYPE=image/png:https://zorggroep-orion.be/wp-content/uploads/2025/01/act.-202502-nieuwe-tentoonstelling.png
END:VEVENT
BEGIN:VEVENT
DTSTART;TZID=Europe/Brussels:20250214T133000
DTEND;TZID=Europe/Brussels:20250214T170000
DTSTAMP:20260425T145345
CREATED:20250122T142218Z
LAST-MODIFIED:20250122T142218Z
UID:10615585-1739539800-1739552400@zorggroep-orion.be
SUMMARY:Valentijnsgebakje met koffie in De Schoor
DESCRIPTION:Met Valentijn kan je in de namiddag een lekker gebakje krijgen met een tasje koffie tijdens de openingsuren van ons café. Wil je zeker zijn van jouw stukje\, reserveer het dan bij de medewerkers.
URL:https://zorggroep-orion.be/activiteit/valentijnsgebakje-met-koffie-in-de-schoor/
LOCATION:Dienstencentrum De Schoor\, Schorvoortstraat 53\, Turnhout\, 2300
CATEGORIES:Eten & Drinken
ATTACH;FMTTYPE=image/jpeg:https://zorggroep-orion.be/wp-content/uploads/2025/01/Valentijnsgebakje-02-2025.jpg
END:VEVENT
BEGIN:VEVENT
DTSTART;TZID=Europe/Brussels:20250214T120000
DTEND;TZID=Europe/Brussels:20250214T133000
DTSTAMP:20260425T145345
CREATED:20250122T095643Z
LAST-MODIFIED:20250122T095643Z
UID:10615470-1739534400-1739539800@zorggroep-orion.be
SUMMARY:Frikadellen met krieken en brood
DESCRIPTION:Kom genieten van lekkere frikadellen met krieken en brood in ons dienstencentrum.\nInschrijven vanaf maandag 27 januari tot woensdag 12 februari (of tot de plaatsen volzet zijn). 
URL:https://zorggroep-orion.be/activiteit/frikadellen-met-krieken-en-brood/
LOCATION:Dienstencentrum De Schoor\, Schorvoortstraat 53\, Turnhout\, 2300
CATEGORIES:Eten & Drinken
ATTACH;FMTTYPE=image/png:https://zorggroep-orion.be/wp-content/uploads/2023/03/act-202306-balletjes-met-krieken.png
END:VEVENT
BEGIN:VEVENT
DTSTART;TZID=Europe/Brussels:20250212T100000
DTEND;TZID=Europe/Brussels:20250212T170000
DTSTAMP:20260425T145345
CREATED:20250124T084732Z
LAST-MODIFIED:20250124T084732Z
UID:10615588-1739354400-1739379600@zorggroep-orion.be
SUMMARY:1 jaar Antennepunt 7Donk
DESCRIPTION:Woensdag 12 februari is iedereen welkom in ons antennepunt van 10u tot 17u.\nJe kan inschrijven voor onze resto ’s middags. Dit kan je tot ten laatste maandag 12u.\nElke bezoeker krijgt die dag een gratis stukje taart.
URL:https://zorggroep-orion.be/activiteit/1-jaar-antennepunt-7donk/
LOCATION:Dienstencentrum De Schoor\, Schorvoortstraat 53\, Turnhout\, 2300
CATEGORIES:Feest
ATTACH;FMTTYPE=image/png:https://zorggroep-orion.be/wp-content/uploads/2025/01/1-jaar-antennepunt.png
END:VEVENT
BEGIN:VEVENT
DTSTART;TZID=Europe/Brussels:20250129T093000
DTEND;TZID=Europe/Brussels:20250129T120000
DTSTAMP:20260425T145345
CREATED:20240215T125722Z
LAST-MODIFIED:20250820T115123Z
UID:10608551-1738143000-1738152000@zorggroep-orion.be
SUMMARY:Cursus kalligrafie
DESCRIPTION:Tijdens deze lessenreeks van 6 lessen leer je de\nbasisprincipes van het kalligraferen. Het materiaal dat je\nnodig hebt zit mee inbegrepen in de prijs (je moet enkel\neen onderlegger en eventueel een schort meebrengen).\nLessen: 17/9\, 1/10\, 15/10\, 29/10\, 12/11 en 26/11.
URL:https://zorggroep-orion.be/activiteit/cursus-kalligrafie-7/
LOCATION:Dienstencentrum De Schoor\, Schorvoortstraat 53\, Turnhout\, 2300
CATEGORIES:Leren
ATTACH;FMTTYPE=image/jpeg:https://zorggroep-orion.be/wp-content/uploads/2023/07/act202307-Kalligrafie.jpg
END:VEVENT
BEGIN:VEVENT
DTSTART;TZID=Europe/Brussels:20250123T140000
DTEND;TZID=Europe/Brussels:20250123T170000
DTSTAMP:20260425T145345
CREATED:20240918T091308Z
LAST-MODIFIED:20241219T130035Z
UID:10611250-1737640800-1737651600@zorggroep-orion.be
SUMMARY:Crea: deurstoppers uit stof
DESCRIPTION:Tijdens onze crea maken we deze keer deurstoppers. Uit stof maak je zelf een prachtexemplaar. Kom jij ook?
URL:https://zorggroep-orion.be/activiteit/crea-eierhouder-uit-klei/
LOCATION:Dienstencentrum De Schoor\, Schorvoortstraat 53\, Turnhout\, 2300
CATEGORIES:Workshop
ATTACH;FMTTYPE=image/png:https://zorggroep-orion.be/wp-content/uploads/2024/09/deurstoppers.png
END:VEVENT
BEGIN:VEVENT
DTSTART;TZID=Europe/Brussels:20250114T173000
DTEND;TZID=Europe/Brussels:20250114T200000
DTSTAMP:20260425T145345
CREATED:20241219T123742Z
LAST-MODIFIED:20241219T123742Z
UID:10615432-1736875800-1736884800@zorggroep-orion.be
SUMMARY:Infoavond wijkrenovatie Den Brand
DESCRIPTION:Woonboog en Stad Turnhout vernieuwen samen de oudste\ndelen van Den Brand. Meer info hierover op de infoavond in\nDe Schoor.
URL:https://zorggroep-orion.be/activiteit/infoavond-wijkrenovatie-den-brand/
LOCATION:Dienstencentrum De Schoor\, Schorvoortstraat 53\, Turnhout\, 2300
CATEGORIES:Infosessie
ATTACH;FMTTYPE=image/png:https://zorggroep-orion.be/wp-content/uploads/2024/12/infoavond-wijkrenovatie-den-brand.png
END:VEVENT
BEGIN:VEVENT
DTSTART;TZID=Europe/Brussels:20250113T170000
DTEND;TZID=Europe/Brussels:20250113T183000
DTSTAMP:20260425T145345
CREATED:20231122T144039Z
LAST-MODIFIED:20241219T123338Z
UID:10607578-1736787600-1736793000@zorggroep-orion.be
SUMMARY:Verloren maandag @ De Schoor
DESCRIPTION:Verloren maandag is een traditie! Wij houden deze in ere en smullen graag mee. Maak bij inschrijving je keuze max. 2 stuks: worstenbrood en/of appelbol. Inclusief een tasje thee of koffie. \nInschrijven kan vanaf maandag 30 december tot en met maandag 6 januari of tot het volzet is.
URL:https://zorggroep-orion.be/activiteit/verloren-maandag-de-schoor/
LOCATION:Dienstencentrum De Schoor\, Schorvoortstraat 53\, Turnhout\, 2300
CATEGORIES:Eten & Drinken
ATTACH;FMTTYPE=image/jpeg:https://zorggroep-orion.be/wp-content/uploads/2023/11/act202401-verloren-maandag.jpg
END:VEVENT
BEGIN:VEVENT
DTSTART;TZID=Europe/Brussels:20250108T133000
DTEND;TZID=Europe/Brussels:20250108T160000
DTSTAMP:20260425T145345
CREATED:20241014T120447Z
LAST-MODIFIED:20241219T121555Z
UID:10611337-1736343000-1736352000@zorggroep-orion.be
SUMMARY:Turnhout in beeld door Jan Meeusen: sessie 3
DESCRIPTION:Aan de hand van vele historische etsen en foto’s word je meegenomen op een wandeling doorheen Turnhout. Deze keer gaan we het hebben over de 11 molens die in Turnhout staan/stonden en de Turnhoutse (rijkelijke) buitenhoven\, waarvan er toch een groot aantal behouden zijn gebleven. De rode draad door de voorstelling is de interactiviteit met het publiek\, want bij iedere foto wordt de gelegenheid gegeven om de gebouwen te benoemen\, wat al snel nostalgische verhalen naar boven brengt. \nInschrijven kan via de medewerkers.
URL:https://zorggroep-orion.be/activiteit/turnhout-in-beeld-door-jan-meeusen/
LOCATION:Dienstencentrum De Schoor\, Schorvoortstraat 53\, Turnhout\, 2300
CATEGORIES:Infosessie
ATTACH;FMTTYPE=image/png:https://zorggroep-orion.be/wp-content/uploads/2023/01/Turnhout-vroeger-LDC-AVD.png
END:VEVENT
BEGIN:VEVENT
DTSTART;TZID=Europe/Brussels:20250106T133000
DTEND;TZID=Europe/Brussels:20250106T170000
DTSTAMP:20260425T145345
CREATED:20241219T110742Z
LAST-MODIFIED:20241219T110742Z
UID:10615431-1736170200-1736182800@zorggroep-orion.be
SUMMARY:Driekoningen zingen
DESCRIPTION:We nodigen de kindjes uit om driekoningen te komen\nzingen voor onze bezoekers. Onze vrijwilligers van het\ncafé hebben iets lekkers klaarliggen voor hen.
URL:https://zorggroep-orion.be/activiteit/driekoningen-zingen/
LOCATION:Dienstencentrum De Schoor\, Schorvoortstraat 53\, Turnhout\, 2300
CATEGORIES:Muziek
ATTACH;FMTTYPE=image/png:https://zorggroep-orion.be/wp-content/uploads/2024/12/Driekoningen-zingen-website.png
END:VEVENT
BEGIN:VEVENT
DTSTART;VALUE=DATE:20250101
DTEND;VALUE=DATE:20250102
DTSTAMP:20260425T145345
CREATED:20241017T115537Z
LAST-MODIFIED:20241219T110332Z
UID:10611341-1735689600-1735775999@zorggroep-orion.be
SUMMARY:Nieuwjaar: gesloten
DESCRIPTION:Op woensdag 1 januari is De Schoor gesloten.
URL:https://zorggroep-orion.be/activiteit/wapenstilstand-gesloten/
LOCATION:Dienstencentrum De Schoor\, Schorvoortstraat 53\, Turnhout\, 2300
CATEGORIES:Dienstverlening
ATTACH;FMTTYPE=image/jpeg:https://zorggroep-orion.be/wp-content/uploads/2023/10/ACT-202311-GESLOTEN.jpg
END:VEVENT
BEGIN:VEVENT
DTSTART;TZID=Europe/Brussels:20241231T190000
DTEND;TZID=Europe/Brussels:20241231T200000
DTSTAMP:20260425T145345
CREATED:20241015T114022Z
LAST-MODIFIED:20241118T140615Z
UID:10611629-1735671600-1735675200@zorggroep-orion.be
SUMMARY:Yoga
DESCRIPTION:Nood aan beweging en rust? Elke dinsdagavond kan je in De Schoor yogalessen komen volgen. €4/les.
URL:https://zorggroep-orion.be/activiteit/yoga-3-2-2/2024-12-31/
LOCATION:Dienstencentrum De Schoor\, Schorvoortstraat 53\, Turnhout\, 2300
CATEGORIES:Bewegen
ATTACH;FMTTYPE=image/jpeg:https://zorggroep-orion.be/wp-content/uploads/2024/03/yoga.jpg
END:VEVENT
END:VCALENDAR