BEGIN:VCALENDAR
VERSION:2.0
PRODID:-//Zorggroep Orion - ECPv6.15.17.1//NONSGML v1.0//EN
CALSCALE:GREGORIAN
METHOD:PUBLISH
X-ORIGINAL-URL:https://zorggroep-orion.be
X-WR-CALDESC:Evenementen voor Zorggroep Orion
REFRESH-INTERVAL;VALUE=DURATION:PT1H
X-Robots-Tag:noindex
X-PUBLISHED-TTL:PT1H
BEGIN:VTIMEZONE
TZID:Europe/Brussels
BEGIN:DAYLIGHT
TZOFFSETFROM:+0100
TZOFFSETTO:+0200
TZNAME:CEST
DTSTART:20230326T010000
END:DAYLIGHT
BEGIN:STANDARD
TZOFFSETFROM:+0200
TZOFFSETTO:+0100
TZNAME:CET
DTSTART:20231029T010000
END:STANDARD
BEGIN:DAYLIGHT
TZOFFSETFROM:+0100
TZOFFSETTO:+0200
TZNAME:CEST
DTSTART:20240331T010000
END:DAYLIGHT
BEGIN:STANDARD
TZOFFSETFROM:+0200
TZOFFSETTO:+0100
TZNAME:CET
DTSTART:20241027T010000
END:STANDARD
BEGIN:DAYLIGHT
TZOFFSETFROM:+0100
TZOFFSETTO:+0200
TZNAME:CEST
DTSTART:20250330T010000
END:DAYLIGHT
BEGIN:STANDARD
TZOFFSETFROM:+0200
TZOFFSETTO:+0100
TZNAME:CET
DTSTART:20251026T010000
END:STANDARD
END:VTIMEZONE
BEGIN:VEVENT
DTSTART;TZID=Europe/Brussels:20241230T133000
DTEND;TZID=Europe/Brussels:20241230T170000
DTSTAMP:20260425T175512
CREATED:20241120T124705Z
LAST-MODIFIED:20241121T173018Z
UID:10611634-1735565400-1735578000@zorggroep-orion.be
SUMMARY:Laatste toogdienst Roger en Eveline
DESCRIPTION:Onze vrijwilligers Roger en Eveline gaan op vrijwilligers-pensioen.\nOp maandag 30/12 draaien zij hun laatste toogdienst. Kom jij ook nog eens langs?
URL:https://zorggroep-orion.be/activiteit/laatste-toogdienst-roger-en-evelien/
LOCATION:Dienstencentrum De Schoor\, Schorvoortstraat 53\, Turnhout\, 2300
CATEGORIES:Eten & Drinken
ATTACH;FMTTYPE=image/jpeg:https://zorggroep-orion.be/wp-content/uploads/2024/11/20230510_naamloos_401-5-scaled.jpg
END:VEVENT
BEGIN:VEVENT
DTSTART;TZID=Europe/Brussels:20241230T133000
DTEND;TZID=Europe/Brussels:20241230T160000
DTSTAMP:20260425T175512
CREATED:20240819T131020Z
LAST-MODIFIED:20240819T131021Z
UID:10608811-1735565400-1735574400@zorggroep-orion.be
SUMMARY:Digidak inloopmoment
DESCRIPTION:Heb je vragen i.v.m. je computer\, laptop\, tablet of GSM? Kom dan zeker eens langs tijdens het inloopmoment van Digidak. Een medewerker van Digidak helpt je verder met al je vragen.\nNiet op feestdagen.
URL:https://zorggroep-orion.be/activiteit/digidak-inloopmoment-2-2-2/2024-12-30/
LOCATION:Dienstencentrum De Schoor\, Schorvoortstraat 53\, Turnhout\, 2300
CATEGORIES:Dienstverlening
ATTACH;FMTTYPE=image/jpeg:https://zorggroep-orion.be/wp-content/uploads/2023/07/act-202310-Digidak-smartphone.jpg
END:VEVENT
BEGIN:VEVENT
DTSTART;TZID=Europe/Brussels:20241227T170000
DTEND;TZID=Europe/Brussels:20241227T190000
DTSTAMP:20260425T175512
CREATED:20231122T143509Z
LAST-MODIFIED:20241202T121538Z
UID:10607577-1735318800-1735326000@zorggroep-orion.be
SUMMARY:Feestmenu @ De Schoor
DESCRIPTION:December is de feestmaand bij uitstek! Wij ontvangen jou graag voor een heerlijk feestmenu. \nOp het menu: stoofpotje van kalkoen (spek\, champignons\, zilverui\, rode wijn)\, peertjes en duchesse aardappelen en een kerstgebakje om af te sluiten. \nKom je mee smullen? Inschrijven kan vanaf maandag 2 december tot en met donderdag 19 december.
URL:https://zorggroep-orion.be/activiteit/feestmenu-de-schoor/
LOCATION:Dienstencentrum De Schoor\, Schorvoortstraat 53\, Turnhout\, 2300
CATEGORIES:Eten & Drinken
ATTACH;FMTTYPE=image/jpeg:https://zorggroep-orion.be/wp-content/uploads/2023/11/Act-202312-feestmenu.jpg
END:VEVENT
BEGIN:VEVENT
DTSTART;TZID=Europe/Brussels:20241226T140000
DTEND;TZID=Europe/Brussels:20241226T150000
DTSTAMP:20260425T175512
CREATED:20240819T132358Z
LAST-MODIFIED:20240819T132359Z
UID:10608712-1735221600-1735225200@zorggroep-orion.be
SUMMARY:Turnen in De Schoor 2 - namiddag
DESCRIPTION:Nood aan wat beweging? Kom mee turnen in groep! Elke donderdag in De Schoor.\nGelieve in te schrijven via deschoor@zorggroep-orion.be of via 014 28 40 72. \n€2/les – inclusief een tasje koffie per les.
URL:https://zorggroep-orion.be/activiteit/turnen-in-de-schoor-2-namiddag-2-2-2/2024-12-26/
LOCATION:Dienstencentrum De Schoor\, Schorvoortstraat 53\, Turnhout\, 2300
CATEGORIES:Bewegen
ATTACH;FMTTYPE=image/jpeg:https://zorggroep-orion.be/wp-content/uploads/2024/02/act202403-turnen-1.jpg
END:VEVENT
BEGIN:VEVENT
DTSTART;TZID=Europe/Brussels:20241226T093000
DTEND;TZID=Europe/Brussels:20241226T103000
DTSTAMP:20260425T175512
CREATED:20240819T132308Z
LAST-MODIFIED:20240819T132309Z
UID:10608670-1735205400-1735209000@zorggroep-orion.be
SUMMARY:Turnen in De Schoor 1 - voormiddag
DESCRIPTION:Nood aan wat beweging? Kom mee turnen in groep! Elke donderdag in De Schoor.\nGelieve in te schrijven via deschoor@zorggroep-orion.be of via 014 28 40 72. \n€20/10 beurten – inclusief een tasje koffie per les.
URL:https://zorggroep-orion.be/activiteit/turnen-in-de-schoor-1-voormiddag-2-2-2/2024-12-26/
LOCATION:Dienstencentrum De Schoor\, Schorvoortstraat 53\, Turnhout\, 2300
CATEGORIES:Bewegen
ATTACH;FMTTYPE=image/jpeg:https://zorggroep-orion.be/wp-content/uploads/2024/02/act202403-turnen-1.jpg
END:VEVENT
BEGIN:VEVENT
DTSTART;VALUE=DATE:20241225
DTEND;VALUE=DATE:20241226
DTSTAMP:20260425T175512
CREATED:20240422T081137Z
LAST-MODIFIED:20241118T140821Z
UID:10608767-1735084800-1735171199@zorggroep-orion.be
SUMMARY:De Schoor is gesloten
DESCRIPTION:Op woensdag 25 december is De Schoor gesloten.\nWe wensen jullie allemaal een prachtige Kerst.
URL:https://zorggroep-orion.be/activiteit/de-schoor-is-gesloten-3/
LOCATION:Dienstencentrum De Schoor\, Schorvoortstraat 53\, Turnhout\, 2300
CATEGORIES:Dienstverlening
ATTACH;FMTTYPE=image/jpeg:https://zorggroep-orion.be/wp-content/uploads/2023/10/ACT-202311-GESLOTEN.jpg
END:VEVENT
BEGIN:VEVENT
DTSTART;VALUE=DATE:20241219
DTEND;VALUE=DATE:20241220
DTSTAMP:20260425T175512
CREATED:20241122T071528Z
LAST-MODIFIED:20241122T072111Z
UID:10611638-1734566400-1734652799@zorggroep-orion.be
SUMMARY:DAGUITSTAP DIENSTENCENTRA: KERSTMARKT OBERHAUSEN
DESCRIPTION:Ervaar de meest indrukwekkende kerstmarkt van Duitsland! \nOnze dienstencentra organiseren een uitstap naar de kerstmarkt in Oberhausen. Deze kerstmarkt is erg bijzonder zo is er bijvoorbeeld een prachtig betoverend dorp met veel kerstverlichting en sfeervolle kerstmuziek. \nOok kan je een bezoek brengen aan het winkelcentrum (Westfield CENTRO). Dit is een van de grootste winkel- en vrijetijdscentra van Duitsland. \nPraktisch: \n\nMeer info volgt nog!\nOpstapplaatsen: LDC Albert Van Dyck\, LDC De Schoor of LDC De Wissel\nInschrijven kan vanaf maandag 2 december 2024\nSchrijf je in via LDC Albert Van Dyck\, LDC De Schoor of LDC De Wissel
URL:https://zorggroep-orion.be/activiteit/daguitstap-dienstencentra-kerstmarkt-oberhausen/
LOCATION:Dienstencentrum De Wissel\, Dokter Nand Peetersstraat 33\, Turnhout\, Antwerpen\, 2300\, Belgium
CATEGORIES:Uitstap
ATTACH;FMTTYPE=image/jpeg:https://zorggroep-orion.be/wp-content/uploads/2024/11/Daguistap-kerstmarkt-Oberhausen-122024.jpg
END:VEVENT
BEGIN:VEVENT
DTSTART;TZID=Europe/Brussels:20241214T090000
DTEND;TZID=Europe/Brussels:20241214T110000
DTSTAMP:20260425T175512
CREATED:20241120T104708Z
LAST-MODIFIED:20241120T104708Z
UID:10611630-1734166800-1734174000@zorggroep-orion.be
SUMMARY:Ontbijt in Antennepunt 7donk
DESCRIPTION:Kom jij tijdens onze kerstmarkt mee genieten van een lekker ontbijtje in ons antennepunt? Glaasje cava of fruitsap\, koffie/thee\, pistoletjes\, sandwiches\, brood\, koffiekoeken\, hartig en zoet beleg\, spek met eieren\, … Iedereen welkom!\nInschrijven kan bij de medewerkers of via 014 28 40 72 of via deschoor@zorggroep-orion.be. Inschrijven kan tot en met 12/12 of tot de plaatsen volzet zijn.
URL:https://zorggroep-orion.be/activiteit/ontbijt-in-antennepunt-7donk/
LOCATION:Dienstencentrum De Schoor\, Schorvoortstraat 53\, Turnhout\, 2300
CATEGORIES:Eten & Drinken
ATTACH;FMTTYPE=image/jpeg:https://zorggroep-orion.be/wp-content/uploads/2024/02/act202403-ontbijt.jpg
END:VEVENT
BEGIN:VEVENT
DTSTART;TZID=Europe/Brussels:20241212T133000
DTEND;TZID=Europe/Brussels:20241212T170000
DTSTAMP:20260425T175512
CREATED:20241120T122620Z
LAST-MODIFIED:20241120T122620Z
UID:10611633-1734010200-1734022800@zorggroep-orion.be
SUMMARY:Crea: kerststuk maken
DESCRIPTION:De gezelligste tijd van het jaar is weer aangebroken. Onze creagroep gaat kerststukjes maken.\nOp donderdag 28 november en op donderdag 12 december maken we een mooie kerstversiering met lichtjes in. \nWens je deel te nemen? Laat ons even iets weten.
URL:https://zorggroep-orion.be/activiteit/crea-kerststuk-maken/2024-12-12/
LOCATION:Dienstencentrum De Schoor\, Schorvoortstraat 53\, Turnhout\, 2300
CATEGORIES:Workshop
ATTACH;FMTTYPE=image/jpeg:https://zorggroep-orion.be/wp-content/uploads/2024/11/kerststuk-december.jpg
END:VEVENT
BEGIN:VEVENT
DTSTART;TZID=Europe/Brussels:20241204T093000
DTEND;TZID=Europe/Brussels:20241204T113000
DTSTAMP:20260425T175512
CREATED:20241120T110132Z
LAST-MODIFIED:20241120T110132Z
UID:10611631-1733304600-1733311800@zorggroep-orion.be
SUMMARY:Handwerken: windspinner in kersthema maken @ Antennepunt 7Donk
DESCRIPTION:Om helemaal in de kerstsfeer te komen gaan we een windspinner in kerstthema maken. Onze vrijwilligster Christel gaat jullie stap voor stap uitleggen hoe we er eentje haken.\nJe haaknaalden (nr. 3 en 4.5) mag je zelf meebrengen\, de rest zit inbegrepen in de prijs.\nWe starten op woensdag 4/12 en gaan woensdag 11/12 verder als het nog niet af is.
URL:https://zorggroep-orion.be/activiteit/handwerken-windspinner-in-kersthema-maken-antennepunt-7donk/
LOCATION:Dienstencentrum De Schoor\, Schorvoortstraat 53\, Turnhout\, 2300
CATEGORIES:Workshop
ATTACH;FMTTYPE=image/png:https://zorggroep-orion.be/wp-content/uploads/2024/10/act202411-handwerken-windspinner.png
END:VEVENT
BEGIN:VEVENT
DTSTART;TZID=Europe/Brussels:20241122T103000
DTEND;TZID=Europe/Brussels:20241122T123000
DTSTAMP:20260425T175512
CREATED:20241014T120813Z
LAST-MODIFIED:20241014T120813Z
UID:10611338-1732271400-1732278600@zorggroep-orion.be
SUMMARY:Infosessie over 'phishing'
DESCRIPTION:Hoe kan je weerbaarder worden en minder snel in de val van phishing trappen? Agent Bart Geuens werpt een blik op de mogelijke valkuilen die je kan ervaren. Vanuit preventief oogpunt brengt hij een praktijkgericht verhaal.\nPhishing is een vorm van internetfraude waarbij u valse berichten ontvangt waarbij geprobeerd wordt om inloggegevens\, creditcardinformatie\, … \nInschrijven kan via de seniorenraad.
URL:https://zorggroep-orion.be/activiteit/infosessie-over-phishing/
LOCATION:Dienstencentrum De Schoor\, Schorvoortstraat 53\, Turnhout\, 2300
CATEGORIES:Infosessie
ATTACH;FMTTYPE=image/jpeg:https://zorggroep-orion.be/wp-content/uploads/2023/07/act-202310-Digidak-smartphone.jpg
END:VEVENT
BEGIN:VEVENT
DTSTART;TZID=Europe/Brussels:20241113T133000
DTEND;TZID=Europe/Brussels:20241113T170000
DTSTAMP:20260425T175512
CREATED:20241015T100615Z
LAST-MODIFIED:20241015T100615Z
UID:10611339-1731504600-1731517200@zorggroep-orion.be
SUMMARY:Handwerken: windspinners maken
DESCRIPTION:Om helemaal in de kerstsfeer te komen gaan we een windspinner in kerstthema maken. Onze vrijwilligster Christel gaat jullie stap voor stap uitleggen hoe we er eentje haken.\nJe haaknaalden (nr 3 en 4.5) mag je zelf meebrengen\, de rest zit inbegrepen in de prijs.\nWe starten op 13/11 en gaan verder op 20/11 (als het nog niet af is).
URL:https://zorggroep-orion.be/activiteit/handwerken-windspinners-maken/
LOCATION:Dienstencentrum De Schoor\, Schorvoortstraat 53\, Turnhout\, 2300
CATEGORIES:Workshop
ATTACH;FMTTYPE=image/png:https://zorggroep-orion.be/wp-content/uploads/2024/10/act202411-handwerken-windspinner.png
END:VEVENT
BEGIN:VEVENT
DTSTART;TZID=Europe/Brussels:20241109T170000
DTEND;TZID=Europe/Brussels:20241109T220000
DTSTAMP:20260425T175512
CREATED:20241014T113403Z
LAST-MODIFIED:20241014T113403Z
UID:10611336-1731171600-1731189600@zorggroep-orion.be
SUMMARY:Smultocht georganiseerd door de buurtwerkingen
DESCRIPTION:Op zaterdag 9 november organiseren de buurtwerkingen van Schorvoort opnieuw de jaarlijkse smultocht. Tussen 17u en 19u kan je vertrekken in De Schoor voor een wandeling van 5 à 6 km. Onderweg wordt er een volledige maaltijd aangeboden alsook enkele drankjes. De tocht eindigt in de kantine van voetbalclub White Star. \nInschrijfformulieren kan je verkrijgen in De Schoor\, inschrijven kan tot 2 november.\n-prijs kinderen t.e.m. 12j: €13\n-prijs volwassenen en kinderen vanaf 13j: €17
URL:https://zorggroep-orion.be/activiteit/smultocht-georganiseerd-door-de-buurtwerkingen/
LOCATION:Dienstencentrum De Schoor\, Schorvoortstraat 53\, Turnhout\, 2300
CATEGORIES:Eten & Drinken
ATTACH;FMTTYPE=image/jpeg:https://zorggroep-orion.be/wp-content/uploads/2022/05/Kopie-van-FB-welkom-in-De-Schoor.jpg
END:VEVENT
BEGIN:VEVENT
DTSTART;TZID=Europe/Brussels:20241106T140000
DTEND;TZID=Europe/Brussels:20241106T150000
DTSTAMP:20260425T175512
CREATED:20241014T112316Z
LAST-MODIFIED:20241014T112316Z
UID:10611335-1730901600-1730905200@zorggroep-orion.be
SUMMARY:Infosessie lessen yoga
DESCRIPTION:Onze yoga-leraar Karel komt uitleg geven over onze lessen yoga. Wat is yoga\, voor wie is het\, wat doen ze juist in de lessen.\nTijdens de infosessie is er een mogelijkheid tot vragen stellen en om jezelf in te schrijven voor de lessen.\nDe infosessie is gratis\, de lessen zijn €4.
URL:https://zorggroep-orion.be/activiteit/infosessie-lessen-yoga/
LOCATION:Dienstencentrum De Schoor\, Schorvoortstraat 53\, Turnhout\, 2300
CATEGORIES:Bewegen
ATTACH;FMTTYPE=image/jpeg:https://zorggroep-orion.be/wp-content/uploads/2023/07/act202307-Yoga.jpg
END:VEVENT
BEGIN:VEVENT
DTSTART;VALUE=DATE:20241101
DTEND;VALUE=DATE:20241102
DTSTAMP:20260425T175512
CREATED:20240612T083523Z
LAST-MODIFIED:20241017T115445Z
UID:10609501-1730419200-1730505599@zorggroep-orion.be
SUMMARY:Allerheiligen: gesloten
DESCRIPTION:Op vrijdag 1 november is De Schoor gesloten.
URL:https://zorggroep-orion.be/activiteit/maria-hemelvaart-gesloten/
LOCATION:Dienstencentrum De Schoor\, Schorvoortstraat 53\, Turnhout\, 2300
CATEGORIES:Dienstverlening
ATTACH;FMTTYPE=image/jpeg:https://zorggroep-orion.be/wp-content/uploads/2023/10/ACT-202311-GESLOTEN.jpg
END:VEVENT
BEGIN:VEVENT
DTSTART;TZID=Europe/Brussels:20241030T133000
DTEND;TZID=Europe/Brussels:20241030T170000
DTSTAMP:20260425T175512
CREATED:20240918T092208Z
LAST-MODIFIED:20240918T092208Z
UID:10611255-1730295000-1730307600@zorggroep-orion.be
SUMMARY:Handwerken op woensdagnamiddag
DESCRIPTION:Onder het motto ‘samen is leuker dan alleen’. Breng zelf je werkjes mee en kom elke woensdagnamiddag gezellig handwerken in ons café.
URL:https://zorggroep-orion.be/activiteit/handwerken-op-woensdagnamiddag/2024-10-30/
LOCATION:Dienstencentrum De Schoor\, Schorvoortstraat 53\, Turnhout\, 2300
CATEGORIES:Recreatie
ATTACH;FMTTYPE=image/png:https://zorggroep-orion.be/wp-content/uploads/2023/03/handwerk-2023-LDC-AVD.png
END:VEVENT
BEGIN:VEVENT
DTSTART;TZID=Europe/Brussels:20241002T183000
DTEND;TZID=Europe/Brussels:20241002T200000
DTSTAMP:20260425T175512
CREATED:20240924T101322Z
LAST-MODIFIED:20240924T101322Z
UID:10611311-1727893800-1727899200@zorggroep-orion.be
SUMMARY:Infostand thuisverpleging Zorggroep Orion
DESCRIPTION:Zorggroep Orion start op met een dienst Thuisverpleging. \nBij hen kan je terecht voor hygiënische zorg\, wondzorg\, inspuitingen\, diabeteszorg\, medicatiebeheer\, palliatieve zorg\, … \nHeb je hier graag wat meer info over? \nStéphanie is de hele avond aanwezig om jouw vragen te beantwoorden.
URL:https://zorggroep-orion.be/activiteit/infostand-thuisverpleging-zorggroep-orion-2/
LOCATION:Dienstencentrum De Schoor\, Schorvoortstraat 53\, Turnhout\, 2300
CATEGORIES:Infosessie
ATTACH;FMTTYPE=image/jpeg:https://zorggroep-orion.be/wp-content/uploads/2024/09/act202410-infomoment-thuisverpleging.jpg
END:VEVENT
BEGIN:VEVENT
DTSTART;TZID=Europe/Brussels:20241001T140000
DTEND;TZID=Europe/Brussels:20241001T170000
DTSTAMP:20260425T175512
CREATED:20240924T101157Z
LAST-MODIFIED:20240924T101157Z
UID:10611310-1727791200-1727802000@zorggroep-orion.be
SUMMARY:Infostand thuisverpleging Zorggroep Orion
DESCRIPTION:Zorggroep Orion start op met een dienst Thuisverpleging. \nBij hen kan je terecht voor hygiënische zorg\, wondzorg\, inspuitingen\, diabeteszorg\, medicatiebeheer\, palliatieve zorg\, … \nHeb je hier graag wat meer info over? \nStéphanie is de hele namiddag aanwezig om jouw vragen te beantwoorden.
URL:https://zorggroep-orion.be/activiteit/infostand-thuisverpleging-zorggroep-orion/
LOCATION:Dienstencentrum De Schoor\, Schorvoortstraat 53\, Turnhout\, 2300
CATEGORIES:Infosessie
ATTACH;FMTTYPE=image/jpeg:https://zorggroep-orion.be/wp-content/uploads/2024/09/act202410-infomoment-thuisverpleging.jpg
END:VEVENT
BEGIN:VEVENT
DTSTART;TZID=Europe/Brussels:20240919T143000
DTEND;TZID=Europe/Brussels:20240919T170000
DTSTAMP:20260425T175512
CREATED:20240821T082355Z
LAST-MODIFIED:20240821T082355Z
UID:10610705-1726756200-1726765200@zorggroep-orion.be
SUMMARY:Uitstap naar het Ijssloeberke
DESCRIPTION:Zin in een lekker ijsje om de zomer af te sluiten? \nOp donderdag 19 september rijden onze vrijwilligers met onze busjes naar het Ijssloeberke in Tielen.\nDe busjes vertrekken vanuit De Schoor en komen terug aan in De Schoor.\nWie mee wil kan op voorhand een plaatsje reserveren. €1 (ijs ter plaatse betalen).
URL:https://zorggroep-orion.be/activiteit/uitstap-naar-het-ijssloeberke/
LOCATION:Dienstencentrum De Schoor\, Schorvoortstraat 53\, Turnhout\, 2300
CATEGORIES:Eten & Drinken
ATTACH;FMTTYPE=image/png:https://zorggroep-orion.be/wp-content/uploads/2024/04/Ijssloeberke.png
END:VEVENT
BEGIN:VEVENT
DTSTART;TZID=Europe/Brussels:20240919T133000
DTEND;TZID=Europe/Brussels:20240919T170000
DTSTAMP:20260425T175512
CREATED:20240516T134226Z
LAST-MODIFIED:20240819T134125Z
UID:10610702-1726752600-1726765200@zorggroep-orion.be
SUMMARY:Crea: cd's versieren
DESCRIPTION:Onder begeleiding van onze vrijwilligsters versieren we cd’s. €2: al het materiaal is inbegrepen.\nWe werken hier 2 donderdagen aan: 5/9 en 19/9. \nGelieve in te schrijven.
URL:https://zorggroep-orion.be/activiteit/crea-boodschappentas-naaien/2024-09-19/
LOCATION:Dienstencentrum De Schoor\, Schorvoortstraat 53\, Turnhout\, 2300
CATEGORIES:Workshop
ATTACH;FMTTYPE=image/png:https://zorggroep-orion.be/wp-content/uploads/2024/05/cds-versieren.png
END:VEVENT
BEGIN:VEVENT
DTSTART;TZID=Europe/Brussels:20240902T090000
DTEND;TZID=Europe/Brussels:20240902T103000
DTSTAMP:20260425T175512
CREATED:20240821T081208Z
LAST-MODIFIED:20240821T081224Z
UID:10610704-1725267600-1725273000@zorggroep-orion.be
SUMMARY:Ontbijt ontmoet je buur
DESCRIPTION:Elke maandagvoormiddag kan je samenkomen in De Schoor voor een gezellige babbel en een tas koffie/thee. \nVanaf september organiseren we elke eerste maandag van de maand een klein ontbijtje om deze ochtend nòg gezelliger te maken. \nIedereen welkom! Gelieve vooraf in te schrijven. €4: brood\, boter\, eitje\, kaas\, hesp\, confituur\, choco\, siroop\, fruitsap\, koffie/thee.
URL:https://zorggroep-orion.be/activiteit/ontbijtje-ontmoet-je-buur/
LOCATION:Dienstencentrum De Schoor\, Schorvoortstraat 53\, Turnhout\, 2300
CATEGORIES:Eten & Drinken
ATTACH;FMTTYPE=image/jpeg:https://zorggroep-orion.be/wp-content/uploads/2024/08/ontbijt-ontmoet-je-buur.jpg
END:VEVENT
BEGIN:VEVENT
DTSTART;TZID=Europe/Brussels:20240901T133000
DTEND;TZID=Europe/Brussels:20240901T190000
DTSTAMP:20260425T175512
CREATED:20240819T132923Z
LAST-MODIFIED:20240819T132923Z
UID:10610698-1725197400-1725217200@zorggroep-orion.be
SUMMARY:5 jaar Lokaal Dienstencentrum De Schoor
DESCRIPTION:Kom jij mee ons 5-jarig bestaan vieren? \nAnimatie door Cisco. Live gezongen en begeleid door zijn keyboard zorgt Francis voor sfeer en ambiance. Dit met een gezonde mix van oldies\, schlagers en evergreens. \nPrijsuitreiking van onze fotozoektocht en het Rummikub tornooi. \nVan 16u tot 18u: frietkraam door Scouts Schorvoort. €8 voor een frietje met een curryworst en een kaaskroket.
URL:https://zorggroep-orion.be/activiteit/5-jaar-lokaal-dienstencentrum-de-schoor/
LOCATION:Dienstencentrum De Schoor\, Schorvoortstraat 53\, Turnhout\, 2300
CATEGORIES:Feest
ATTACH;FMTTYPE=image/jpeg:https://zorggroep-orion.be/wp-content/uploads/2022/05/Kopie-van-FB-welkom-in-De-Schoor.jpg
END:VEVENT
BEGIN:VEVENT
DTSTART;TZID=Europe/Brussels:20240901T133000
DTEND;TZID=Europe/Brussels:20240901T190000
DTSTAMP:20260425T175512
CREATED:20240627T111219Z
LAST-MODIFIED:20240627T111219Z
UID:10609756-1725197400-1725217200@zorggroep-orion.be
SUMMARY:5 jaar De Schoor
DESCRIPTION:Prijsuitreiking van de fotozoektocht en het Rummikub-tornooi.\nNamiddag animatie door Cisco. Live gezongen en begeleid door zijn keyboard zorgt Francis voor sfeer en ambiance. Dit met een gezonde mix van oldies\, schlagers en evergreens.\nFrietkraam.
URL:https://zorggroep-orion.be/activiteit/5-jaar-de-schoor/
LOCATION:Dienstencentrum De Schoor\, Schorvoortstraat 53\, Turnhout\, 2300
CATEGORIES:Feest
ATTACH;FMTTYPE=image/jpeg:https://zorggroep-orion.be/wp-content/uploads/2022/05/Kopie-van-FB-welkom-in-De-Schoor.jpg
END:VEVENT
BEGIN:VEVENT
DTSTART;TZID=Europe/Brussels:20240820T133000
DTEND;TZID=Europe/Brussels:20240820T170000
DTSTAMP:20260425T175512
CREATED:20240627T111553Z
LAST-MODIFIED:20240704T080548Z
UID:10609757-1724160600-1724173200@zorggroep-orion.be
SUMMARY:Kubb tornooi met coupe kubb
DESCRIPTION:We gaan weer strijden voor een plaatsje op onze kubb-trofee. Max. 6 ploegen.\nInschrijven kan tot vrijdag 16/8 of tot de plaatsen volzet zijn. 014 28 40 72 of deschoor@zorggroep-orion.be \nTijdens ons kubb tornooi kan je een lekkere coupe kubb komen\neten: 2 bolletjes vanille-ijs met een sausje (choco\, caramel of\naardbei) én slagroom.
URL:https://zorggroep-orion.be/activiteit/kubb-tornooi-met-coupe-kubb/
LOCATION:Dienstencentrum De Schoor\, Schorvoortstraat 53\, Turnhout\, 2300
CATEGORIES:Bewegen
ATTACH;FMTTYPE=image/png:https://zorggroep-orion.be/wp-content/uploads/2023/03/act-202305-Kubb-tornooi.png
END:VEVENT
BEGIN:VEVENT
DTSTART;TZID=Europe/Brussels:20240818T123000
DTEND;TZID=Europe/Brussels:20240818T140000
DTSTAMP:20260425T175512
CREATED:20240627T110936Z
LAST-MODIFIED:20240627T110936Z
UID:10609755-1723984200-1723989600@zorggroep-orion.be
SUMMARY:BBQ @ De Schoor
DESCRIPTION:Het is weer tijd voor onze jaarlijkse BBQ.\nOp het menu: BBQ-worst\, ribbekes en kipfilet met alle toebehoren. \nInschrijven kan vanaf maandag 15 juli tot en met 9 augustus of tot\nde plaatsen volzet zijn.\n014 28 40 72 of deschoor@zorggroep-orion.be\n€22/pers.
URL:https://zorggroep-orion.be/activiteit/bbq-de-schoor/
LOCATION:Dienstencentrum De Schoor\, Schorvoortstraat 53\, Turnhout\, 2300
CATEGORIES:Eten & Drinken
ATTACH;FMTTYPE=image/jpeg:https://zorggroep-orion.be/wp-content/uploads/2024/05/act202406-BBQ@De-Wissel.jpg
END:VEVENT
BEGIN:VEVENT
DTSTART;TZID=Europe/Brussels:20240731T133000
DTEND;TZID=Europe/Brussels:20240731T170000
DTSTAMP:20260425T175512
CREATED:20240613T093424Z
LAST-MODIFIED:20240620T081341Z
UID:10609700-1722432600-1722445200@zorggroep-orion.be
SUMMARY:Bordje koud gemengd gedurende de hele maand
DESCRIPTION:Gedurende de hele maand juli kan je tijdens je cafébezoek genieten van een bordje koud gemengd (kaasjes\, salami\, uitjes etc.).
URL:https://zorggroep-orion.be/activiteit/bordje-koud-gemengd-gedurende-de-hele-maand/2024-07-31/
LOCATION:Dienstencentrum De Schoor\, Schorvoortstraat 53\, Turnhout\, 2300
CATEGORIES:Eten & Drinken
ATTACH;FMTTYPE=image/jpeg:https://zorggroep-orion.be/wp-content/uploads/2024/06/bordje-gemengd.jpg
END:VEVENT
BEGIN:VEVENT
DTSTART;TZID=Europe/Brussels:20240722T190000
DTEND;TZID=Europe/Brussels:20240722T200000
DTSTAMP:20260425T175512
CREATED:20230920T081241Z
LAST-MODIFIED:20240613T093807Z
UID:10606768-1721674800-1721678400@zorggroep-orion.be
SUMMARY:Lees(v)uurtje
DESCRIPTION:Het is bewezen dat 6 minuten lezen per dag al stressverlagend werkt. Mensen die dertig minuten per dag lezen\, hebben minder last van sombere gevoelens. Met ons ‘lees(v)uurtje’ willen we op regelmatige basis samenkomen om een gezamenlijk boek te bespreken. Iedereen is welkom!
URL:https://zorggroep-orion.be/activiteit/leesvuurtje/
LOCATION:Dienstencentrum De Schoor\, Schorvoortstraat 53\, Turnhout\, 2300
CATEGORIES:Recreatie
ATTACH;FMTTYPE=image/jpeg:https://zorggroep-orion.be/wp-content/uploads/2023/09/act202310-leesvuurtje.jpg
END:VEVENT
BEGIN:VEVENT
DTSTART;VALUE=DATE:20240721
DTEND;VALUE=DATE:20240722
DTSTAMP:20260425T175512
CREATED:20240612T083346Z
LAST-MODIFIED:20240612T083346Z
UID:10609500-1721520000-1721606399@zorggroep-orion.be
SUMMARY:Nationale Feestdag: gesloten
DESCRIPTION:Op zondag 21 juli is De Schoor gesloten.
URL:https://zorggroep-orion.be/activiteit/nationale-feestdag-gesloten/
LOCATION:Dienstencentrum De Schoor\, Schorvoortstraat 53\, Turnhout\, 2300
CATEGORIES:Dienstverlening
ATTACH;FMTTYPE=image/jpeg:https://zorggroep-orion.be/wp-content/uploads/2023/10/ACT-202311-GESLOTEN.jpg
END:VEVENT
BEGIN:VEVENT
DTSTART;VALUE=DATE:20240711
DTEND;VALUE=DATE:20240712
DTSTAMP:20260425T175512
CREATED:20240321T085250Z
LAST-MODIFIED:20240612T083202Z
UID:10608728-1720656000-1720742399@zorggroep-orion.be
SUMMARY:Feestdag van de Vlaamse Gemeenschap: Gesloten
DESCRIPTION:Op donderdag 11 juli is De Schoor gesloten.
URL:https://zorggroep-orion.be/activiteit/paasmaandag-gesloten/
LOCATION:Dienstencentrum De Schoor\, Schorvoortstraat 53\, Turnhout\, 2300
CATEGORIES:Dienstverlening
ATTACH;FMTTYPE=image/jpeg:https://zorggroep-orion.be/wp-content/uploads/2023/10/ACT-202311-GESLOTEN.jpg
END:VEVENT
BEGIN:VEVENT
DTSTART;TZID=Europe/Brussels:20240710T133000
DTEND;TZID=Europe/Brussels:20240710T150000
DTSTAMP:20260425T175512
CREATED:20240612T123527Z
LAST-MODIFIED:20240612T123527Z
UID:10609531-1720618200-1720623600@zorggroep-orion.be
SUMMARY:Infosessie: mobiliteitshulpmiddelen Antennepunt 7Donk
DESCRIPTION:Een verstrekker van de dienst mobiliteit zal kort de wetgeving uitleggen. Zij stelt verschillende modellen scooters\, rolstoelen en rollators voor en brengt ook enkele exemplaren mee om op de parking zelf uit te testen. \nInschrijven kan via De Schoor.
URL:https://zorggroep-orion.be/activiteit/infosessie-mobiliteitshulpmiddelen-antennepunt-7donk/
LOCATION:Dienstencentrum De Schoor\, Schorvoortstraat 53\, Turnhout\, 2300
CATEGORIES:Infosessie
ATTACH;FMTTYPE=image/png:https://zorggroep-orion.be/wp-content/uploads/2024/06/act202407-infosessie-mobiliteitshulpmiddelen.png
END:VEVENT
END:VCALENDAR